{"text_format":"2","workbook":"xlsx","n_sheets":57,"sheets":["월별 설비용량","202212","202211","202210","202209","202208","202207","202206","202205","202204","202203","202202","202201","202112","202111","202110","202109","202108","202107","202106","202105","202104","202103","202102","202101","202012","202011","202010","202009","202008","202007","202006","202005","202004","202003","202002","202001","201912","201911","201910","201909","201908","201907","201906","201905","201904","201903","201902","201901","201812","201811","201810","201809","201808","201807","201806","201805"],"not_rendered":{"charts":0,"images":0,"macros":0,"external_links":0,"defined_names":0,"comments":0,"pivot_tables":0},"unopened":[],"bounds":{"document_bytes":16777216,"sheet_cells":100000,"run_cost":"one","rows_first":2000,"rows_last":500,"rows_between":2000,"halvings":0,"cell_chars":16384,"cell_head_chars":4096},"cells_cut":0,"cells_raw":0,"read":"whole","date_system":"1900"}

{"sheet":"월별 설비용량","index":0,"n_rows":117,"n_cols":29,"rows_kept":117,"cut":false,"hidden":false,"merged":[[2,0,3,0],[2,1,2,2],[2,3,2,8],[2,9,3,9],[1,11,3,11],[1,12,1,13],[1,14,1,27],[1,28,3,28],[2,19,2,23],[2,24,2,27]]}
[]
[{"$nulls":11},"년월","신에너지",null,"재생에너지",{"$nulls":13},"합계"]
["년월","신에너지",null,"재생에너지",{"$nulls":5},"합계",{"$nulls":9},"바이오에너지",{"$nulls":4},"폐기물에너지"]
[null,"연료전지","IGCC","태양에너지","풍력","수력","해양에너지","바이오에너지","폐기물",null,null,null,"연료전지","IGCC","태양광","풍력","수력","소수력","해양에너지","바이오가스","매립가스","바이오매스","바이오중유","소계","부생가스","폐가스","폐기물","소계"]
["2022-12-31",{"$f":"M5","v":871.86800000000005},{"$f":"N5","v":346.33},{"$f":"O5","v":6878.3649999999998},{"$f":"P5","v":1892.2329999999999},{"$f":"Q5+R5","v":1803.0240000000001},{"$f":"S5","v":255.5},{"$f":"X5","v":1787.067},{"$f":"AB5","v":0},{"$f":"AC5","v":13834.387000000002},null,"2022-12-31",{"$f":"INDEX('202212'!$B$5:$C$29,MATCH('월별 설비용량'!M$4,'202212'!$B$5:$B$29,0),2)","v":871.86800000000005},{"$f":"INDEX('202212'!$B$5:$C$29,MATCH('월별 설비용량'!N$4,'202212'!$B$5:$B$29,0),2)","v":346.33},{"$f":"INDEX('202212'!$B$5:$C$29,MATCH('월별 설비용량'!O$4,'202212'!$B$5:$B$29,0),2)","v":6878.3649999999998},{"$f":"INDEX('202212'!$B$5:$C$29,MATCH('월별 설비용량'!P$4,'202212'!$B$5:$B$29,0),2)","v":1892.2329999999999},{"$f":"INDEX('202212'!$B$5:$C$29,MATCH('월별 설비용량'!Q$4,'202212'!$B$5:$B$29,0),2)","v":1609.8520000000001},{"$f":"INDEX('202212'!$B$5:$C$29,MATCH('월별 설비용량'!R$4,'202212'!$B$5:$B$29,0),2)","v":193.172},{"$f":"INDEX('202212'!$B$5:$C$29,MATCH('월별 설비용량'!S$4,'202212'!$B$5:$B$29,0),2)","v":255.5},{"$f":"INDEX('202212'!$B$5:$C$29,MATCH('월별 설비용량'!T$4,'202212'!$B$5:$B$29,0),2)","v":85.32},{"$f":"INDEX('202212'!$B$5:$C$29,MATCH('월별 설비용량'!U$4,'202212'!$B$5:$B$29,0),2)","v":63.734000000000002},{"$f":"INDEX('202212'!$B$5:$C$29,MATCH('월별 설비용량'!V$4,'202212'!$B$5:$B$29,0),2)","v":1248.0129999999999},{"$f":"INDEX('202212'!$B$5:$C$29,MATCH('월별 설비용량'!W$4,'202212'!$B$5:$B$29,0),2)","v":390},{"$f":"SUM(T5:W5)","v":1787.067},0,0,0,{"$f":"SUM(Y5:AA5)","v":0},{"$f":"M5+N5+O5+P5+Q5+R5+S5+X5+AB5","v":13834.387000000002}]
["2022-11-30",{"$f":"M6","v":871.86800000000005},{"$f":"N6","v":346.33},{"$f":"O6","v":6791.7790000000005},{"$f":"P6","v":1798.5329999999999},{"$f":"Q6+R6","v":1803.0240000000001},{"$f":"S6","v":255.5},{"$f":"X6","v":1787.067},{"$f":"AB6","v":0},{"$f":"AC6","v":13654.101000000002},null,"2022-11-30",{"$f":"INDEX('202211'!$B$5:$C$29,MATCH('월별 설비용량'!M$4,'202211'!$B$5:$B$29,0),2)","v":871.86800000000005},{"$f":"INDEX('202211'!$B$5:$C$29,MATCH('월별 설비용량'!N$4,'202211'!$B$5:$B$29,0),2)","v":346.33},{"$f":"INDEX('202211'!$B$5:$C$29,MATCH('월별 설비용량'!O$4,'202211'!$B$5:$B$29,0),2)","v":6791.7790000000005},{"$f":"INDEX('202211'!$B$5:$C$29,MATCH('월별 설비용량'!P$4,'202211'!$B$5:$B$29,0),2)","v":1798.5329999999999},{"$f":"INDEX('202211'!$B$5:$C$29,MATCH('월별 설비용량'!Q$4,'202211'!$B$5:$B$29,0),2)","v":1609.8520000000001},{"$f":"INDEX('202211'!$B$5:$C$29,MATCH('월별 설비용량'!R$4,'202211'!$B$5:$B$29,0),2)","v":193.172},{"$f":"INDEX('202211'!$B$5:$C$29,MATCH('월별 설비용량'!S$4,'202211'!$B$5:$B$29,0),2)","v":255.5},{"$f":"INDEX('202211'!$B$5:$C$29,MATCH('월별 설비용량'!T$4,'202211'!$B$5:$B$29,0),2)","v":85.32},{"$f":"INDEX('202211'!$B$5:$C$29,MATCH('월별 설비용량'!U$4,'202211'!$B$5:$B$29,0),2)","v":63.734000000000002},{"$f":"INDEX('202211'!$B$5:$C$29,MATCH('월별 설비용량'!V$4,'202211'!$B$5:$B$29,0),2)","v":1248.0129999999999},{"$f":"INDEX('202211'!$B$5:$C$29,MATCH('월별 설비용량'!W$4,'202211'!$B$5:$B$29,0),2)","v":390},{"$f":"SUM(T6:W6)","v":1787.067},0,0,0,{"$f":"SUM(Y6:AA6)","v":0},{"$f":"M6+N6+O6+P6+Q6+R6+S6+X6+AB6","v":13654.101000000002}]
["2022-10-31",{"$f":"M7","v":860.06799999999998},{"$f":"N7","v":346.33},{"$f":"O7","v":6720.0860000000002},{"$f":"P7","v":1774.5329999999999},{"$f":"Q7+R7","v":1803.0240000000001},{"$f":"S7","v":255.5},{"$f":"X7","v":1787.356},{"$f":"AB7","v":0},{"$f":"AC7","v":13546.897000000001},null,"2022-10-31",{"$f":"INDEX('202210'!$B$5:$C$29,MATCH('월별 설비용량'!M$4,'202210'!$B$5:$B$29,0),2)","v":860.06799999999998},{"$f":"INDEX('202210'!$B$5:$C$29,MATCH('월별 설비용량'!N$4,'202210'!$B$5:$B$29,0),2)","v":346.33},{"$f":"INDEX('202210'!$B$5:$C$29,MATCH('월별 설비용량'!O$4,'202210'!$B$5:$B$29,0),2)","v":6720.0860000000002},{"$f":"INDEX('202210'!$B$5:$C$29,MATCH('월별 설비용량'!P$4,'202210'!$B$5:$B$29,0),2)","v":1774.5329999999999},{"$f":"INDEX('202210'!$B$5:$C$29,MATCH('월별 설비용량'!Q$4,'202210'!$B$5:$B$29,0),2)","v":1609.8520000000001},{"$f":"INDEX('202210'!$B$5:$C$29,MATCH('월별 설비용량'!R$4,'202210'!$B$5:$B$29,0),2)","v":193.172},{"$f":"INDEX('202210'!$B$5:$C$29,MATCH('월별 설비용량'!S$4,'202210'!$B$5:$B$29,0),2)","v":255.5},{"$f":"INDEX('202210'!$B$5:$C$29,MATCH('월별 설비용량'!T$4,'202210'!$B$5:$B$29,0),2)","v":85.608999999999995},{"$f":"INDEX('202210'!$B$5:$C$29,MATCH('월별 설비용량'!U$4,'202210'!$B$5:$B$29,0),2)","v":63.734000000000002},{"$f":"INDEX('202210'!$B$5:$C$29,MATCH('월별 설비용량'!V$4,'202210'!$B$5:$B$29,0),2)","v":1248.0129999999999},{"$f":"INDEX('202210'!$B$5:$C$29,MATCH('월별 설비용량'!W$4,'202210'!$B$5:$B$29,0),2)","v":390},{"$f":"SUM(T7:W7)","v":1787.356},0,0,0,{"$f":"SUM(Y7:AA7)","v":0},{"$f":"M7+N7+O7+P7+Q7+R7+S7+X7+AB7","v":13546.897000000001}]
["2022-09-30",843.06799999999998,346.33,6658.8770000000004,1774.5329999999999,1803.0240000000001,255.5,1787.356,0,13468.688000000002,null,"2022-09-30",{"$f":"INDEX('202209'!$B$5:$C$29,MATCH('월별 설비용량'!M$4,'202209'!$B$5:$B$29,0),2)","v":843.06799999999998},{"$f":"INDEX('202209'!$B$5:$C$29,MATCH('월별 설비용량'!N$4,'202209'!$B$5:$B$29,0),2)","v":346.33},{"$f":"INDEX('202209'!$B$5:$C$29,MATCH('월별 설비용량'!O$4,'202209'!$B$5:$B$29,0),2)","v":6658.8770000000004},{"$f":"INDEX('202209'!$B$5:$C$29,MATCH('월별 설비용량'!P$4,'202209'!$B$5:$B$29,0),2)","v":1774.5329999999999},{"$f":"INDEX('202209'!$B$5:$C$29,MATCH('월별 설비용량'!Q$4,'202209'!$B$5:$B$29,0),2)","v":1609.8520000000001},{"$f":"INDEX('202209'!$B$5:$C$29,MATCH('월별 설비용량'!R$4,'202209'!$B$5:$B$29,0),2)","v":193.172},{"$f":"INDEX('202209'!$B$5:$C$29,MATCH('월별 설비용량'!S$4,'202209'!$B$5:$B$29,0),2)","v":255.5},{"$f":"INDEX('202209'!$B$5:$C$29,MATCH('월별 설비용량'!T$4,'202209'!$B$5:$B$29,0),2)","v":85.608999999999995},{"$f":"INDEX('202209'!$B$5:$C$29,MATCH('월별 설비용량'!U$4,'202209'!$B$5:$B$29,0),2)","v":63.734000000000002},{"$f":"INDEX('202209'!$B$5:$C$29,MATCH('월별 설비용량'!V$4,'202209'!$B$5:$B$29,0),2)","v":1248.0129999999999},{"$f":"INDEX('202209'!$B$5:$C$29,MATCH('월별 설비용량'!W$4,'202209'!$B$5:$B$29,0),2)","v":390},{"$f":"SUM(T8:W8)","v":1787.356},0,0,0,{"$f":"SUM(Y8:AA8)","v":0},{"$f":"M8+N8+O8+P8+Q8+R8+S8+X8+AB8","v":13468.688000000002}]
["2022-08-31",{"$f":"M9","v":825.66800000000001},{"$f":"N9","v":346.33},{"$f":"O9","v":6493.7380000000003},{"$f":"P9","v":1753.5329999999999},{"$f":"Q9+R9","v":1803.0240000000001},{"$f":"S9","v":255.5},{"$f":"X9","v":1787.356},{"$f":"AB9","v":0},{"$f":"AC9","v":13265.149000000001},null,"2022-08-31",{"$f":"INDEX('202208'!$B$5:$C$29,MATCH('월별 설비용량'!M$4,'202208'!$B$5:$B$29,0),2)","v":825.66800000000001},{"$f":"INDEX('202208'!$B$5:$C$29,MATCH('월별 설비용량'!N$4,'202208'!$B$5:$B$29,0),2)","v":346.33},{"$f":"INDEX('202208'!$B$5:$C$29,MATCH('월별 설비용량'!O$4,'202208'!$B$5:$B$29,0),2)","v":6493.7380000000003},{"$f":"INDEX('202208'!$B$5:$C$29,MATCH('월별 설비용량'!P$4,'202208'!$B$5:$B$29,0),2)","v":1753.5329999999999},{"$f":"INDEX('202208'!$B$5:$C$29,MATCH('월별 설비용량'!Q$4,'202208'!$B$5:$B$29,0),2)","v":1609.8520000000001},{"$f":"INDEX('202208'!$B$5:$C$29,MATCH('월별 설비용량'!R$4,'202208'!$B$5:$B$29,0),2)","v":193.172},{"$f":"INDEX('202208'!$B$5:$C$29,MATCH('월별 설비용량'!S$4,'202208'!$B$5:$B$29,0),2)","v":255.5},{"$f":"INDEX('202208'!$B$5:$C$29,MATCH('월별 설비용량'!T$4,'202208'!$B$5:$B$29,0),2)","v":85.608999999999995},{"$f":"INDEX('202208'!$B$5:$C$29,MATCH('월별 설비용량'!U$4,'202208'!$B$5:$B$29,0),2)","v":63.734000000000002},{"$f":"INDEX('202208'!$B$5:$C$29,MATCH('월별 설비용량'!V$4,'202208'!$B$5:$B$29,0),2)","v":1248.0129999999999},{"$f":"INDEX('202208'!$B$5:$C$29,MATCH('월별 설비용량'!W$4,'202208'!$B$5:$B$29,0),2)","v":390},{"$f":"SUM(T9:W9)","v":1787.356},0,0,0,{"$f":"SUM(Y9:AA9)","v":0},{"$f":"M9+N9+O9+P9+Q9+R9+S9+X9+AB9","v":13265.149000000001}]
["2022-07-31",{"$f":"M10","v":809.82799999999997},{"$f":"N10","v":346.33},{"$f":"O10","v":6360.1559999999999},{"$f":"P10","v":1753.5329999999999},{"$f":"Q10+R10","v":1803.0240000000001},{"$f":"S10","v":255.5},{"$f":"X10","v":1744.356},{"$f":"AB10","v":0},{"$f":"AC10","v":13072.727000000001},null,"2022-07-31",{"$f":"INDEX('202207'!$B$5:$C$29,MATCH('월별 설비용량'!M$4,'202207'!$B$5:$B$29,0),2)","v":809.82799999999997},{"$f":"INDEX('202207'!$B$5:$C$29,MATCH('월별 설비용량'!N$4,'202207'!$B$5:$B$29,0),2)","v":346.33},{"$f":"INDEX('202207'!$B$5:$C$29,MATCH('월별 설비용량'!O$4,'202207'!$B$5:$B$29,0),2)","v":6360.1559999999999},{"$f":"INDEX('202207'!$B$5:$C$29,MATCH('월별 설비용량'!P$4,'202207'!$B$5:$B$29,0),2)","v":1753.5329999999999},{"$f":"INDEX('202207'!$B$5:$C$29,MATCH('월별 설비용량'!Q$4,'202207'!$B$5:$B$29,0),2)","v":1609.8520000000001},{"$f":"INDEX('202207'!$B$5:$C$29,MATCH('월별 설비용량'!R$4,'202207'!$B$5:$B$29,0),2)","v":193.172},{"$f":"INDEX('202207'!$B$5:$C$29,MATCH('월별 설비용량'!S$4,'202207'!$B$5:$B$29,0),2)","v":255.5},{"$f":"INDEX('202207'!$B$5:$C$29,MATCH('월별 설비용량'!T$4,'202207'!$B$5:$B$29,0),2)","v":85.608999999999995},{"$f":"INDEX('202207'!$B$5:$C$29,MATCH('월별 설비용량'!U$4,'202207'!$B$5:$B$29,0),2)","v":63.734000000000002},{"$f":"INDEX('202207'!$B$5:$C$29,MATCH('월별 설비용량'!V$4,'202207'!$B$5:$B$29,0),2)","v":1245.0129999999999},{"$f":"INDEX('202207'!$B$5:$C$29,MATCH('월별 설비용량'!W$4,'202207'!$B$5:$B$29,0),2)","v":350},{"$f":"SUM(T10:W10)","v":1744.356},0,0,0,{"$f":"SUM(Y10:AA10)","v":0},{"$f":"M10+N10+O10+P10+Q10+R10+S10+X10+AB10","v":13072.727000000001}]
["2022-06-30",{"$f":"M11","v":800.22799999999995},{"$f":"N11","v":346.33},{"$f":"O11","v":6290.1909999999998},{"$f":"P11","v":1753.5329999999999},{"$f":"Q11+R11","v":1802.9440000000002},{"$f":"S11","v":255.5},{"$f":"X11","v":1744.356},{"$f":"AB11","v":0},{"$f":"AC11","v":12993.082},null,"2022-06-30",{"$f":"INDEX('202206'!$B$5:$C$29,MATCH('월별 설비용량'!M$4,'202206'!$B$5:$B$29,0),2)","v":800.22799999999995},{"$f":"INDEX('202206'!$B$5:$C$29,MATCH('월별 설비용량'!N$4,'202206'!$B$5:$B$29,0),2)","v":346.33},{"$f":"INDEX('202206'!$B$5:$C$29,MATCH('월별 설비용량'!O$4,'202206'!$B$5:$B$29,0),2)","v":6290.1909999999998},{"$f":"INDEX('202206'!$B$5:$C$29,MATCH('월별 설비용량'!P$4,'202206'!$B$5:$B$29,0),2)","v":1753.5329999999999},{"$f":"INDEX('202206'!$B$5:$C$29,MATCH('월별 설비용량'!Q$4,'202206'!$B$5:$B$29,0),2)","v":1609.8520000000001},{"$f":"INDEX('202206'!$B$5:$C$29,MATCH('월별 설비용량'!R$4,'202206'!$B$5:$B$29,0),2)","v":193.09200000000001},{"$f":"INDEX('202206'!$B$5:$C$29,MATCH('월별 설비용량'!S$4,'202206'!$B$5:$B$29,0),2)","v":255.5},{"$f":"INDEX('202206'!$B$5:$C$29,MATCH('월별 설비용량'!T$4,'202206'!$B$5:$B$29,0),2)","v":85.608999999999995},{"$f":"INDEX('202206'!$B$5:$C$29,MATCH('월별 설비용량'!U$4,'202206'!$B$5:$B$29,0),2)","v":63.734000000000002},{"$f":"INDEX('202206'!$B$5:$C$29,MATCH('월별 설비용량'!V$4,'202206'!$B$5:$B$29,0),2)","v":1245.0129999999999},{"$f":"INDEX('202206'!$B$5:$C$29,MATCH('월별 설비용량'!W$4,'202206'!$B$5:$B$29,0),2)","v":350},{"$f":"SUM(T11:W11)","v":1744.356},0,0,0,{"$f":"SUM(Y11:AA11)","v":0},{"$f":"M11+N11+O11+P11+Q11+R11+S11+X11+AB11","v":12993.082}]
["2022-05-31",800.22799999999995,346.33,6270.92,1753.5329999999999,1811.1420000000001,255.5,1744.356,0,12982.009000000002,null,"2022-05-31",{"$f":"INDEX('202205'!$B$5:$C$29,MATCH('월별 설비용량'!M$4,'202205'!$B$5:$B$29,0),2)","v":800.22799999999995},{"$f":"INDEX('202205'!$B$5:$C$29,MATCH('월별 설비용량'!N$4,'202205'!$B$5:$B$29,0),2)","v":346.33},{"$f":"INDEX('202205'!$B$5:$C$29,MATCH('월별 설비용량'!O$4,'202205'!$B$5:$B$29,0),2)","v":6270.92},{"$f":"INDEX('202205'!$B$5:$C$29,MATCH('월별 설비용량'!P$4,'202205'!$B$5:$B$29,0),2)","v":1753.5329999999999},{"$f":"INDEX('202205'!$B$5:$C$29,MATCH('월별 설비용량'!Q$4,'202205'!$B$5:$B$29,0),2)","v":1609.8520000000001},{"$f":"INDEX('202205'!$B$5:$C$29,MATCH('월별 설비용량'!R$4,'202205'!$B$5:$B$29,0),2)","v":201.29},{"$f":"INDEX('202205'!$B$5:$C$29,MATCH('월별 설비용량'!S$4,'202205'!$B$5:$B$29,0),2)","v":255.5},{"$f":"INDEX('202205'!$B$5:$C$29,MATCH('월별 설비용량'!T$4,'202205'!$B$5:$B$29,0),2)","v":85.608999999999995},{"$f":"INDEX('202205'!$B$5:$C$29,MATCH('월별 설비용량'!U$4,'202205'!$B$5:$B$29,0),2)","v":63.734000000000002},{"$f":"INDEX('202205'!$B$5:$C$29,MATCH('월별 설비용량'!V$4,'202205'!$B$5:$B$29,0),2)","v":1245.0129999999999},{"$f":"INDEX('202205'!$B$5:$C$29,MATCH('월별 설비용량'!W$4,'202205'!$B$5:$B$29,0),2)","v":350},1744.356,0,0,0,0,12982.009000000002]
["2022-04-30",800.22799999999995,346.33,6202.1260000000002,1734.7329999999999,1811.1420000000001,255.5,1744.356,0,12894.415000000001,null,"2022-04-30",{"$f":"INDEX('202204'!$B$5:$C$29,MATCH('월별 설비용량'!M$4,'202204'!$B$5:$B$29,0),2)","v":800.22799999999995},{"$f":"INDEX('202204'!$B$5:$C$29,MATCH('월별 설비용량'!N$4,'202204'!$B$5:$B$29,0),2)","v":346.33},{"$f":"INDEX('202204'!$B$5:$C$29,MATCH('월별 설비용량'!O$4,'202204'!$B$5:$B$29,0),2)","v":6202.1260000000002},{"$f":"INDEX('202204'!$B$5:$C$29,MATCH('월별 설비용량'!P$4,'202204'!$B$5:$B$29,0),2)","v":1734.7329999999999},{"$f":"INDEX('202204'!$B$5:$C$29,MATCH('월별 설비용량'!Q$4,'202204'!$B$5:$B$29,0),2)","v":1609.8520000000001},{"$f":"INDEX('202204'!$B$5:$C$29,MATCH('월별 설비용량'!R$4,'202204'!$B$5:$B$29,0),2)","v":201.29},{"$f":"INDEX('202204'!$B$5:$C$29,MATCH('월별 설비용량'!S$4,'202204'!$B$5:$B$29,0),2)","v":255.5},{"$f":"INDEX('202204'!$B$5:$C$29,MATCH('월별 설비용량'!T$4,'202204'!$B$5:$B$29,0),2)","v":85.608999999999995},{"$f":"INDEX('202204'!$B$5:$C$29,MATCH('월별 설비용량'!U$4,'202204'!$B$5:$B$29,0),2)","v":63.734000000000002},{"$f":"INDEX('202204'!$B$5:$C$29,MATCH('월별 설비용량'!V$4,'202204'!$B$5:$B$29,0),2)","v":1245.0129999999999},{"$f":"INDEX('202204'!$B$5:$C$29,MATCH('월별 설비용량'!W$4,'202204'!$B$5:$B$29,0),2)","v":350},1744.356,0,0,0,0,12894.415000000001]
["2022-03-31",787.90800000000002,346.33,6144.6540000000005,1726.7329999999999,1811.1420000000001,255.5,1744.356,0,12816.623000000001,null,"2022-03-31",{"$f":"INDEX('202203'!$B$5:$C$29,MATCH('월별 설비용량'!M$4,'202203'!$B$5:$B$29,0),2)","v":787.90800000000002},{"$f":"INDEX('202203'!$B$5:$C$29,MATCH('월별 설비용량'!N$4,'202203'!$B$5:$B$29,0),2)","v":346.33},{"$f":"INDEX('202203'!$B$5:$C$29,MATCH('월별 설비용량'!O$4,'202203'!$B$5:$B$29,0),2)","v":6144.6540000000005},{"$f":"INDEX('202203'!$B$5:$C$29,MATCH('월별 설비용량'!P$4,'202203'!$B$5:$B$29,0),2)","v":1726.7329999999999},{"$f":"INDEX('202203'!$B$5:$C$29,MATCH('월별 설비용량'!Q$4,'202203'!$B$5:$B$29,0),2)","v":1609.8520000000001},{"$f":"INDEX('202203'!$B$5:$C$29,MATCH('월별 설비용량'!R$4,'202203'!$B$5:$B$29,0),2)","v":201.29},{"$f":"INDEX('202203'!$B$5:$C$29,MATCH('월별 설비용량'!S$4,'202203'!$B$5:$B$29,0),2)","v":255.5},{"$f":"INDEX('202203'!$B$5:$C$29,MATCH('월별 설비용량'!T$4,'202203'!$B$5:$B$29,0),2)","v":85.608999999999995},{"$f":"INDEX('202203'!$B$5:$C$29,MATCH('월별 설비용량'!U$4,'202203'!$B$5:$B$29,0),2)","v":63.734000000000002},{"$f":"INDEX('202203'!$B$5:$C$29,MATCH('월별 설비용량'!V$4,'202203'!$B$5:$B$29,0),2)","v":1245.0129999999999},{"$f":"INDEX('202203'!$B$5:$C$29,MATCH('월별 설비용량'!W$4,'202203'!$B$5:$B$29,0),2)","v":350},1744.356,0,0,0,0,12816.623000000001]
["2022-02-28",{"$f":"M15","v":783.70799999999997},{"$f":"N15","v":346.33},{"$f":"O15","v":6084.4589999999998},{"$f":"P15","v":1726.7329999999999},{"$f":"Q15+R15","v":1811.1420000000001},{"$f":"S15","v":255.5},{"$f":"X15","v":1434.356},{"$f":"AB15","v":0},{"$f":"AC15","v":12442.228000000001},null,"2022-02-28",{"$f":"INDEX('202202'!$B$5:$C$29,MATCH('월별 설비용량'!M$4,'202202'!$B$5:$B$29,0),2)","v":783.70799999999997},{"$f":"INDEX('202202'!$B$5:$C$29,MATCH('월별 설비용량'!N$4,'202202'!$B$5:$B$29,0),2)","v":346.33},{"$f":"INDEX('202202'!$B$5:$C$29,MATCH('월별 설비용량'!O$4,'202202'!$B$5:$B$29,0),2)","v":6084.4589999999998},{"$f":"INDEX('202202'!$B$5:$C$29,MATCH('월별 설비용량'!P$4,'202202'!$B$5:$B$29,0),2)","v":1726.7329999999999},{"$f":"INDEX('202202'!$B$5:$C$29,MATCH('월별 설비용량'!Q$4,'202202'!$B$5:$B$29,0),2)","v":1609.8520000000001},{"$f":"INDEX('202202'!$B$5:$C$29,MATCH('월별 설비용량'!R$4,'202202'!$B$5:$B$29,0),2)","v":201.29},{"$f":"INDEX('202202'!$B$5:$C$29,MATCH('월별 설비용량'!S$4,'202202'!$B$5:$B$29,0),2)","v":255.5},{"$f":"INDEX('202202'!$B$5:$C$29,MATCH('월별 설비용량'!T$4,'202202'!$B$5:$B$29,0),2)","v":85.608999999999995},{"$f":"INDEX('202202'!$B$5:$C$29,MATCH('월별 설비용량'!U$4,'202202'!$B$5:$B$29,0),2)","v":63.734000000000002},{"$f":"INDEX('202202'!$B$5:$C$29,MATCH('월별 설비용량'!V$4,'202202'!$B$5:$B$29,0),2)","v":935.01300000000003},{"$f":"INDEX('202202'!$B$5:$C$29,MATCH('월별 설비용량'!W$4,'202202'!$B$5:$B$29,0),2)","v":350},{"$f":"SUM(T15:W15)","v":1434.356},0,0,0,{"$f":"SUM(Y15:AA15)","v":0},{"$f":"M15+N15+O15+P15+Q15+R15+S15+X15+AB15","v":12442.228000000001}]
["2022-01-31",{"$f":"M16","v":768.70799999999997},{"$f":"N16","v":346.33},{"$f":"O16","v":5929.75},{"$f":"P16","v":1726.7329999999999},{"$f":"Q16+R16","v":1811.1420000000001},{"$f":"S16","v":255.5},{"$f":"X16","v":1434.356},{"$f":"AB16","v":0},{"$f":"AC16","v":12272.519000000002},null,"2022-01-31",{"$f":"INDEX('202201'!$B$5:$C$29,MATCH('월별 설비용량'!M$4,'202201'!$B$5:$B$29,0),2)","v":768.70799999999997},{"$f":"INDEX('202201'!$B$5:$C$29,MATCH('월별 설비용량'!N$4,'202201'!$B$5:$B$29,0),2)","v":346.33},{"$f":"INDEX('202201'!$B$5:$C$29,MATCH('월별 설비용량'!O$4,'202201'!$B$5:$B$29,0),2)","v":5929.75},{"$f":"INDEX('202201'!$B$5:$C$29,MATCH('월별 설비용량'!P$4,'202201'!$B$5:$B$29,0),2)","v":1726.7329999999999},{"$f":"INDEX('202201'!$B$5:$C$29,MATCH('월별 설비용량'!Q$4,'202201'!$B$5:$B$29,0),2)","v":1609.8520000000001},{"$f":"INDEX('202201'!$B$5:$C$29,MATCH('월별 설비용량'!R$4,'202201'!$B$5:$B$29,0),2)","v":201.29},{"$f":"INDEX('202201'!$B$5:$C$29,MATCH('월별 설비용량'!S$4,'202201'!$B$5:$B$29,0),2)","v":255.5},{"$f":"INDEX('202201'!$B$5:$C$29,MATCH('월별 설비용량'!T$4,'202201'!$B$5:$B$29,0),2)","v":85.608999999999995},{"$f":"INDEX('202201'!$B$5:$C$29,MATCH('월별 설비용량'!U$4,'202201'!$B$5:$B$29,0),2)","v":63.734000000000002},{"$f":"INDEX('202201'!$B$5:$C$29,MATCH('월별 설비용량'!V$4,'202201'!$B$5:$B$29,0),2)","v":935.01300000000003},{"$f":"INDEX('202201'!$B$5:$C$29,MATCH('월별 설비용량'!W$4,'202201'!$B$5:$B$29,0),2)","v":350},{"$f":"SUM(T16:W16)","v":1434.356},0,0,0,{"$f":"SUM(Y16:AA16)","v":0},{"$f":"M16+N16+O16+P16+Q16+R16+S16+X16+AB16","v":12272.519000000002}]
["2021-12-31",{"$f":"M17","v":776.70799999999997},{"$f":"N17","v":346.33},{"$f":"O17","v":5787.5959999999995},{"$f":"P17","v":1726.7329999999999},{"$f":"Q17+R17","v":1814.1420000000001},{"$f":"S17","v":255.5},{"$f":"X17","v":1433.896},{"$f":"AB17","v":0},{"$f":"AC17","v":12140.905000000002},null,"2021-12-31",{"$f":"INDEX('202112'!$B$5:$C$29,MATCH('월별 설비용량'!M$4,'202112'!$B$5:$B$29,0),2)","v":776.70799999999997},{"$f":"INDEX('202112'!$B$5:$C$29,MATCH('월별 설비용량'!N$4,'202112'!$B$5:$B$29,0),2)","v":346.33},{"$f":"INDEX('202112'!$B$5:$C$29,MATCH('월별 설비용량'!O$4,'202112'!$B$5:$B$29,0),2)","v":5787.5959999999995},{"$f":"INDEX('202112'!$B$5:$C$29,MATCH('월별 설비용량'!P$4,'202112'!$B$5:$B$29,0),2)","v":1726.7329999999999},{"$f":"INDEX('202112'!$B$5:$C$29,MATCH('월별 설비용량'!Q$4,'202112'!$B$5:$B$29,0),2)","v":1609.8520000000001},{"$f":"INDEX('202112'!$B$5:$C$29,MATCH('월별 설비용량'!R$4,'202112'!$B$5:$B$29,0),2)","v":204.29},{"$f":"INDEX('202112'!$B$5:$C$29,MATCH('월별 설비용량'!S$4,'202112'!$B$5:$B$29,0),2)","v":255.5},{"$f":"INDEX('202112'!$B$5:$C$29,MATCH('월별 설비용량'!T$4,'202112'!$B$5:$B$29,0),2)","v":85.149000000000001},{"$f":"INDEX('202112'!$B$5:$C$29,MATCH('월별 설비용량'!U$4,'202112'!$B$5:$B$29,0),2)","v":63.734000000000002},{"$f":"INDEX('202112'!$B$5:$C$29,MATCH('월별 설비용량'!V$4,'202112'!$B$5:$B$29,0),2)","v":935.01300000000003},{"$f":"INDEX('202112'!$B$5:$C$29,MATCH('월별 설비용량'!W$4,'202112'!$B$5:$B$29,0),2)","v":350},{"$f":"SUM(T17:W17)","v":1433.896},0,0,0,{"$f":"SUM(Y17:AA17)","v":0},{"$f":"M17+N17+O17+P17+Q17+R17+S17+X17+AB17","v":12140.905000000002}]
["2021-11-30",{"$f":"M18","v":776.70799999999997},{"$f":"N18","v":346.33},{"$f":"O18","v":5537.3770000000004},{"$f":"P18","v":1707.933},{"$f":"Q18+R18","v":1814.1420000000001},{"$f":"S18","v":255.5},{"$f":"X18","v":1433.896},{"$f":"AB18","v":0},{"$f":"AC18","v":11871.886000000004},null,"2021-11-30",{"$f":"INDEX('202111'!$B$5:$C$29,MATCH('월별 설비용량'!M$4,'202111'!$B$5:$B$29,0),2)","v":776.70799999999997},{"$f":"INDEX('202111'!$B$5:$C$29,MATCH('월별 설비용량'!N$4,'202111'!$B$5:$B$29,0),2)","v":346.33},{"$f":"INDEX('202111'!$B$5:$C$29,MATCH('월별 설비용량'!O$4,'202111'!$B$5:$B$29,0),2)","v":5537.3770000000004},{"$f":"INDEX('202111'!$B$5:$C$29,MATCH('월별 설비용량'!P$4,'202111'!$B$5:$B$29,0),2)","v":1707.933},{"$f":"INDEX('202111'!$B$5:$C$29,MATCH('월별 설비용량'!Q$4,'202111'!$B$5:$B$29,0),2)","v":1609.8520000000001},{"$f":"INDEX('202111'!$B$5:$C$29,MATCH('월별 설비용량'!R$4,'202111'!$B$5:$B$29,0),2)","v":204.29},{"$f":"INDEX('202111'!$B$5:$C$29,MATCH('월별 설비용량'!S$4,'202111'!$B$5:$B$29,0),2)","v":255.5},{"$f":"INDEX('202111'!$B$5:$C$29,MATCH('월별 설비용량'!T$4,'202111'!$B$5:$B$29,0),2)","v":85.149000000000001},{"$f":"INDEX('202111'!$B$5:$C$29,MATCH('월별 설비용량'!U$4,'202111'!$B$5:$B$29,0),2)","v":63.734000000000002},{"$f":"INDEX('202111'!$B$5:$C$29,MATCH('월별 설비용량'!V$4,'202111'!$B$5:$B$29,0),2)","v":935.01300000000003},{"$f":"INDEX('202111'!$B$5:$C$29,MATCH('월별 설비용량'!W$4,'202111'!$B$5:$B$29,0),2)","v":350},{"$f":"SUM(T18:W18)","v":1433.896},0,0,0,{"$f":"SUM(Y18:AA18)","v":0},{"$f":"M18+N18+O18+P18+Q18+R18+S18+X18+AB18","v":11871.886000000004}]
["2021-10-31",{"$f":"M19","v":750.74800000000005},{"$f":"N19","v":346.33},{"$f":"O19","v":5430.35},{"$f":"P19","v":1707.933},{"$f":"Q19+R19","v":1814.1420000000001},{"$f":"S19","v":255.5},{"$f":"X19","v":1433.896},{"$f":"AB19","v":0},{"$f":"AC19","v":11738.899000000003},null,"2021-10-31",{"$f":"INDEX('202110'!$B$5:$C$29,MATCH('월별 설비용량'!M$4,'202110'!$B$5:$B$29,0),2)","v":750.74800000000005},{"$f":"INDEX('202110'!$B$5:$C$29,MATCH('월별 설비용량'!N$4,'202110'!$B$5:$B$29,0),2)","v":346.33},{"$f":"INDEX('202110'!$B$5:$C$29,MATCH('월별 설비용량'!O$4,'202110'!$B$5:$B$29,0),2)","v":5430.35},{"$f":"INDEX('202110'!$B$5:$C$29,MATCH('월별 설비용량'!P$4,'202110'!$B$5:$B$29,0),2)","v":1707.933},{"$f":"INDEX('202110'!$B$5:$C$29,MATCH('월별 설비용량'!Q$4,'202110'!$B$5:$B$29,0),2)","v":1609.8520000000001},{"$f":"INDEX('202110'!$B$5:$C$29,MATCH('월별 설비용량'!R$4,'202110'!$B$5:$B$29,0),2)","v":204.29},{"$f":"INDEX('202110'!$B$5:$C$29,MATCH('월별 설비용량'!S$4,'202110'!$B$5:$B$29,0),2)","v":255.5},{"$f":"INDEX('202110'!$B$5:$C$29,MATCH('월별 설비용량'!T$4,'202110'!$B$5:$B$29,0),2)","v":85.149000000000001},{"$f":"INDEX('202110'!$B$5:$C$29,MATCH('월별 설비용량'!U$4,'202110'!$B$5:$B$29,0),2)","v":63.734000000000002},{"$f":"INDEX('202110'!$B$5:$C$29,MATCH('월별 설비용량'!V$4,'202110'!$B$5:$B$29,0),2)","v":935.01300000000003},{"$f":"INDEX('202110'!$B$5:$C$29,MATCH('월별 설비용량'!W$4,'202110'!$B$5:$B$29,0),2)","v":350},{"$f":"SUM(T19:W19)","v":1433.896},0,0,0,{"$f":"SUM(Y19:AA19)","v":0},{"$f":"M19+N19+O19+P19+Q19+R19+S19+X19+AB19","v":11738.899000000003}]
["2021-09-30",{"$f":"M20","v":735.74800000000005},{"$f":"N20","v":346.33},{"$f":"O20","v":5191.4449999999997},{"$f":"P20","v":1707.933},{"$f":"Q20+R20","v":1815.1420000000001},{"$f":"S20","v":255.5},{"$f":"X20","v":1433.896},{"$f":"AB20","v":0},{"$f":"AC20","v":11485.994000000001},null,"2021-09-30",{"$f":"INDEX('202109'!$B$5:$C$29,MATCH('월별 설비용량'!M$4,'202109'!$B$5:$B$29,0),2)","v":735.74800000000005},{"$f":"INDEX('202109'!$B$5:$C$29,MATCH('월별 설비용량'!N$4,'202109'!$B$5:$B$29,0),2)","v":346.33},{"$f":"INDEX('202109'!$B$5:$C$29,MATCH('월별 설비용량'!O$4,'202109'!$B$5:$B$29,0),2)","v":5191.4449999999997},{"$f":"INDEX('202109'!$B$5:$C$29,MATCH('월별 설비용량'!P$4,'202109'!$B$5:$B$29,0),2)","v":1707.933},{"$f":"INDEX('202109'!$B$5:$C$29,MATCH('월별 설비용량'!Q$4,'202109'!$B$5:$B$29,0),2)","v":1609.8520000000001},{"$f":"INDEX('202109'!$B$5:$C$29,MATCH('월별 설비용량'!R$4,'202109'!$B$5:$B$29,0),2)","v":205.29},{"$f":"INDEX('202109'!$B$5:$C$29,MATCH('월별 설비용량'!S$4,'202109'!$B$5:$B$29,0),2)","v":255.5},{"$f":"INDEX('202109'!$B$5:$C$29,MATCH('월별 설비용량'!T$4,'202109'!$B$5:$B$29,0),2)","v":85.149000000000001},{"$f":"INDEX('202109'!$B$5:$C$29,MATCH('월별 설비용량'!U$4,'202109'!$B$5:$B$29,0),2)","v":63.734000000000002},{"$f":"INDEX('202109'!$B$5:$C$29,MATCH('월별 설비용량'!V$4,'202109'!$B$5:$B$29,0),2)","v":935.01300000000003},{"$f":"INDEX('202109'!$B$5:$C$29,MATCH('월별 설비용량'!W$4,'202109'!$B$5:$B$29,0),2)","v":350},{"$f":"SUM(T20:W20)","v":1433.896},0,0,0,{"$f":"SUM(Y20:AA20)","v":0},{"$f":"M20+N20+O20+P20+Q20+R20+S20+X20+AB20","v":11485.994000000001}]
["2021-08-31",{"$f":"M21","v":735.74800000000005},{"$f":"N21","v":346.33},{"$f":"O21","v":5189.6109999999999},{"$f":"P21","v":1707.933},{"$f":"Q21+R21","v":1810.1420000000001},{"$f":"S21","v":255.5},{"$f":"X21","v":1433.896},{"$f":"AB21","v":0},{"$f":"AC21","v":11479.160000000002},null,"2021-08-31",{"$f":"INDEX('202108'!$B$5:$C$29,MATCH('월별 설비용량'!M$4,'202108'!$B$5:$B$29,0),2)","v":735.74800000000005},{"$f":"INDEX('202108'!$B$5:$C$29,MATCH('월별 설비용량'!N$4,'202108'!$B$5:$B$29,0),2)","v":346.33},{"$f":"INDEX('202108'!$B$5:$C$29,MATCH('월별 설비용량'!O$4,'202108'!$B$5:$B$29,0),2)","v":5189.6109999999999},{"$f":"INDEX('202108'!$B$5:$C$29,MATCH('월별 설비용량'!P$4,'202108'!$B$5:$B$29,0),2)","v":1707.933},{"$f":"INDEX('202108'!$B$5:$C$29,MATCH('월별 설비용량'!Q$4,'202108'!$B$5:$B$29,0),2)","v":1604.8520000000001},{"$f":"INDEX('202108'!$B$5:$C$29,MATCH('월별 설비용량'!R$4,'202108'!$B$5:$B$29,0),2)","v":205.29},{"$f":"INDEX('202108'!$B$5:$C$29,MATCH('월별 설비용량'!S$4,'202108'!$B$5:$B$29,0),2)","v":255.5},{"$f":"INDEX('202108'!$B$5:$C$29,MATCH('월별 설비용량'!T$4,'202108'!$B$5:$B$29,0),2)","v":85.149000000000001},{"$f":"INDEX('202108'!$B$5:$C$29,MATCH('월별 설비용량'!U$4,'202108'!$B$5:$B$29,0),2)","v":63.734000000000002},{"$f":"INDEX('202108'!$B$5:$C$29,MATCH('월별 설비용량'!V$4,'202108'!$B$5:$B$29,0),2)","v":935.01300000000003},{"$f":"INDEX('202108'!$B$5:$C$29,MATCH('월별 설비용량'!W$4,'202108'!$B$5:$B$29,0),2)","v":350},{"$f":"SUM(T21:W21)","v":1433.896},0,0,0,{"$f":"SUM(Y21:AA21)","v":0},{"$f":"M21+N21+O21+P21+Q21+R21+S21+X21+AB21","v":11479.160000000002}]
["2021-07-31",{"$f":"M22","v":700.94799999999998},{"$f":"N22","v":346.33},{"$f":"O22","v":5113.6819999999998},{"$f":"P22","v":1691.933},{"$f":"Q22+R22","v":1810.1420000000001},{"$f":"S22","v":255.5},{"$f":"X22","v":1333.8960000000002},{"$f":"AB22","v":0},{"$f":"AC22","v":11252.431000000002},null,"2021-07-31",{"$f":"INDEX('202107'!$B$5:$C$29,MATCH('월별 설비용량'!M$4,'202107'!$B$5:$B$29,0),2)","v":700.94799999999998},{"$f":"INDEX('202107'!$B$5:$C$29,MATCH('월별 설비용량'!N$4,'202107'!$B$5:$B$29,0),2)","v":346.33},{"$f":"INDEX('202107'!$B$5:$C$29,MATCH('월별 설비용량'!O$4,'202107'!$B$5:$B$29,0),2)","v":5113.6819999999998},{"$f":"INDEX('202107'!$B$5:$C$29,MATCH('월별 설비용량'!P$4,'202107'!$B$5:$B$29,0),2)","v":1691.933},{"$f":"INDEX('202107'!$B$5:$C$29,MATCH('월별 설비용량'!Q$4,'202107'!$B$5:$B$29,0),2)","v":1604.8520000000001},{"$f":"INDEX('202107'!$B$5:$C$29,MATCH('월별 설비용량'!R$4,'202107'!$B$5:$B$29,0),2)","v":205.29},{"$f":"INDEX('202107'!$B$5:$C$29,MATCH('월별 설비용량'!S$4,'202107'!$B$5:$B$29,0),2)","v":255.5},{"$f":"INDEX('202107'!$B$5:$C$29,MATCH('월별 설비용량'!T$4,'202107'!$B$5:$B$29,0),2)","v":85.149000000000001},{"$f":"INDEX('202107'!$B$5:$C$29,MATCH('월별 설비용량'!U$4,'202107'!$B$5:$B$29,0),2)","v":63.734000000000002},{"$f":"INDEX('202107'!$B$5:$C$29,MATCH('월별 설비용량'!V$4,'202107'!$B$5:$B$29,0),2)","v":835.01300000000003},{"$f":"INDEX('202107'!$B$5:$C$29,MATCH('월별 설비용량'!W$4,'202107'!$B$5:$B$29,0),2)","v":350},{"$f":"SUM(T22:W22)","v":1333.8960000000002},0,0,0,{"$f":"SUM(Y22:AA22)","v":0},{"$f":"M22+N22+O22+P22+Q22+R22+S22+X22+AB22","v":11252.431000000002}]
["2021-06-30",{"$f":"M23","v":700.94799999999998},{"$f":"N23","v":346.33},{"$f":"O23","v":5031.0569999999998},{"$f":"P23","v":1691.933},{"$f":"Q23+R23","v":1810.1420000000001},{"$f":"S23","v":255.5},{"$f":"X23","v":1333.8960000000002},{"$f":"AB23","v":0},{"$f":"AC23","v":11169.806000000002},null,"2021-06-30",{"$f":"INDEX('202106'!$B$5:$C$29,MATCH('월별 설비용량'!M$4,'202106'!$B$5:$B$29,0),2)","v":700.94799999999998},{"$f":"INDEX('202106'!$B$5:$C$29,MATCH('월별 설비용량'!N$4,'202106'!$B$5:$B$29,0),2)","v":346.33},{"$f":"INDEX('202106'!$B$5:$C$29,MATCH('월별 설비용량'!O$4,'202106'!$B$5:$B$29,0),2)","v":5031.0569999999998},{"$f":"INDEX('202106'!$B$5:$C$29,MATCH('월별 설비용량'!P$4,'202106'!$B$5:$B$29,0),2)","v":1691.933},{"$f":"INDEX('202106'!$B$5:$C$29,MATCH('월별 설비용량'!Q$4,'202106'!$B$5:$B$29,0),2)","v":1604.8520000000001},{"$f":"INDEX('202106'!$B$5:$C$29,MATCH('월별 설비용량'!R$4,'202106'!$B$5:$B$29,0),2)","v":205.29},{"$f":"INDEX('202106'!$B$5:$C$29,MATCH('월별 설비용량'!S$4,'202106'!$B$5:$B$29,0),2)","v":255.5},{"$f":"INDEX('202106'!$B$5:$C$29,MATCH('월별 설비용량'!T$4,'202106'!$B$5:$B$29,0),2)","v":85.149000000000001},{"$f":"INDEX('202106'!$B$5:$C$29,MATCH('월별 설비용량'!U$4,'202106'!$B$5:$B$29,0),2)","v":63.734000000000002},{"$f":"INDEX('202106'!$B$5:$C$29,MATCH('월별 설비용량'!V$4,'202106'!$B$5:$B$29,0),2)","v":835.01300000000003},{"$f":"INDEX('202106'!$B$5:$C$29,MATCH('월별 설비용량'!W$4,'202106'!$B$5:$B$29,0),2)","v":350},{"$f":"SUM(T23:W23)","v":1333.8960000000002},0,0,0,{"$f":"SUM(Y23:AA23)","v":0},{"$f":"M23+N23+O23+P23+Q23+R23+S23+X23+AB23","v":11169.806000000002}]
["2021-05-31",{"$f":"M24","v":674.76800000000003},{"$f":"N24","v":346.33},{"$f":"O24","v":4954.4949999999999},{"$f":"P24","v":1691.933},{"$f":"Q24+R24","v":1807.556},{"$f":"S24","v":255.5},{"$f":"X24","v":1333.8960000000002},{"$f":"AB24","v":0},{"$f":"AC24","v":11064.478000000001},null,"2021-05-31",{"$f":"INDEX('202105'!$B$5:$C$29,MATCH('월별 설비용량'!M$4,'202105'!$B$5:$B$29,0),2)","v":674.76800000000003},{"$f":"INDEX('202105'!$B$5:$C$29,MATCH('월별 설비용량'!N$4,'202105'!$B$5:$B$29,0),2)","v":346.33},{"$f":"INDEX('202105'!$B$5:$C$29,MATCH('월별 설비용량'!O$4,'202105'!$B$5:$B$29,0),2)","v":4954.4949999999999},{"$f":"INDEX('202105'!$B$5:$C$29,MATCH('월별 설비용량'!P$4,'202105'!$B$5:$B$29,0),2)","v":1691.933},{"$f":"INDEX('202105'!$B$5:$C$29,MATCH('월별 설비용량'!Q$4,'202105'!$B$5:$B$29,0),2)","v":1604.8520000000001},{"$f":"INDEX('202105'!$B$5:$C$29,MATCH('월별 설비용량'!R$4,'202105'!$B$5:$B$29,0),2)","v":202.70400000000001},{"$f":"INDEX('202105'!$B$5:$C$29,MATCH('월별 설비용량'!S$4,'202105'!$B$5:$B$29,0),2)","v":255.5},{"$f":"INDEX('202105'!$B$5:$C$29,MATCH('월별 설비용량'!T$4,'202105'!$B$5:$B$29,0),2)","v":85.149000000000001},{"$f":"INDEX('202105'!$B$5:$C$29,MATCH('월별 설비용량'!U$4,'202105'!$B$5:$B$29,0),2)","v":63.734000000000002},{"$f":"INDEX('202105'!$B$5:$C$29,MATCH('월별 설비용량'!V$4,'202105'!$B$5:$B$29,0),2)","v":835.01300000000003},{"$f":"INDEX('202105'!$B$5:$C$29,MATCH('월별 설비용량'!W$4,'202105'!$B$5:$B$29,0),2)","v":350},{"$f":"SUM(T24:W24)","v":1333.8960000000002},0,0,0,{"$f":"SUM(Y24:AA24)","v":0},{"$f":"M24+N24+O24+P24+Q24+R24+S24+X24+AB24","v":11064.478000000001}]
["2021-04-30",{"$f":"M25","v":674.76800000000003},{"$f":"N25","v":346.33},{"$f":"O25","v":4897.3109999999997},{"$f":"P25","v":1691.933},{"$f":"Q25+R25","v":1802.556},{"$f":"S25","v":255.5},{"$f":"X25","v":1333.296},{"$f":"AB25","v":0},{"$f":"AC25","v":11001.694},null,"2021-04-30",{"$f":"INDEX('202104'!$B$5:$C$29,MATCH('월별 설비용량'!M$4,'202104'!$B$5:$B$29,0),2)","v":674.76800000000003},{"$f":"INDEX('202104'!$B$5:$C$29,MATCH('월별 설비용량'!N$4,'202104'!$B$5:$B$29,0),2)","v":346.33},{"$f":"INDEX('202104'!$B$5:$C$29,MATCH('월별 설비용량'!O$4,'202104'!$B$5:$B$29,0),2)","v":4897.3109999999997},{"$f":"INDEX('202104'!$B$5:$C$29,MATCH('월별 설비용량'!P$4,'202104'!$B$5:$B$29,0),2)","v":1691.933},{"$f":"INDEX('202104'!$B$5:$C$29,MATCH('월별 설비용량'!Q$4,'202104'!$B$5:$B$29,0),2)","v":1604.8520000000001},{"$f":"INDEX('202104'!$B$5:$C$29,MATCH('월별 설비용량'!R$4,'202104'!$B$5:$B$29,0),2)","v":197.70400000000001},{"$f":"INDEX('202104'!$B$5:$C$29,MATCH('월별 설비용량'!S$4,'202104'!$B$5:$B$29,0),2)","v":255.5},{"$f":"INDEX('202104'!$B$5:$C$29,MATCH('월별 설비용량'!T$4,'202104'!$B$5:$B$29,0),2)","v":84.549000000000007},{"$f":"INDEX('202104'!$B$5:$C$29,MATCH('월별 설비용량'!U$4,'202104'!$B$5:$B$29,0),2)","v":63.734000000000002},{"$f":"INDEX('202104'!$B$5:$C$29,MATCH('월별 설비용량'!V$4,'202104'!$B$5:$B$29,0),2)","v":835.01300000000003},{"$f":"INDEX('202104'!$B$5:$C$29,MATCH('월별 설비용량'!W$4,'202104'!$B$5:$B$29,0),2)","v":350},{"$f":"SUM(T25:W25)","v":1333.296},0,0,0,{"$f":"SUM(Y25:AA25)","v":0},{"$f":"M25+N25+O25+P25+Q25+R25+S25+X25+AB25","v":11001.694}]
["2021-03-31",{"$f":"M26","v":674.76800000000003},{"$f":"N26","v":346.33},{"$f":"O26","v":4834.0879999999997},{"$f":"P26","v":1691.933},{"$f":"Q26+R26","v":1797.556},{"$f":"S26","v":255.5},{"$f":"X26","v":1348.9369999999999},{"$f":"AB26","v":0},{"$f":"AC26","v":10949.111999999999},null,"2021-03-31",{"$f":"INDEX('202103'!$B$5:$C$29,MATCH('월별 설비용량'!M$4,'202103'!$B$5:$B$29,0),2)","v":674.76800000000003},{"$f":"INDEX('202103'!$B$5:$C$29,MATCH('월별 설비용량'!N$4,'202103'!$B$5:$B$29,0),2)","v":346.33},{"$f":"INDEX('202103'!$B$5:$C$29,MATCH('월별 설비용량'!O$4,'202103'!$B$5:$B$29,0),2)","v":4834.0879999999997},{"$f":"INDEX('202103'!$B$5:$C$29,MATCH('월별 설비용량'!P$4,'202103'!$B$5:$B$29,0),2)","v":1691.933},{"$f":"INDEX('202103'!$B$5:$C$29,MATCH('월별 설비용량'!Q$4,'202103'!$B$5:$B$29,0),2)","v":1604.8520000000001},{"$f":"INDEX('202103'!$B$5:$C$29,MATCH('월별 설비용량'!R$4,'202103'!$B$5:$B$29,0),2)","v":192.70400000000001},{"$f":"INDEX('202103'!$B$5:$C$29,MATCH('월별 설비용량'!S$4,'202103'!$B$5:$B$29,0),2)","v":255.5},{"$f":"INDEX('202103'!$B$5:$C$29,MATCH('월별 설비용량'!T$4,'202103'!$B$5:$B$29,0),2)","v":84.549000000000007},{"$f":"INDEX('202103'!$B$5:$C$29,MATCH('월별 설비용량'!U$4,'202103'!$B$5:$B$29,0),2)","v":63.734000000000002},{"$f":"INDEX('202103'!$B$5:$C$29,MATCH('월별 설비용량'!V$4,'202103'!$B$5:$B$29,0),2)","v":850.654},{"$f":"INDEX('202103'!$B$5:$C$29,MATCH('월별 설비용량'!W$4,'202103'!$B$5:$B$29,0),2)","v":350},{"$f":"SUM(T26:W26)","v":1348.9369999999999},0,0,0,{"$f":"SUM(Y26:AA26)","v":0},{"$f":"M26+N26+O26+P26+Q26+R26+S26+X26+AB26","v":10949.111999999999}]
["2021-02-28",{"$f":"M27","v":673.82799999999997},{"$f":"N27","v":346.33},{"$f":"O27","v":4749.8029999999999},{"$f":"P27","v":1691.933},{"$f":"Q27+R27","v":1797.556},{"$f":"S27","v":255.5},{"$f":"X27","v":1351.0529999999999},{"$f":"AB27","v":0},{"$f":"AC27","v":10866.002999999999},null,"2021-02-28",{"$f":"INDEX('202102'!$B$5:$C$29,MATCH('월별 설비용량'!M$4,'202102'!$B$5:$B$29,0),2)","v":673.82799999999997},{"$f":"INDEX('202102'!$B$5:$C$29,MATCH('월별 설비용량'!N$4,'202102'!$B$5:$B$29,0),2)","v":346.33},{"$f":"INDEX('202102'!$B$5:$C$29,MATCH('월별 설비용량'!O$4,'202102'!$B$5:$B$29,0),2)","v":4749.8029999999999},{"$f":"INDEX('202102'!$B$5:$C$29,MATCH('월별 설비용량'!P$4,'202102'!$B$5:$B$29,0),2)","v":1691.933},{"$f":"INDEX('202102'!$B$5:$C$29,MATCH('월별 설비용량'!Q$4,'202102'!$B$5:$B$29,0),2)","v":1604.8520000000001},{"$f":"INDEX('202102'!$B$5:$C$29,MATCH('월별 설비용량'!R$4,'202102'!$B$5:$B$29,0),2)","v":192.70400000000001},{"$f":"INDEX('202102'!$B$5:$C$29,MATCH('월별 설비용량'!S$4,'202102'!$B$5:$B$29,0),2)","v":255.5},{"$f":"INDEX('202102'!$B$5:$C$29,MATCH('월별 설비용량'!T$4,'202102'!$B$5:$B$29,0),2)","v":84.549000000000007},{"$f":"INDEX('202102'!$B$5:$C$29,MATCH('월별 설비용량'!U$4,'202102'!$B$5:$B$29,0),2)","v":65.849999999999994},{"$f":"INDEX('202102'!$B$5:$C$29,MATCH('월별 설비용량'!V$4,'202102'!$B$5:$B$29,0),2)","v":850.654},{"$f":"INDEX('202102'!$B$5:$C$29,MATCH('월별 설비용량'!W$4,'202102'!$B$5:$B$29,0),2)","v":350},{"$f":"SUM(T27:W27)","v":1351.0529999999999},0,0,0,{"$f":"SUM(Y27:AA27)","v":0},{"$f":"M27+N27+O27+P27+Q27+R27+S27+X27+AB27","v":10866.002999999999}]
["2021-01-31",{"$f":"M28","v":654.02800000000002},{"$f":"N28","v":346.33},{"$f":"O28","v":4680.7259999999997},{"$f":"P28","v":1653.133},{"$f":"Q28+R28","v":1797.684},{"$f":"S28","v":255.5},{"$f":"X28","v":1351.0529999999999},{"$f":"AB28","v":0},{"$f":"AC28","v":10738.454},null,"2021-01-31",{"$f":"INDEX('202101'!$B$5:$C$29,MATCH('월별 설비용량'!M$4,'202101'!$B$5:$B$29,0),2)","v":654.02800000000002},{"$f":"INDEX('202101'!$B$5:$C$29,MATCH('월별 설비용량'!N$4,'202101'!$B$5:$B$29,0),2)","v":346.33},{"$f":"INDEX('202101'!$B$5:$C$29,MATCH('월별 설비용량'!O$4,'202101'!$B$5:$B$29,0),2)","v":4680.7259999999997},{"$f":"INDEX('202101'!$B$5:$C$29,MATCH('월별 설비용량'!P$4,'202101'!$B$5:$B$29,0),2)","v":1653.133},{"$f":"INDEX('202101'!$B$5:$C$29,MATCH('월별 설비용량'!Q$4,'202101'!$B$5:$B$29,0),2)","v":1604.98},{"$f":"INDEX('202101'!$B$5:$C$29,MATCH('월별 설비용량'!R$4,'202101'!$B$5:$B$29,0),2)","v":192.70400000000001},{"$f":"INDEX('202101'!$B$5:$C$29,MATCH('월별 설비용량'!S$4,'202101'!$B$5:$B$29,0),2)","v":255.5},{"$f":"INDEX('202101'!$B$5:$C$29,MATCH('월별 설비용량'!T$4,'202101'!$B$5:$B$29,0),2)","v":84.549000000000007},{"$f":"INDEX('202101'!$B$5:$C$29,MATCH('월별 설비용량'!U$4,'202101'!$B$5:$B$29,0),2)","v":65.849999999999994},{"$f":"INDEX('202101'!$B$5:$C$29,MATCH('월별 설비용량'!V$4,'202101'!$B$5:$B$29,0),2)","v":850.654},{"$f":"INDEX('202101'!$B$5:$C$29,MATCH('월별 설비용량'!W$4,'202101'!$B$5:$B$29,0),2)","v":350},{"$f":"SUM(T28:W28)","v":1351.0529999999999},0,0,0,{"$f":"SUM(Y28:AA28)","v":0},{"$f":"M28+N28+O28+P28+Q28+R28+S28+X28+AB28","v":10738.454}]
[{"$f":"L29","v":"2020-12-31"},{"$f":"M29","v":604.30799999999999},{"$f":"N29","v":346.33},{"$f":"O29","v":4645.7619999999997},{"$f":"P29","v":1642.3330000000001},{"$f":"Q29+R29","v":1797.684},{"$f":"S29","v":255.5},{"$f":"X29","v":1351.0529999999999},{"$f":"AB29","v":0},{"$f":"AC29","v":10642.97},null,"2020-12-31",{"$f":"INDEX('202012'!$B$5:$C$29,MATCH('월별 설비용량'!M$4,'202012'!$B$5:$B$29,0),2)","v":604.30799999999999},{"$f":"INDEX('202012'!$B$5:$C$29,MATCH('월별 설비용량'!N$4,'202012'!$B$5:$B$29,0),2)","v":346.33},{"$f":"INDEX('202012'!$B$5:$C$29,MATCH('월별 설비용량'!O$4,'202012'!$B$5:$B$29,0),2)","v":4645.7619999999997},{"$f":"INDEX('202012'!$B$5:$C$29,MATCH('월별 설비용량'!P$4,'202012'!$B$5:$B$29,0),2)","v":1642.3330000000001},{"$f":"INDEX('202012'!$B$5:$C$29,MATCH('월별 설비용량'!Q$4,'202012'!$B$5:$B$29,0),2)","v":1604.98},{"$f":"INDEX('202012'!$B$5:$C$29,MATCH('월별 설비용량'!R$4,'202012'!$B$5:$B$29,0),2)","v":192.70400000000001},{"$f":"INDEX('202012'!$B$5:$C$29,MATCH('월별 설비용량'!S$4,'202012'!$B$5:$B$29,0),2)","v":255.5},{"$f":"INDEX('202012'!$B$5:$C$29,MATCH('월별 설비용량'!T$4,'202012'!$B$5:$B$29,0),2)","v":84.549000000000007},{"$f":"INDEX('202012'!$B$5:$C$29,MATCH('월별 설비용량'!U$4,'202012'!$B$5:$B$29,0),2)","v":65.849999999999994},{"$f":"INDEX('202012'!$B$5:$C$29,MATCH('월별 설비용량'!V$4,'202012'!$B$5:$B$29,0),2)","v":850.654},{"$f":"INDEX('202012'!$B$5:$C$29,MATCH('월별 설비용량'!W$4,'202012'!$B$5:$B$29,0),2)","v":350},{"$f":"SUM(T29:W29)","v":1351.0529999999999},0,0,0,{"$f":"SUM(Y29:AA29)","v":0},{"$f":"M29+N29+O29+P29+Q29+R29+S29+X29+AB29","v":10642.97}]
[{"$f":"L30","v":"2020-11-30"},{"$f":"M30","v":600.64800000000002},{"$f":"N30","v":346.33},{"$f":"O30","v":4485.509},{"$f":"P30","v":1642.3330000000001},{"$f":"Q30+R30","v":1797.357},{"$f":"S30","v":255.5},{"$f":"X30","v":1346.453},{"$f":"AB30","v":0},{"$f":"AC30","v":10474.129999999999},null,"2020-11-30",{"$f":"INDEX('202011'!$B$5:$C$29,MATCH('월별 설비용량'!M$4,'202011'!$B$5:$B$29,0),2)","v":600.64800000000002},{"$f":"INDEX('202011'!$B$5:$C$29,MATCH('월별 설비용량'!N$4,'202011'!$B$5:$B$29,0),2)","v":346.33},{"$f":"INDEX('202011'!$B$5:$C$29,MATCH('월별 설비용량'!O$4,'202011'!$B$5:$B$29,0),2)","v":4485.509},{"$f":"INDEX('202011'!$B$5:$C$29,MATCH('월별 설비용량'!P$4,'202011'!$B$5:$B$29,0),2)","v":1642.3330000000001},{"$f":"INDEX('202011'!$B$5:$C$29,MATCH('월별 설비용량'!Q$4,'202011'!$B$5:$B$29,0),2)","v":1604.98},{"$f":"INDEX('202011'!$B$5:$C$29,MATCH('월별 설비용량'!R$4,'202011'!$B$5:$B$29,0),2)","v":192.37700000000001},{"$f":"INDEX('202011'!$B$5:$C$29,MATCH('월별 설비용량'!S$4,'202011'!$B$5:$B$29,0),2)","v":255.5},{"$f":"INDEX('202011'!$B$5:$C$29,MATCH('월별 설비용량'!T$4,'202011'!$B$5:$B$29,0),2)","v":84.549000000000007},{"$f":"INDEX('202011'!$B$5:$C$29,MATCH('월별 설비용량'!U$4,'202011'!$B$5:$B$29,0),2)","v":65.849999999999994},{"$f":"INDEX('202011'!$B$5:$C$29,MATCH('월별 설비용량'!V$4,'202011'!$B$5:$B$29,0),2)","v":846.05399999999997},{"$f":"INDEX('202011'!$B$5:$C$29,MATCH('월별 설비용량'!W$4,'202011'!$B$5:$B$29,0),2)","v":350},{"$f":"SUM(T30:W30)","v":1346.453},0,0,0,{"$f":"SUM(Y30:AA30)","v":0},{"$f":"M30+N30+O30+P30+Q30+R30+S30+X30+AB30","v":10474.129999999999}]
[{"$f":"L31","v":"2020-10-31"},{"$f":"M31","v":603.048},{"$f":"N31","v":346.33},{"$f":"O31","v":4358.0219999999999},{"$f":"P31","v":1621.3330000000001},{"$f":"Q31+R31","v":1797.357},{"$f":"S31","v":255.5},{"$f":"X31","v":1346.453},{"$f":"AB31","v":0},{"$f":"AC31","v":10328.043},null,"2020-10-31",{"$f":"INDEX('202010'!$B$5:$C$29,MATCH('월별 설비용량'!M$4,'202010'!$B$5:$B$29,0),2)","v":603.048},{"$f":"INDEX('202010'!$B$5:$C$29,MATCH('월별 설비용량'!N$4,'202010'!$B$5:$B$29,0),2)","v":346.33},{"$f":"INDEX('202010'!$B$5:$C$29,MATCH('월별 설비용량'!O$4,'202010'!$B$5:$B$29,0),2)","v":4358.0219999999999},{"$f":"INDEX('202010'!$B$5:$C$29,MATCH('월별 설비용량'!P$4,'202010'!$B$5:$B$29,0),2)","v":1621.3330000000001},{"$f":"INDEX('202010'!$B$5:$C$29,MATCH('월별 설비용량'!Q$4,'202010'!$B$5:$B$29,0),2)","v":1604.98},{"$f":"INDEX('202010'!$B$5:$C$29,MATCH('월별 설비용량'!R$4,'202010'!$B$5:$B$29,0),2)","v":192.37700000000001},{"$f":"INDEX('202010'!$B$5:$C$29,MATCH('월별 설비용량'!S$4,'202010'!$B$5:$B$29,0),2)","v":255.5},{"$f":"INDEX('202010'!$B$5:$C$29,MATCH('월별 설비용량'!T$4,'202010'!$B$5:$B$29,0),2)","v":84.549000000000007},{"$f":"INDEX('202010'!$B$5:$C$29,MATCH('월별 설비용량'!U$4,'202010'!$B$5:$B$29,0),2)","v":65.849999999999994},{"$f":"INDEX('202010'!$B$5:$C$29,MATCH('월별 설비용량'!V$4,'202010'!$B$5:$B$29,0),2)","v":846.05399999999997},{"$f":"INDEX('202010'!$B$5:$C$29,MATCH('월별 설비용량'!W$4,'202010'!$B$5:$B$29,0),2)","v":350},{"$f":"SUM(T31:W31)","v":1346.453},0,0,0,{"$f":"SUM(Y31:AA31)","v":0},{"$f":"M31+N31+O31+P31+Q31+R31+S31+X31+AB31","v":10328.043}]
["2020-09-30",{"$f":"M32","v":602.048},{"$f":"N32","v":346.33},{"$f":"O32","v":4319.6490000000003},{"$f":"P32","v":1621.3330000000001},{"$f":"Q32+R32","v":1797.357},{"$f":"S32","v":255.5},{"$f":"X32","v":1246.7529999999999},{"$f":"AB32","v":0},{"$f":"AC32","v":10188.970000000001},null,"2020-09-30",{"$f":"INDEX('202009'!$B$5:$C$29,MATCH('월별 설비용량'!M$4,'202009'!$B$5:$B$29,0),2)","v":602.048},{"$f":"INDEX('202009'!$B$5:$C$29,MATCH('월별 설비용량'!N$4,'202009'!$B$5:$B$29,0),2)","v":346.33},{"$f":"INDEX('202009'!$B$5:$C$29,MATCH('월별 설비용량'!O$4,'202009'!$B$5:$B$29,0),2)","v":4319.6490000000003},{"$f":"INDEX('202009'!$B$5:$C$29,MATCH('월별 설비용량'!P$4,'202009'!$B$5:$B$29,0),2)","v":1621.3330000000001},{"$f":"INDEX('202009'!$B$5:$C$29,MATCH('월별 설비용량'!Q$4,'202009'!$B$5:$B$29,0),2)","v":1604.98},{"$f":"INDEX('202009'!$B$5:$C$29,MATCH('월별 설비용량'!R$4,'202009'!$B$5:$B$29,0),2)","v":192.37700000000001},{"$f":"INDEX('202009'!$B$5:$C$29,MATCH('월별 설비용량'!S$4,'202009'!$B$5:$B$29,0),2)","v":255.5},{"$f":"INDEX('202009'!$B$5:$C$29,MATCH('월별 설비용량'!T$4,'202009'!$B$5:$B$29,0),2)","v":84.549000000000007},{"$f":"INDEX('202009'!$B$5:$C$29,MATCH('월별 설비용량'!U$4,'202009'!$B$5:$B$29,0),2)","v":66.150000000000006},{"$f":"INDEX('202009'!$B$5:$C$29,MATCH('월별 설비용량'!V$4,'202009'!$B$5:$B$29,0),2)","v":746.05399999999997},{"$f":"INDEX('202009'!$B$5:$C$29,MATCH('월별 설비용량'!W$4,'202009'!$B$5:$B$29,0),2)","v":350},{"$f":"SUM(T32:W32)","v":1246.7529999999999},0,0,0,{"$f":"SUM(Y32:AA32)","v":0},{"$f":"M32+N32+O32+P32+Q32+R32+S32+X32+AB32","v":10188.970000000001}]
[{"$f":"L33","v":"2020-08-31"},{"$f":"M33","v":561.46799999999996},{"$f":"N33","v":346.33},{"$f":"O33","v":4264.22},{"$f":"P33","v":1578.133},{"$f":"Q33+R33","v":1797.357},{"$f":"S33","v":255.5},{"$f":"X33","v":1141.7529999999999},{"$f":"AB33","v":0},{"$f":"AC33","v":9944.7610000000004},null,"2020-08-31",{"$f":"INDEX('202008'!$B$5:$C$29,MATCH('월별 설비용량'!M$4,'202008'!$B$5:$B$29,0),2)","v":561.46799999999996},{"$f":"INDEX('202008'!$B$5:$C$29,MATCH('월별 설비용량'!N$4,'202008'!$B$5:$B$29,0),2)","v":346.33},{"$f":"INDEX('202008'!$B$5:$C$29,MATCH('월별 설비용량'!O$4,'202008'!$B$5:$B$29,0),2)","v":4264.22},{"$f":"INDEX('202008'!$B$5:$C$29,MATCH('월별 설비용량'!P$4,'202008'!$B$5:$B$29,0),2)","v":1578.133},{"$f":"INDEX('202008'!$B$5:$C$29,MATCH('월별 설비용량'!Q$4,'202008'!$B$5:$B$29,0),2)","v":1604.98},{"$f":"INDEX('202008'!$B$5:$C$29,MATCH('월별 설비용량'!R$4,'202008'!$B$5:$B$29,0),2)","v":192.37700000000001},{"$f":"INDEX('202008'!$B$5:$C$29,MATCH('월별 설비용량'!S$4,'202008'!$B$5:$B$29,0),2)","v":255.5},{"$f":"INDEX('202008'!$B$5:$C$29,MATCH('월별 설비용량'!T$4,'202008'!$B$5:$B$29,0),2)","v":84.549000000000007},{"$f":"INDEX('202008'!$B$5:$C$29,MATCH('월별 설비용량'!U$4,'202008'!$B$5:$B$29,0),2)","v":66.150000000000006},{"$f":"INDEX('202008'!$B$5:$C$29,MATCH('월별 설비용량'!V$4,'202008'!$B$5:$B$29,0),2)","v":641.05399999999997},{"$f":"INDEX('202008'!$B$5:$C$29,MATCH('월별 설비용량'!W$4,'202008'!$B$5:$B$29,0),2)","v":350},{"$f":"SUM(T33:W33)","v":1141.7529999999999},0,0,0,{"$f":"SUM(Y33:AA33)","v":0},{"$f":"M33+N33+O33+P33+Q33+R33+S33+X33+AB33","v":9944.7610000000004}]
[{"$f":"L34","v":"2020-07-31"},{"$f":"M34","v":572.66800000000001},{"$f":"N34","v":346.33},{"$f":"O34","v":4239.8389999999999},{"$f":"P34","v":1578.133},{"$f":"Q34+R34","v":1797.07},{"$f":"S34","v":255.5},{"$f":"X34","v":1141.258},{"$f":"AB34","v":0},{"$f":"AC34","v":9930.7979999999989},null,"2020-07-31",{"$f":"INDEX('202007'!$B$5:$C$29,MATCH('월별 설비용량'!M$4,'202007'!$B$5:$B$29,0),2)","v":572.66800000000001},{"$f":"INDEX('202007'!$B$5:$C$29,MATCH('월별 설비용량'!N$4,'202007'!$B$5:$B$29,0),2)","v":346.33},{"$f":"INDEX('202007'!$B$5:$C$29,MATCH('월별 설비용량'!O$4,'202007'!$B$5:$B$29,0),2)","v":4239.8389999999999},{"$f":"INDEX('202007'!$B$5:$C$29,MATCH('월별 설비용량'!P$4,'202007'!$B$5:$B$29,0),2)","v":1578.133},{"$f":"INDEX('202007'!$B$5:$C$29,MATCH('월별 설비용량'!Q$4,'202007'!$B$5:$B$29,0),2)","v":1604.98},{"$f":"INDEX('202007'!$B$5:$C$29,MATCH('월별 설비용량'!R$4,'202007'!$B$5:$B$29,0),2)","v":192.09},{"$f":"INDEX('202007'!$B$5:$C$29,MATCH('월별 설비용량'!S$4,'202007'!$B$5:$B$29,0),2)","v":255.5},{"$f":"INDEX('202007'!$B$5:$C$29,MATCH('월별 설비용량'!T$4,'202007'!$B$5:$B$29,0),2)","v":84.054000000000002},{"$f":"INDEX('202007'!$B$5:$C$29,MATCH('월별 설비용량'!U$4,'202007'!$B$5:$B$29,0),2)","v":66.150000000000006},{"$f":"INDEX('202007'!$B$5:$C$29,MATCH('월별 설비용량'!V$4,'202007'!$B$5:$B$29,0),2)","v":641.05399999999997},{"$f":"INDEX('202007'!$B$5:$C$29,MATCH('월별 설비용량'!W$4,'202007'!$B$5:$B$29,0),2)","v":350},{"$f":"SUM(T34:W34)","v":1141.258},0,0,0,{"$f":"SUM(Y34:AA34)","v":0},{"$f":"M34+N34+O34+P34+Q34+R34+S34+X34+AB34","v":9930.7979999999989}]
[{"$f":"L35","v":"2020-06-30"},{"$f":"M35","v":549.56799999999998},{"$f":"N35","v":346.33},{"$f":"O35","v":4203.1170000000002},{"$f":"P35","v":1575.133},{"$f":"Q35+R35","v":1797.07},{"$f":"S35","v":255.5},{"$f":"X35","v":940.41300000000001},{"$f":"AB35","v":0},{"$f":"AC35","v":9667.1310000000012},null,"2020-06-30",{"$f":"INDEX('202006'!$B$5:$C$29,MATCH('월별 설비용량'!M$4,'202006'!$B$5:$B$29,0),2)","v":549.56799999999998},{"$f":"INDEX('202006'!$B$5:$C$29,MATCH('월별 설비용량'!N$4,'202006'!$B$5:$B$29,0),2)","v":346.33},{"$f":"INDEX('202006'!$B$5:$C$29,MATCH('월별 설비용량'!O$4,'202006'!$B$5:$B$29,0),2)","v":4203.1170000000002},{"$f":"INDEX('202006'!$B$5:$C$29,MATCH('월별 설비용량'!P$4,'202006'!$B$5:$B$29,0),2)","v":1575.133},{"$f":"INDEX('202006'!$B$5:$C$29,MATCH('월별 설비용량'!Q$4,'202006'!$B$5:$B$29,0),2)","v":1604.98},{"$f":"INDEX('202006'!$B$5:$C$29,MATCH('월별 설비용량'!R$4,'202006'!$B$5:$B$29,0),2)","v":192.09},{"$f":"INDEX('202006'!$B$5:$C$29,MATCH('월별 설비용량'!S$4,'202006'!$B$5:$B$29,0),2)","v":255.5},{"$f":"INDEX('202006'!$B$5:$C$29,MATCH('월별 설비용량'!T$4,'202006'!$B$5:$B$29,0),2)","v":83.209000000000003},{"$f":"INDEX('202006'!$B$5:$C$29,MATCH('월별 설비용량'!U$4,'202006'!$B$5:$B$29,0),2)","v":66.150000000000006},{"$f":"INDEX('202006'!$B$5:$C$29,MATCH('월별 설비용량'!V$4,'202006'!$B$5:$B$29,0),2)","v":441.05399999999997},{"$f":"INDEX('202006'!$B$5:$C$29,MATCH('월별 설비용량'!W$4,'202006'!$B$5:$B$29,0),2)","v":350},{"$f":"SUM(T35:W35)","v":940.41300000000001},0,0,0,{"$f":"SUM(Y35:AA35)","v":0},{"$f":"M35+N35+O35+P35+Q35+R35+S35+X35+AB35","v":9667.1310000000012}]
[{"$f":"L36","v":"2020-05-31"},{"$f":"M36","v":530.53},{"$f":"N36","v":346.33},{"$f":"O36","v":3878.6689999999999},{"$f":"P36","v":1563.5830000000001},{"$f":"Q36+R36","v":1797.07},{"$f":"S36","v":255.5},{"$f":"X36","v":939.30099999999993},{"$f":"AB36","v":0},{"$f":"AC36","v":9310.9829999999984},null,"2020-05-31",{"$f":"INDEX('202005'!$B$5:$C$29,MATCH('월별 설비용량'!M$4,'202005'!$B$5:$B$29,0),2)","v":530.53},{"$f":"INDEX('202005'!$B$5:$C$29,MATCH('월별 설비용량'!N$4,'202005'!$B$5:$B$29,0),2)","v":346.33},{"$f":"INDEX('202005'!$B$5:$C$29,MATCH('월별 설비용량'!O$4,'202005'!$B$5:$B$29,0),2)","v":3878.6689999999999},{"$f":"INDEX('202005'!$B$5:$C$29,MATCH('월별 설비용량'!P$4,'202005'!$B$5:$B$29,0),2)","v":1563.5830000000001},{"$f":"INDEX('202005'!$B$5:$C$29,MATCH('월별 설비용량'!Q$4,'202005'!$B$5:$B$29,0),2)","v":1604.98},{"$f":"INDEX('202005'!$B$5:$C$29,MATCH('월별 설비용량'!R$4,'202005'!$B$5:$B$29,0),2)","v":192.09},{"$f":"INDEX('202005'!$B$5:$C$29,MATCH('월별 설비용량'!S$4,'202005'!$B$5:$B$29,0),2)","v":255.5},{"$f":"INDEX('202005'!$B$5:$C$29,MATCH('월별 설비용량'!T$4,'202005'!$B$5:$B$29,0),2)","v":83.022000000000006},{"$f":"INDEX('202005'!$B$5:$C$29,MATCH('월별 설비용량'!U$4,'202005'!$B$5:$B$29,0),2)","v":65.224999999999994},{"$f":"INDEX('202005'!$B$5:$C$29,MATCH('월별 설비용량'!V$4,'202005'!$B$5:$B$29,0),2)","v":441.05399999999997},{"$f":"INDEX('202005'!$B$5:$C$29,MATCH('월별 설비용량'!W$4,'202005'!$B$5:$B$29,0),2)","v":350},{"$f":"SUM(T36:W36)","v":939.30099999999993},0,0,0,{"$f":"SUM(Y36:AA36)","v":0},{"$f":"M36+N36+O36+P36+Q36+R36+S36+X36+AB36","v":9310.9829999999984}]
["2020-04-30",{"$f":"M37","v":530.53},{"$f":"N37","v":346.33},{"$f":"O37","v":3755.5650000000001},{"$f":"P37","v":1562.173},{"$f":"Q37+R37","v":1797.07},{"$f":"S37","v":255.5},{"$f":"X37","v":898.82399999999996},{"$f":"AB37","v":0},{"$f":"AC37","v":9145.9920000000002},null,"2020-04-30",{"$f":"INDEX('202004'!$B$5:$C$29,MATCH('월별 설비용량'!M$4,'202004'!$B$5:$B$29,0),2)","v":530.53},{"$f":"INDEX('202004'!$B$5:$C$29,MATCH('월별 설비용량'!N$4,'202004'!$B$5:$B$29,0),2)","v":346.33},{"$f":"INDEX('202004'!$B$5:$C$29,MATCH('월별 설비용량'!O$4,'202004'!$B$5:$B$29,0),2)","v":3755.5650000000001},{"$f":"INDEX('202004'!$B$5:$C$29,MATCH('월별 설비용량'!P$4,'202004'!$B$5:$B$29,0),2)","v":1562.173},{"$f":"INDEX('202004'!$B$5:$C$29,MATCH('월별 설비용량'!Q$4,'202004'!$B$5:$B$29,0),2)","v":1604.98},{"$f":"INDEX('202004'!$B$5:$C$29,MATCH('월별 설비용량'!R$4,'202004'!$B$5:$B$29,0),2)","v":192.09},{"$f":"INDEX('202004'!$B$5:$C$29,MATCH('월별 설비용량'!S$4,'202004'!$B$5:$B$29,0),2)","v":255.5},{"$f":"INDEX('202004'!$B$5:$C$29,MATCH('월별 설비용량'!T$4,'202004'!$B$5:$B$29,0),2)","v":81.622},{"$f":"INDEX('202004'!$B$5:$C$29,MATCH('월별 설비용량'!U$4,'202004'!$B$5:$B$29,0),2)","v":66.147999999999996},{"$f":"INDEX('202004'!$B$5:$C$29,MATCH('월별 설비용량'!V$4,'202004'!$B$5:$B$29,0),2)","v":401.05399999999997},{"$f":"INDEX('202004'!$B$5:$C$29,MATCH('월별 설비용량'!W$4,'202004'!$B$5:$B$29,0),2)","v":350},{"$f":"SUM(T37:W37)","v":898.82399999999996},0,0,0,{"$f":"SUM(Y37:AA37)","v":0},{"$f":"M37+N37+O37+P37+Q37+R37+S37+X37+AB37","v":9145.9920000000002}]
["2020-03-31",{"$f":"M38","v":510.73},{"$f":"N38","v":346.33},{"$f":"O38","v":3706.89},{"$f":"P38","v":1562.173},{"$f":"Q38+R38","v":1794.94},{"$f":"S38","v":255.5},{"$f":"X38","v":889.41899999999998},{"$f":"AB38","v":0},{"$f":"AC38","v":9065.982},null,"2020-03-31",{"$f":"INDEX('202003'!$B$5:$C$29,MATCH('월별 설비용량'!M$4,'202003'!$B$5:$B$29,0),2)","v":510.73},{"$f":"INDEX('202003'!$B$5:$C$29,MATCH('월별 설비용량'!N$4,'202003'!$B$5:$B$29,0),2)","v":346.33},{"$f":"INDEX('202003'!$B$5:$C$29,MATCH('월별 설비용량'!O$4,'202003'!$B$5:$B$29,0),2)","v":3706.89},{"$f":"INDEX('202003'!$B$5:$C$29,MATCH('월별 설비용량'!P$4,'202003'!$B$5:$B$29,0),2)","v":1562.173},{"$f":"INDEX('202003'!$B$5:$C$29,MATCH('월별 설비용량'!Q$4,'202003'!$B$5:$B$29,0),2)","v":1604.98},{"$f":"INDEX('202003'!$B$5:$C$29,MATCH('월별 설비용량'!R$4,'202003'!$B$5:$B$29,0),2)","v":189.96},{"$f":"INDEX('202003'!$B$5:$C$29,MATCH('월별 설비용량'!S$4,'202003'!$B$5:$B$29,0),2)","v":255.5},{"$f":"INDEX('202003'!$B$5:$C$29,MATCH('월별 설비용량'!T$4,'202003'!$B$5:$B$29,0),2)","v":82.117000000000004},{"$f":"INDEX('202003'!$B$5:$C$29,MATCH('월별 설비용량'!U$4,'202003'!$B$5:$B$29,0),2)","v":66.147999999999996},{"$f":"INDEX('202003'!$B$5:$C$29,MATCH('월별 설비용량'!V$4,'202003'!$B$5:$B$29,0),2)","v":391.154},{"$f":"INDEX('202003'!$B$5:$C$29,MATCH('월별 설비용량'!W$4,'202003'!$B$5:$B$29,0),2)","v":350},{"$f":"SUM(T38:W38)","v":889.41899999999998},0,0,0,{"$f":"SUM(Y38:AA38)","v":0},{"$f":"M38+N38+O38+P38+Q38+R38+S38+X38+AB38","v":9065.982}]
["2020-02-29",{"$f":"M39","v":485.69},{"$f":"N39","v":346.33},{"$f":"O39","v":3665.9290000000001},{"$f":"P39","v":1562.173},{"$f":"Q39+R39","v":1794.94},{"$f":"S39","v":255.5},{"$f":"X39","v":889.41899999999998},{"$f":"AB39","v":0},{"$f":"AC39","v":8999.9810000000016},null,"2020-02-29",{"$f":"INDEX('202002'!$B$5:$C$29,MATCH('월별 설비용량'!M$4,'202002'!$B$5:$B$29,0),2)","v":485.69},{"$f":"INDEX('202002'!$B$5:$C$29,MATCH('월별 설비용량'!N$4,'202002'!$B$5:$B$29,0),2)","v":346.33},{"$f":"INDEX('202002'!$B$5:$C$29,MATCH('월별 설비용량'!O$4,'202002'!$B$5:$B$29,0),2)","v":3665.9290000000001},{"$f":"INDEX('202002'!$B$5:$C$29,MATCH('월별 설비용량'!P$4,'202002'!$B$5:$B$29,0),2)","v":1562.173},{"$f":"INDEX('202002'!$B$5:$C$29,MATCH('월별 설비용량'!Q$4,'202002'!$B$5:$B$29,0),2)","v":1604.98},{"$f":"INDEX('202002'!$B$5:$C$29,MATCH('월별 설비용량'!R$4,'202002'!$B$5:$B$29,0),2)","v":189.96},{"$f":"INDEX('202002'!$B$5:$C$29,MATCH('월별 설비용량'!S$4,'202002'!$B$5:$B$29,0),2)","v":255.5},{"$f":"INDEX('202002'!$B$5:$C$29,MATCH('월별 설비용량'!T$4,'202002'!$B$5:$B$29,0),2)","v":82.117000000000004},{"$f":"INDEX('202002'!$B$5:$C$29,MATCH('월별 설비용량'!U$4,'202002'!$B$5:$B$29,0),2)","v":66.147999999999996},{"$f":"INDEX('202002'!$B$5:$C$29,MATCH('월별 설비용량'!V$4,'202002'!$B$5:$B$29,0),2)","v":391.154},{"$f":"INDEX('202002'!$B$5:$C$29,MATCH('월별 설비용량'!W$4,'202002'!$B$5:$B$29,0),2)","v":350},{"$f":"SUM(T39:W39)","v":889.41899999999998},0,0,0,{"$f":"SUM(Y39:AA39)","v":0},{"$f":"M39+N39+O39+P39+Q39+R39+S39+X39+AB39","v":8999.9810000000016}]
["2020-01-31",{"$f":"M40","v":485.69},{"$f":"N40","v":346.33},{"$f":"O40","v":3516.15},{"$f":"P40","v":1562.173},{"$f":"Q40+R40","v":1794.94},{"$f":"S40","v":255.5},{"$f":"X40","v":894.61899999999991},{"$f":"AB40","v":0},{"$f":"AC40","v":8855.402},null,"2020-01-31",{"$f":"INDEX('202001'!$B$5:$C$29,MATCH('월별 설비용량'!M$4,'202001'!$B$5:$B$29,0),2)","v":485.69},{"$f":"INDEX('202001'!$B$5:$C$29,MATCH('월별 설비용량'!N$4,'202001'!$B$5:$B$29,0),2)","v":346.33},{"$f":"INDEX('202001'!$B$5:$C$29,MATCH('월별 설비용량'!O$4,'202001'!$B$5:$B$29,0),2)","v":3516.15},{"$f":"INDEX('202001'!$B$5:$C$29,MATCH('월별 설비용량'!P$4,'202001'!$B$5:$B$29,0),2)","v":1562.173},{"$f":"INDEX('202001'!$B$5:$C$29,MATCH('월별 설비용량'!Q$4,'202001'!$B$5:$B$29,0),2)","v":1604.98},{"$f":"INDEX('202001'!$B$5:$C$29,MATCH('월별 설비용량'!R$4,'202001'!$B$5:$B$29,0),2)","v":189.96},{"$f":"INDEX('202001'!$B$5:$C$29,MATCH('월별 설비용량'!S$4,'202001'!$B$5:$B$29,0),2)","v":255.5},{"$f":"INDEX('202001'!$B$5:$C$29,MATCH('월별 설비용량'!T$4,'202001'!$B$5:$B$29,0),2)","v":87.117000000000004},{"$f":"INDEX('202001'!$B$5:$C$29,MATCH('월별 설비용량'!U$4,'202001'!$B$5:$B$29,0),2)","v":66.147999999999996},{"$f":"INDEX('202001'!$B$5:$C$29,MATCH('월별 설비용량'!V$4,'202001'!$B$5:$B$29,0),2)","v":391.35399999999998},{"$f":"INDEX('202001'!$B$5:$C$29,MATCH('월별 설비용량'!W$4,'202001'!$B$5:$B$29,0),2)","v":350},{"$f":"SUM(T40:W40)","v":894.61899999999991},0,0,0,{"$f":"SUM(Y40:AA40)","v":0},{"$f":"M40+N40+O40+P40+Q40+R40+S40+X40+AB40","v":8855.402}]
["2019-12-31",{"$f":"M41","v":479.91},{"$f":"N41","v":346.33},{"$f":"O41","v":3394.0889999999999},{"$f":"P41","v":1562.173},{"$f":"Q41+R41","v":1794.94},{"$f":"S41","v":255.5},{"$f":"X41","v":894.61899999999991},{"$f":"AB41","v":0},{"$f":"AC41","v":8727.5609999999997},null,"2019-12-31",{"$f":"INDEX('201912'!$B$5:$C$29,MATCH('월별 설비용량'!M$4,'201912'!$B$5:$B$29,0),2)","v":479.91},{"$f":"INDEX('201912'!$B$5:$C$29,MATCH('월별 설비용량'!N$4,'201912'!$B$5:$B$29,0),2)","v":346.33},{"$f":"INDEX('201912'!$B$5:$C$29,MATCH('월별 설비용량'!O$4,'201912'!$B$5:$B$29,0),2)","v":3394.0889999999999},{"$f":"INDEX('201912'!$B$5:$C$29,MATCH('월별 설비용량'!P$4,'201912'!$B$5:$B$29,0),2)","v":1562.173},{"$f":"INDEX('201912'!$B$5:$C$29,MATCH('월별 설비용량'!Q$4,'201912'!$B$5:$B$29,0),2)","v":1604.98},{"$f":"INDEX('201912'!$B$5:$C$29,MATCH('월별 설비용량'!R$4,'201912'!$B$5:$B$29,0),2)","v":189.96},{"$f":"INDEX('201912'!$B$5:$C$29,MATCH('월별 설비용량'!S$4,'201912'!$B$5:$B$29,0),2)","v":255.5},{"$f":"INDEX('201912'!$B$5:$C$29,MATCH('월별 설비용량'!T$4,'201912'!$B$5:$B$29,0),2)","v":87.117000000000004},{"$f":"INDEX('201912'!$B$5:$C$29,MATCH('월별 설비용량'!U$4,'201912'!$B$5:$B$29,0),2)","v":66.147999999999996},{"$f":"INDEX('201912'!$B$5:$C$29,MATCH('월별 설비용량'!V$4,'201912'!$B$5:$B$29,0),2)","v":391.35399999999998},{"$f":"INDEX('201912'!$B$5:$C$29,MATCH('월별 설비용량'!W$4,'201912'!$B$5:$B$29,0),2)","v":350},{"$f":"SUM(T41:W41)","v":894.61899999999991},0,0,0,{"$f":"SUM(Y41:AA41)","v":0},{"$f":"M41+N41+O41+P41+Q41+R41+S41+X41+AB41","v":8727.5609999999997}]
[{"$f":"L42","v":"2019-11-30"},{"$f":"M42","v":449.55},{"$f":"N42","v":346.33},{"$f":"O42","v":3235.7820000000002},{"$f":"P42","v":1562.8330000000001},{"$f":"Q42+R42","v":1794.94},{"$f":"S42","v":255.5},{"$f":"X42","v":894.61899999999991},{"$f":"AB42","v":0},{"$f":"AC42","v":8539.5540000000001},null,"2019-11-30",{"$f":"INDEX('201911'!$B$5:$C$29,MATCH('월별 설비용량'!M$4,'201911'!$B$5:$B$29,0),2)","v":449.55},{"$f":"INDEX('201911'!$B$5:$C$29,MATCH('월별 설비용량'!N$4,'201911'!$B$5:$B$29,0),2)","v":346.33},{"$f":"INDEX('201911'!$B$5:$C$29,MATCH('월별 설비용량'!O$4,'201911'!$B$5:$B$29,0),2)","v":3235.7820000000002},{"$f":"INDEX('201911'!$B$5:$C$29,MATCH('월별 설비용량'!P$4,'201911'!$B$5:$B$29,0),2)","v":1562.8330000000001},{"$f":"INDEX('201911'!$B$5:$C$29,MATCH('월별 설비용량'!Q$4,'201911'!$B$5:$B$29,0),2)","v":1604.98},{"$f":"INDEX('201911'!$B$5:$C$29,MATCH('월별 설비용량'!R$4,'201911'!$B$5:$B$29,0),2)","v":189.96},{"$f":"INDEX('201911'!$B$5:$C$29,MATCH('월별 설비용량'!S$4,'201911'!$B$5:$B$29,0),2)","v":255.5},{"$f":"INDEX('201911'!$B$5:$C$29,MATCH('월별 설비용량'!T$4,'201911'!$B$5:$B$29,0),2)","v":87.117000000000004},{"$f":"INDEX('201911'!$B$5:$C$29,MATCH('월별 설비용량'!U$4,'201911'!$B$5:$B$29,0),2)","v":66.147999999999996},{"$f":"INDEX('201911'!$B$5:$C$29,MATCH('월별 설비용량'!V$4,'201911'!$B$5:$B$29,0),2)","v":391.35399999999998},{"$f":"INDEX('201911'!$B$5:$C$29,MATCH('월별 설비용량'!W$4,'201911'!$B$5:$B$29,0),2)","v":350},{"$f":"SUM(T42:W42)","v":894.61899999999991},0,0,0,{"$f":"SUM(Y42:AA42)","v":0},{"$f":"M42+N42+O42+P42+Q42+R42+S42+X42+AB42","v":8539.5540000000001}]
[{"$f":"L43","v":"2019-10-31"},{"$f":"M43","v":444.57},{"$f":"N43","v":346.33},{"$f":"O43","v":3184.6909999999998},{"$f":"P43","v":1562.8330000000001},{"$f":"Q43+R43","v":1791.038},{"$f":"S43","v":255.5},{"$f":"X43","v":889.61899999999991},{"$f":"AB43","v":0},{"$f":"AC43","v":8474.5810000000001},null,"2019-10-31",{"$f":"INDEX('201910'!$B$5:$C$29,MATCH('월별 설비용량'!M$4,'201910'!$B$5:$B$29,0),2)","v":444.57},{"$f":"INDEX('201910'!$B$5:$C$29,MATCH('월별 설비용량'!N$4,'201910'!$B$5:$B$29,0),2)","v":346.33},{"$f":"INDEX('201910'!$B$5:$C$29,MATCH('월별 설비용량'!O$4,'201910'!$B$5:$B$29,0),2)","v":3184.6909999999998},{"$f":"INDEX('201910'!$B$5:$C$29,MATCH('월별 설비용량'!P$4,'201910'!$B$5:$B$29,0),2)","v":1562.8330000000001},{"$f":"INDEX('201910'!$B$5:$C$29,MATCH('월별 설비용량'!Q$4,'201910'!$B$5:$B$29,0),2)","v":1600.98},{"$f":"INDEX('201910'!$B$5:$C$29,MATCH('월별 설비용량'!R$4,'201910'!$B$5:$B$29,0),2)","v":190.05799999999999},{"$f":"INDEX('201910'!$B$5:$C$29,MATCH('월별 설비용량'!S$4,'201910'!$B$5:$B$29,0),2)","v":255.5},{"$f":"INDEX('201910'!$B$5:$C$29,MATCH('월별 설비용량'!T$4,'201910'!$B$5:$B$29,0),2)","v":87.117000000000004},{"$f":"INDEX('201910'!$B$5:$C$29,MATCH('월별 설비용량'!U$4,'201910'!$B$5:$B$29,0),2)","v":66.147999999999996},{"$f":"INDEX('201910'!$B$5:$C$29,MATCH('월별 설비용량'!V$4,'201910'!$B$5:$B$29,0),2)","v":386.35399999999998},{"$f":"INDEX('201910'!$B$5:$C$29,MATCH('월별 설비용량'!W$4,'201910'!$B$5:$B$29,0),2)","v":350},{"$f":"SUM(T43:W43)","v":889.61899999999991},0,0,0,{"$f":"SUM(Y43:AA43)","v":0},{"$f":"M43+N43+O43+P43+Q43+R43+S43+X43+AB43","v":8474.5810000000001}]
[{"$f":"L44","v":"2019-09-30"},{"$f":"M44","v":443.67},{"$f":"N44","v":346.33},{"$f":"O44","v":3136.998},{"$f":"P44","v":1537.633},{"$f":"Q44+R44","v":1791.038},{"$f":"S44","v":255.5},{"$f":"X44","v":889.61899999999991},{"$f":"AB44","v":4515.3119999999999},{"$f":"AC44","v":12916.1},null,"2019-09-30",{"$f":"INDEX('201909'!$B$5:$C$29,MATCH('월별 설비용량'!M$4,'201909'!$B$5:$B$29,0),2)","v":443.67},{"$f":"INDEX('201909'!$B$5:$C$29,MATCH('월별 설비용량'!N$4,'201909'!$B$5:$B$29,0),2)","v":346.33},{"$f":"INDEX('201909'!$B$5:$C$29,MATCH('월별 설비용량'!O$4,'201909'!$B$5:$B$29,0),2)","v":3136.998},{"$f":"INDEX('201909'!$B$5:$C$29,MATCH('월별 설비용량'!P$4,'201909'!$B$5:$B$29,0),2)","v":1537.633},{"$f":"INDEX('201909'!$B$5:$C$29,MATCH('월별 설비용량'!Q$4,'201909'!$B$5:$B$29,0),2)","v":1600.98},{"$f":"INDEX('201909'!$B$5:$C$29,MATCH('월별 설비용량'!R$4,'201909'!$B$5:$B$29,0),2)","v":190.05799999999999},{"$f":"INDEX('201909'!$B$5:$C$29,MATCH('월별 설비용량'!S$4,'201909'!$B$5:$B$29,0),2)","v":255.5},{"$f":"INDEX('201909'!$B$5:$C$29,MATCH('월별 설비용량'!T$4,'201909'!$B$5:$B$29,0),2)","v":87.117000000000004},{"$f":"INDEX('201909'!$B$5:$C$29,MATCH('월별 설비용량'!U$4,'201909'!$B$5:$B$29,0),2)","v":66.147999999999996},{"$f":"INDEX('201909'!$B$5:$C$29,MATCH('월별 설비용량'!V$4,'201909'!$B$5:$B$29,0),2)","v":386.35399999999998},{"$f":"INDEX('201909'!$B$5:$C$29,MATCH('월별 설비용량'!W$4,'201909'!$B$5:$B$29,0),2)","v":350},{"$f":"SUM(T44:W44)","v":889.61899999999991},{"$f":"INDEX('201909'!$B$5:$C$29,MATCH('월별 설비용량'!Y$4,'201909'!$B$5:$B$29,0),2)","v":4243.47},0,{"$f":"INDEX('201909'!$B$5:$C$29,MATCH('월별 설비용량'!AA$4,'201909'!$B$5:$B$29,0),2)","v":271.84199999999998},{"$f":"SUM(Y44:AA44)","v":4515.3119999999999},{"$f":"M44+N44+O44+P44+Q44+R44+S44+X44+AB44","v":12916.1}]
[{"$f":"L45","v":"2019-08-31"},{"$f":"M45","v":423.43},{"$f":"N45","v":346.33},{"$f":"O45","v":3101.36},{"$f":"P45","v":1481.308},{"$f":"Q45+R45","v":1791.038},{"$f":"S45","v":255.5},{"$f":"X45","v":880.94900000000007},{"$f":"AB45","v":3281.422},{"$f":"AC45","v":11561.337},null,"2019-08-31",{"$f":"INDEX('201908'!$B$5:$C$29,MATCH('월별 설비용량'!M$4,'201908'!$B$5:$B$29,0),2)","v":423.43},{"$f":"INDEX('201908'!$B$5:$C$29,MATCH('월별 설비용량'!N$4,'201908'!$B$5:$B$29,0),2)","v":346.33},{"$f":"INDEX('201908'!$B$5:$C$29,MATCH('월별 설비용량'!O$4,'201908'!$B$5:$B$29,0),2)","v":3101.36},{"$f":"INDEX('201908'!$B$5:$C$29,MATCH('월별 설비용량'!P$4,'201908'!$B$5:$B$29,0),2)","v":1481.308},{"$f":"INDEX('201908'!$B$5:$C$29,MATCH('월별 설비용량'!Q$4,'201908'!$B$5:$B$29,0),2)","v":1600.98},{"$f":"INDEX('201908'!$B$5:$C$29,MATCH('월별 설비용량'!R$4,'201908'!$B$5:$B$29,0),2)","v":190.05799999999999},{"$f":"INDEX('201908'!$B$5:$C$29,MATCH('월별 설비용량'!S$4,'201908'!$B$5:$B$29,0),2)","v":255.5},{"$f":"INDEX('201908'!$B$5:$C$29,MATCH('월별 설비용량'!T$4,'201908'!$B$5:$B$29,0),2)","v":87.117000000000004},{"$f":"INDEX('201908'!$B$5:$C$29,MATCH('월별 설비용량'!U$4,'201908'!$B$5:$B$29,0),2)","v":65.447999999999993},{"$f":"INDEX('201908'!$B$5:$C$29,MATCH('월별 설비용량'!V$4,'201908'!$B$5:$B$29,0),2)","v":378.38400000000001},{"$f":"INDEX('201908'!$B$5:$C$29,MATCH('월별 설비용량'!W$4,'201908'!$B$5:$B$29,0),2)","v":350},{"$f":"SUM(T45:W45)","v":880.94900000000007},{"$f":"INDEX('201908'!$B$5:$C$29,MATCH('월별 설비용량'!Y$4,'201908'!$B$5:$B$29,0),2)","v":3009.58},0,{"$f":"INDEX('201908'!$B$5:$C$29,MATCH('월별 설비용량'!AA$4,'201908'!$B$5:$B$29,0),2)","v":271.84199999999998},{"$f":"SUM(Y45:AA45)","v":3281.422},{"$f":"M45+N45+O45+P45+Q45+R45+S45+X45+AB45","v":11561.337}]
[{"$f":"L46","v":"2019-07-31"},{"$f":"M46","v":423.43},{"$f":"N46","v":346.33},{"$f":"O46","v":3052.7739999999999},{"$f":"P46","v":1481.308},{"$f":"Q46+R46","v":1790.9880000000001},{"$f":"S46","v":255.5},{"$f":"X46","v":881.84900000000005},{"$f":"AB46","v":3282.3220000000001},{"$f":"AC46","v":11514.501},null,"2019-07-31",{"$f":"INDEX('201907'!$B$5:$C$29,MATCH('월별 설비용량'!M$4,'201907'!$B$5:$B$29,0),2)","v":423.43},{"$f":"INDEX('201907'!$B$5:$C$29,MATCH('월별 설비용량'!N$4,'201907'!$B$5:$B$29,0),2)","v":346.33},{"$f":"INDEX('201907'!$B$5:$C$29,MATCH('월별 설비용량'!O$4,'201907'!$B$5:$B$29,0),2)","v":3052.7739999999999},{"$f":"INDEX('201907'!$B$5:$C$29,MATCH('월별 설비용량'!P$4,'201907'!$B$5:$B$29,0),2)","v":1481.308},{"$f":"INDEX('201907'!$B$5:$C$29,MATCH('월별 설비용량'!Q$4,'201907'!$B$5:$B$29,0),2)","v":1600.98},{"$f":"INDEX('201907'!$B$5:$C$29,MATCH('월별 설비용량'!R$4,'201907'!$B$5:$B$29,0),2)","v":190.00800000000001},{"$f":"INDEX('201907'!$B$5:$C$29,MATCH('월별 설비용량'!S$4,'201907'!$B$5:$B$29,0),2)","v":255.5},{"$f":"INDEX('201907'!$B$5:$C$29,MATCH('월별 설비용량'!T$4,'201907'!$B$5:$B$29,0),2)","v":87.117000000000004},{"$f":"INDEX('201907'!$B$5:$C$29,MATCH('월별 설비용량'!U$4,'201907'!$B$5:$B$29,0),2)","v":66.347999999999999},{"$f":"INDEX('201907'!$B$5:$C$29,MATCH('월별 설비용량'!V$4,'201907'!$B$5:$B$29,0),2)","v":378.38400000000001},{"$f":"INDEX('201907'!$B$5:$C$29,MATCH('월별 설비용량'!W$4,'201907'!$B$5:$B$29,0),2)","v":350},881.84900000000005,{"$f":"INDEX('201907'!$B$5:$C$29,MATCH('월별 설비용량'!Y$4,'201907'!$B$5:$B$29,0),2)","v":3009.58},0,{"$f":"INDEX('201907'!$B$5:$C$29,MATCH('월별 설비용량'!AA$4,'201907'!$B$5:$B$29,0),2)","v":272.74200000000002},{"$f":"SUM(Y46:AA46)","v":3282.3220000000001},{"$f":"M46+N46+O46+P46+Q46+R46+S46+X46+AB46","v":11514.501}]
[{"$f":"L47","v":"2019-06-30"},{"$f":"M47","v":373.27},{"$f":"N47","v":346.33},{"$f":"O47","v":2995.0549999999998},{"$f":"P47","v":1421.308},{"$f":"Q47+R47","v":1790.9880000000001},{"$f":"S47","v":255},{"$f":"X47","v":781.84900000000005},{"$f":"AB47","v":3278.3719999999998},{"$f":"AC47","v":11242.171999999999},null,"2019-06-30",{"$f":"INDEX('201906'!$B$5:$C$29,MATCH('월별 설비용량'!M$4,'201906'!$B$5:$B$29,0),2)","v":373.27},{"$f":"INDEX('201906'!$B$5:$C$29,MATCH('월별 설비용량'!N$4,'201906'!$B$5:$B$29,0),2)","v":346.33},{"$f":"INDEX('201906'!$B$5:$C$29,MATCH('월별 설비용량'!O$4,'201906'!$B$5:$B$29,0),2)","v":2995.0549999999998},{"$f":"INDEX('201906'!$B$5:$C$29,MATCH('월별 설비용량'!P$4,'201906'!$B$5:$B$29,0),2)","v":1421.308},{"$f":"INDEX('201906'!$B$5:$C$29,MATCH('월별 설비용량'!Q$4,'201906'!$B$5:$B$29,0),2)","v":1600.98},{"$f":"INDEX('201906'!$B$5:$C$29,MATCH('월별 설비용량'!R$4,'201906'!$B$5:$B$29,0),2)","v":190.00800000000001},{"$f":"INDEX('201906'!$B$5:$C$29,MATCH('월별 설비용량'!S$4,'201906'!$B$5:$B$29,0),2)","v":255},{"$f":"INDEX('201906'!$B$5:$C$29,MATCH('월별 설비용량'!T$4,'201906'!$B$5:$B$29,0),2)","v":87.117000000000004},{"$f":"INDEX('201906'!$B$5:$C$29,MATCH('월별 설비용량'!U$4,'201906'!$B$5:$B$29,0),2)","v":66.347999999999999},{"$f":"INDEX('201906'!$B$5:$C$29,MATCH('월별 설비용량'!V$4,'201906'!$B$5:$B$29,0),2)","v":378.38400000000001},{"$f":"INDEX('201906'!$B$5:$C$29,MATCH('월별 설비용량'!W$4,'201906'!$B$5:$B$29,0),2)","v":250},781.84900000000005,{"$f":"INDEX('201906'!$B$5:$C$29,MATCH('월별 설비용량'!Y$4,'201906'!$B$5:$B$29,0),2)","v":3009.58},0,{"$f":"INDEX('201906'!$B$5:$C$29,MATCH('월별 설비용량'!AA$4,'201906'!$B$5:$B$29,0),2)","v":268.79199999999997},{"$f":"SUM(Y47:AA47)","v":3278.3719999999998},{"$f":"M47+N47+O47+P47+Q47+R47+S47+X47+AB47","v":11242.171999999999}]
["2019-05-31",{"$f":"M48","v":373.27},{"$f":"N48","v":346.33},{"$f":"O48","v":2851.931},{"$f":"P48","v":1421.308},{"$f":"Q48+R48","v":1788.588},{"$f":"S48","v":255},{"$f":"X48","v":781.09900000000005},{"$f":"AB48","v":3278.3719999999998},{"$f":"AC48","v":11095.897999999999},null,"2019-05-31",{"$f":"INDEX('201905'!$B$5:$C$29,MATCH('월별 설비용량'!M$4,'201905'!$B$5:$B$29,0),2)","v":373.27},{"$f":"INDEX('201905'!$B$5:$C$29,MATCH('월별 설비용량'!N$4,'201905'!$B$5:$B$29,0),2)","v":346.33},{"$f":"INDEX('201905'!$B$5:$C$29,MATCH('월별 설비용량'!O$4,'201905'!$B$5:$B$29,0),2)","v":2851.931},{"$f":"INDEX('201905'!$B$5:$C$29,MATCH('월별 설비용량'!P$4,'201905'!$B$5:$B$29,0),2)","v":1421.308},{"$f":"INDEX('201905'!$B$5:$C$29,MATCH('월별 설비용량'!Q$4,'201905'!$B$5:$B$29,0),2)","v":1600.98},{"$f":"INDEX('201905'!$B$5:$C$29,MATCH('월별 설비용량'!R$4,'201905'!$B$5:$B$29,0),2)","v":187.608},{"$f":"INDEX('201905'!$B$5:$C$29,MATCH('월별 설비용량'!S$4,'201905'!$B$5:$B$29,0),2)","v":255},{"$f":"INDEX('201905'!$B$5:$C$29,MATCH('월별 설비용량'!T$4,'201905'!$B$5:$B$29,0),2)","v":86.367000000000004},{"$f":"INDEX('201905'!$B$5:$C$29,MATCH('월별 설비용량'!U$4,'201905'!$B$5:$B$29,0),2)","v":66.347999999999999},{"$f":"INDEX('201905'!$B$5:$C$29,MATCH('월별 설비용량'!V$4,'201905'!$B$5:$B$29,0),2)","v":378.38400000000001},{"$f":"INDEX('201905'!$B$5:$C$29,MATCH('월별 설비용량'!W$4,'201905'!$B$5:$B$29,0),2)","v":250},781.09900000000005,{"$f":"INDEX('201905'!$B$5:$C$29,MATCH('월별 설비용량'!Y$4,'201905'!$B$5:$B$29,0),2)","v":3009.58},0,{"$f":"INDEX('201905'!$B$5:$C$29,MATCH('월별 설비용량'!AA$4,'201905'!$B$5:$B$29,0),2)","v":268.79199999999997},{"$f":"SUM(Y48:AA48)","v":3278.3719999999998},{"$f":"M48+N48+O48+P48+Q48+R48+S48+X48+AB48","v":11095.897999999999}]
["2019-04-30",{"$f":"M49","v":363.59},{"$f":"N49","v":346.33},{"$f":"O49","v":2811.8780000000002},{"$f":"P49","v":1421.308},{"$f":"Q49+R49","v":1788.588},{"$f":"S49","v":255},{"$f":"X49","v":706.09900000000005},{"$f":"AB49","v":3278.3719999999998},{"$f":"AC49","v":10971.164999999999},null,"2019-04-30",{"$f":"INDEX('201904'!$B$5:$C$29,MATCH('월별 설비용량'!M$4,'201904'!$B$5:$B$29,0),2)","v":363.59},{"$f":"INDEX('201904'!$B$5:$C$29,MATCH('월별 설비용량'!N$4,'201904'!$B$5:$B$29,0),2)","v":346.33},{"$f":"INDEX('201904'!$B$5:$C$29,MATCH('월별 설비용량'!O$4,'201904'!$B$5:$B$29,0),2)","v":2811.8780000000002},{"$f":"INDEX('201904'!$B$5:$C$29,MATCH('월별 설비용량'!P$4,'201904'!$B$5:$B$29,0),2)","v":1421.308},{"$f":"INDEX('201904'!$B$5:$C$29,MATCH('월별 설비용량'!Q$4,'201904'!$B$5:$B$29,0),2)","v":1600.98},{"$f":"INDEX('201904'!$B$5:$C$29,MATCH('월별 설비용량'!R$4,'201904'!$B$5:$B$29,0),2)","v":187.608},{"$f":"INDEX('201904'!$B$5:$C$29,MATCH('월별 설비용량'!S$4,'201904'!$B$5:$B$29,0),2)","v":255},{"$f":"INDEX('201904'!$B$5:$C$29,MATCH('월별 설비용량'!T$4,'201904'!$B$5:$B$29,0),2)","v":86.367000000000004},{"$f":"INDEX('201904'!$B$5:$C$29,MATCH('월별 설비용량'!U$4,'201904'!$B$5:$B$29,0),2)","v":66.347999999999999},{"$f":"INDEX('201904'!$B$5:$C$29,MATCH('월별 설비용량'!V$4,'201904'!$B$5:$B$29,0),2)","v":378.38400000000001},{"$f":"INDEX('201904'!$B$5:$C$29,MATCH('월별 설비용량'!W$4,'201904'!$B$5:$B$29,0),2)","v":175},706.09900000000005,{"$f":"INDEX('201904'!$B$5:$C$29,MATCH('월별 설비용량'!Y$4,'201904'!$B$5:$B$29,0),2)","v":3009.58},0,{"$f":"INDEX('201904'!$B$5:$C$29,MATCH('월별 설비용량'!AA$4,'201904'!$B$5:$B$29,0),2)","v":268.79199999999997},{"$f":"SUM(Y49:AA49)","v":3278.3719999999998},{"$f":"M49+N49+O49+P49+Q49+R49+S49+X49+AB49","v":10971.164999999999}]
[{"$f":"L50","v":"2019-03-31"},{"$f":"M50","v":363.59},{"$f":"N50","v":346.33},{"$f":"O50","v":2777.6329999999998},{"$f":"P50","v":1421.308},{"$f":"Q50+R50","v":1788.588},{"$f":"S50","v":255},{"$f":"X50","v":704.75700000000006},{"$f":"AB50","v":3278.3719999999998},{"$f":"AC50","v":10935.578},null,"2019-03-31",{"$f":"INDEX('201903'!$B$5:$C$29,MATCH('월별 설비용량'!M$4,'201903'!$B$5:$B$29,0),2)","v":363.59},{"$f":"INDEX('201903'!$B$5:$C$29,MATCH('월별 설비용량'!N$4,'201903'!$B$5:$B$29,0),2)","v":346.33},{"$f":"INDEX('201903'!$B$5:$C$29,MATCH('월별 설비용량'!O$4,'201903'!$B$5:$B$29,0),2)","v":2777.6329999999998},{"$f":"INDEX('201903'!$B$5:$C$29,MATCH('월별 설비용량'!P$4,'201903'!$B$5:$B$29,0),2)","v":1421.308},{"$f":"INDEX('201903'!$B$5:$C$29,MATCH('월별 설비용량'!Q$4,'201903'!$B$5:$B$29,0),2)","v":1600.98},{"$f":"INDEX('201903'!$B$5:$C$29,MATCH('월별 설비용량'!R$4,'201903'!$B$5:$B$29,0),2)","v":187.608},{"$f":"INDEX('201903'!$B$5:$C$29,MATCH('월별 설비용량'!S$4,'201903'!$B$5:$B$29,0),2)","v":255},{"$f":"INDEX('201903'!$B$5:$C$29,MATCH('월별 설비용량'!T$4,'201903'!$B$5:$B$29,0),2)","v":83.966999999999999},{"$f":"INDEX('201903'!$B$5:$C$29,MATCH('월별 설비용량'!U$4,'201903'!$B$5:$B$29,0),2)","v":67.406000000000006},{"$f":"INDEX('201903'!$B$5:$C$29,MATCH('월별 설비용량'!V$4,'201903'!$B$5:$B$29,0),2)","v":378.38400000000001},{"$f":"INDEX('201903'!$B$5:$C$29,MATCH('월별 설비용량'!W$4,'201903'!$B$5:$B$29,0),2)","v":175},704.75700000000006,{"$f":"INDEX('201903'!$B$5:$C$29,MATCH('월별 설비용량'!Y$4,'201903'!$B$5:$B$29,0),2)","v":3009.58},0,{"$f":"INDEX('201903'!$B$5:$C$29,MATCH('월별 설비용량'!AA$4,'201903'!$B$5:$B$29,0),2)","v":268.79199999999997},{"$f":"SUM(Y50:AA50)","v":3278.3719999999998},{"$f":"M50+N50+O50+P50+Q50+R50+S50+X50+AB50","v":10935.578}]
[{"$f":"L51","v":"2019-02-28"},{"$f":"M51","v":363.59},{"$f":"N51","v":346.33},{"$f":"O51","v":2729.9380000000001},{"$f":"P51","v":1421.308},{"$f":"Q51+R51","v":1788.588},{"$f":"S51","v":255},{"$f":"X51","v":529.75700000000006},{"$f":"AB51","v":3278.3719999999998},{"$f":"AC51","v":10712.883},null,"2019-02-28",{"$f":"INDEX('201902'!$B$5:$C$29,MATCH('월별 설비용량'!M$4,'201902'!$B$5:$B$29,0),2)","v":363.59},{"$f":"INDEX('201902'!$B$5:$C$29,MATCH('월별 설비용량'!N$4,'201902'!$B$5:$B$29,0),2)","v":346.33},{"$f":"INDEX('201902'!$B$5:$C$29,MATCH('월별 설비용량'!O$4,'201902'!$B$5:$B$29,0),2)","v":2729.9380000000001},{"$f":"INDEX('201902'!$B$5:$C$29,MATCH('월별 설비용량'!P$4,'201902'!$B$5:$B$29,0),2)","v":1421.308},{"$f":"INDEX('201902'!$B$5:$C$29,MATCH('월별 설비용량'!Q$4,'201902'!$B$5:$B$29,0),2)","v":1600.98},{"$f":"INDEX('201902'!$B$5:$C$29,MATCH('월별 설비용량'!R$4,'201902'!$B$5:$B$29,0),2)","v":187.608},{"$f":"INDEX('201902'!$B$5:$C$29,MATCH('월별 설비용량'!S$4,'201902'!$B$5:$B$29,0),2)","v":255},{"$f":"INDEX('201902'!$B$5:$C$29,MATCH('월별 설비용량'!T$4,'201902'!$B$5:$B$29,0),2)","v":83.966999999999999},{"$f":"INDEX('201902'!$B$5:$C$29,MATCH('월별 설비용량'!U$4,'201902'!$B$5:$B$29,0),2)","v":67.406000000000006},{"$f":"INDEX('201902'!$B$5:$C$29,MATCH('월별 설비용량'!V$4,'201902'!$B$5:$B$29,0),2)","v":378.38400000000001},null,{"$f":"T51+U51+V51","v":529.75700000000006},{"$f":"INDEX('201902'!$B$5:$C$29,MATCH('월별 설비용량'!Y$4,'201902'!$B$5:$B$29,0),2)","v":3009.58},0,{"$f":"INDEX('201902'!$B$5:$C$29,MATCH('월별 설비용량'!AA$4,'201902'!$B$5:$B$29,0),2)","v":268.79199999999997},{"$f":"SUM(Y51:AA51)","v":3278.3719999999998},{"$f":"M51+N51+O51+P51+Q51+R51+S51+X51+AB51","v":10712.883}]
[{"$f":"L52","v":"2019-01-31"},{"$f":"M52","v":345.11},{"$f":"N52","v":346.33},{"$f":"O52","v":2687.2779999999998},{"$f":"P52","v":1422.7180000000001},{"$f":"Q52+R52","v":1788.588},{"$f":"S52","v":255},{"$f":"X52","v":529.75700000000006},{"$f":"AB52","v":3275.7719999999999},{"$f":"AC52","v":10650.553},null,"2019-01-31",{"$f":"INDEX('201901'!$B$5:$C$29,MATCH('월별 설비용량'!M$4,'201901'!$B$5:$B$29,0),2)","v":345.11},{"$f":"INDEX('201901'!$B$5:$C$29,MATCH('월별 설비용량'!N$4,'201901'!$B$5:$B$29,0),2)","v":346.33},{"$f":"INDEX('201901'!$B$5:$C$29,MATCH('월별 설비용량'!O$4,'201901'!$B$5:$B$29,0),2)","v":2687.2779999999998},{"$f":"INDEX('201901'!$B$5:$C$29,MATCH('월별 설비용량'!P$4,'201901'!$B$5:$B$29,0),2)","v":1422.7180000000001},{"$f":"INDEX('201901'!$B$5:$C$29,MATCH('월별 설비용량'!Q$4,'201901'!$B$5:$B$29,0),2)","v":1600.98},{"$f":"INDEX('201901'!$B$5:$C$29,MATCH('월별 설비용량'!R$4,'201901'!$B$5:$B$29,0),2)","v":187.608},{"$f":"INDEX('201901'!$B$5:$C$29,MATCH('월별 설비용량'!S$4,'201901'!$B$5:$B$29,0),2)","v":255},{"$f":"INDEX('201901'!$B$5:$C$29,MATCH('월별 설비용량'!T$4,'201901'!$B$5:$B$29,0),2)","v":83.966999999999999},{"$f":"INDEX('201901'!$B$5:$C$29,MATCH('월별 설비용량'!U$4,'201901'!$B$5:$B$29,0),2)","v":67.406000000000006},{"$f":"INDEX('201901'!$B$5:$C$29,MATCH('월별 설비용량'!V$4,'201901'!$B$5:$B$29,0),2)","v":378.38400000000001},null,{"$f":"T52+U52+V52","v":529.75700000000006},{"$f":"INDEX('201901'!$B$5:$C$29,MATCH('월별 설비용량'!Y$4,'201901'!$B$5:$B$29,0),2)","v":3009.58},0,{"$f":"INDEX('201901'!$B$5:$C$29,MATCH('월별 설비용량'!AA$4,'201901'!$B$5:$B$29,0),2)","v":266.19200000000001},{"$f":"SUM(Y52:AA52)","v":3275.7719999999999},{"$f":"M52+N52+O52+P52+Q52+R52+S52+X52+AB52","v":10650.553}]
[{"$f":"L53","v":"2018-12-31"},{"$f":"M53","v":345.11},{"$f":"N53","v":346.33},{"$f":"O53","v":2626.9580000000001},{"$f":"P53","v":1422.7180000000001},{"$f":"Q53+R53","v":1788.588},{"$f":"S53","v":255},{"$f":"X53","v":529.75700000000006},{"$f":"AB53","v":3275.7719999999999},{"$f":"AC53","v":10590.233},null,"2018-12-31",{"$f":"INDEX('201812'!$B$5:$C$29,MATCH('월별 설비용량'!M$4,'201812'!$B$5:$B$29,0),2)","v":345.11},{"$f":"INDEX('201812'!$B$5:$C$29,MATCH('월별 설비용량'!N$4,'201812'!$B$5:$B$29,0),2)","v":346.33},{"$f":"INDEX('201812'!$B$5:$C$29,MATCH('월별 설비용량'!O$4,'201812'!$B$5:$B$29,0),2)","v":2626.9580000000001},{"$f":"INDEX('201812'!$B$5:$C$29,MATCH('월별 설비용량'!P$4,'201812'!$B$5:$B$29,0),2)","v":1422.7180000000001},{"$f":"INDEX('201812'!$B$5:$C$29,MATCH('월별 설비용량'!Q$4,'201812'!$B$5:$B$29,0),2)","v":1600.98},{"$f":"INDEX('201812'!$B$5:$C$29,MATCH('월별 설비용량'!R$4,'201812'!$B$5:$B$29,0),2)","v":187.608},{"$f":"INDEX('201812'!$B$5:$C$29,MATCH('월별 설비용량'!S$4,'201812'!$B$5:$B$29,0),2)","v":255},{"$f":"INDEX('201812'!$B$5:$C$29,MATCH('월별 설비용량'!T$4,'201812'!$B$5:$B$29,0),2)","v":83.966999999999999},{"$f":"INDEX('201812'!$B$5:$C$29,MATCH('월별 설비용량'!U$4,'201812'!$B$5:$B$29,0),2)","v":67.406000000000006},{"$f":"INDEX('201812'!$B$5:$C$29,MATCH('월별 설비용량'!V$4,'201812'!$B$5:$B$29,0),2)","v":378.38400000000001},null,{"$f":"T53+U53+V53","v":529.75700000000006},{"$f":"INDEX('201812'!$B$5:$C$29,MATCH('월별 설비용량'!Y$4,'201812'!$B$5:$B$29,0),2)","v":3009.58},0,{"$f":"INDEX('201812'!$B$5:$C$29,MATCH('월별 설비용량'!AA$4,'201812'!$B$5:$B$29,0),2)","v":266.19200000000001},{"$f":"SUM(Y53:AA53)","v":3275.7719999999999},{"$f":"M53+N53+O53+P53+Q53+R53+S53+X53+AB53","v":10590.233}]
[{"$f":"L54","v":"2018-11-30"},{"$f":"M54","v":345.11},{"$f":"N54","v":346.33},{"$f":"O54","v":2565.89},{"$f":"P54","v":1418.518},{"$f":"Q54+R54","v":1785.588},{"$f":"S54","v":255},{"$f":"X54","v":529.75700000000006},{"$f":"AB54","v":3274.6219999999998},{"$f":"AC54","v":10520.814999999999},null,"2018-11-30",{"$f":"INDEX('201811'!$B$5:$C$29,MATCH('월별 설비용량'!M$4,'201811'!$B$5:$B$29,0),2)","v":345.11},{"$f":"INDEX('201811'!$B$5:$C$29,MATCH('월별 설비용량'!N$4,'201811'!$B$5:$B$29,0),2)","v":346.33},{"$f":"INDEX('201811'!$B$5:$C$29,MATCH('월별 설비용량'!O$4,'201811'!$B$5:$B$29,0),2)","v":2565.89},{"$f":"INDEX('201811'!$B$5:$C$29,MATCH('월별 설비용량'!P$4,'201811'!$B$5:$B$29,0),2)","v":1418.518},{"$f":"INDEX('201811'!$B$5:$C$29,MATCH('월별 설비용량'!Q$4,'201811'!$B$5:$B$29,0),2)","v":1600.98},{"$f":"INDEX('201811'!$B$5:$C$29,MATCH('월별 설비용량'!R$4,'201811'!$B$5:$B$29,0),2)","v":184.608},{"$f":"INDEX('201811'!$B$5:$C$29,MATCH('월별 설비용량'!S$4,'201811'!$B$5:$B$29,0),2)","v":255},{"$f":"INDEX('201811'!$B$5:$C$29,MATCH('월별 설비용량'!T$4,'201811'!$B$5:$B$29,0),2)","v":83.966999999999999},{"$f":"INDEX('201811'!$B$5:$C$29,MATCH('월별 설비용량'!U$4,'201811'!$B$5:$B$29,0),2)","v":67.406000000000006},{"$f":"INDEX('201811'!$B$5:$C$29,MATCH('월별 설비용량'!V$4,'201811'!$B$5:$B$29,0),2)","v":378.38400000000001},null,{"$f":"T54+U54+V54","v":529.75700000000006},{"$f":"INDEX('201811'!$B$5:$C$29,MATCH('월별 설비용량'!Y$4,'201811'!$B$5:$B$29,0),2)","v":3009.58},0,{"$f":"INDEX('201811'!$B$5:$C$29,MATCH('월별 설비용량'!AA$4,'201811'!$B$5:$B$29,0),2)","v":265.04199999999997},{"$f":"SUM(Y54:AA54)","v":3274.6219999999998},{"$f":"M54+N54+O54+P54+Q54+R54+S54+X54+AB54","v":10520.814999999999}]
["2018-10-31",{"$f":"M55","v":323.99},{"$f":"N55","v":346.33},{"$f":"O55","v":2517.54},{"$f":"P55","v":1416.2180000000001},{"$f":"Q55+R55","v":1785.588},{"$f":"S55","v":255},{"$f":"X55","v":529.75700000000006},{"$f":"AB55","v":3271.8719999999998},{"$f":"AC55","v":10446.294999999998},null,"2018-10-31",{"$f":"INDEX('201810'!$B$5:$C$29,MATCH('월별 설비용량'!M$4,'201810'!$B$5:$B$29,0),2)","v":323.99},{"$f":"INDEX('201810'!$B$5:$C$29,MATCH('월별 설비용량'!N$4,'201810'!$B$5:$B$29,0),2)","v":346.33},{"$f":"INDEX('201810'!$B$5:$C$29,MATCH('월별 설비용량'!O$4,'201810'!$B$5:$B$29,0),2)","v":2517.54},{"$f":"INDEX('201810'!$B$5:$C$29,MATCH('월별 설비용량'!P$4,'201810'!$B$5:$B$29,0),2)","v":1416.2180000000001},{"$f":"INDEX('201810'!$B$5:$C$29,MATCH('월별 설비용량'!Q$4,'201810'!$B$5:$B$29,0),2)","v":1600.98},{"$f":"INDEX('201810'!$B$5:$C$29,MATCH('월별 설비용량'!R$4,'201810'!$B$5:$B$29,0),2)","v":184.608},{"$f":"INDEX('201810'!$B$5:$C$29,MATCH('월별 설비용량'!S$4,'201810'!$B$5:$B$29,0),2)","v":255},{"$f":"INDEX('201810'!$B$5:$C$29,MATCH('월별 설비용량'!T$4,'201810'!$B$5:$B$29,0),2)","v":83.966999999999999},{"$f":"INDEX('201810'!$B$5:$C$29,MATCH('월별 설비용량'!U$4,'201810'!$B$5:$B$29,0),2)","v":67.406000000000006},{"$f":"INDEX('201810'!$B$5:$C$29,MATCH('월별 설비용량'!V$4,'201810'!$B$5:$B$29,0),2)","v":378.38400000000001},null,{"$f":"T55+U55+V55","v":529.75700000000006},{"$f":"INDEX('201810'!$B$5:$C$29,MATCH('월별 설비용량'!Y$4,'201810'!$B$5:$B$29,0),2)","v":3009.58},0,{"$f":"INDEX('201810'!$B$5:$C$29,MATCH('월별 설비용량'!AA$4,'201810'!$B$5:$B$29,0),2)","v":262.29199999999997},{"$f":"SUM(Y55:AA55)","v":3271.8719999999998},{"$f":"M55+N55+O55+P55+Q55+R55+S55+X55+AB55","v":10446.294999999998}]
["2018-09-30",{"$f":"M56","v":294.2},{"$f":"N56","v":346.33},{"$f":"O56","v":2485.5569999999998},{"$f":"P56","v":1399.318},1782.088,{"$f":"S56","v":255},{"$f":"X56","v":529.26199999999994},{"$f":"AB56","v":3259.2219999999998},{"$f":"AC56","v":10350.976999999999},null,"2018-09-30",{"$f":"INDEX('201809'!$B$5:$C$29,MATCH('월별 설비용량'!M$4,'201809'!$B$5:$B$29,0),2)","v":294.2},{"$f":"INDEX('201809'!$B$5:$C$29,MATCH('월별 설비용량'!N$4,'201809'!$B$5:$B$29,0),2)","v":346.33},{"$f":"INDEX('201809'!$B$5:$C$29,MATCH('월별 설비용량'!O$4,'201809'!$B$5:$B$29,0),2)","v":2485.5569999999998},{"$f":"INDEX('201809'!$B$5:$C$29,MATCH('월별 설비용량'!P$4,'201809'!$B$5:$B$29,0),2)","v":1399.318},{"$f":"INDEX('201809'!$B$5:$C$29,MATCH('월별 설비용량'!Q$4,'201809'!$B$5:$B$29,0),2)","v":1597.48},{"$f":"INDEX('201809'!$B$5:$C$29,MATCH('월별 설비용량'!R$4,'201809'!$B$5:$B$29,0),2)","v":184.608},{"$f":"INDEX('201809'!$B$5:$C$29,MATCH('월별 설비용량'!S$4,'201809'!$B$5:$B$29,0),2)","v":255},{"$f":"INDEX('201809'!$B$5:$C$29,MATCH('월별 설비용량'!T$4,'201809'!$B$5:$B$29,0),2)","v":83.471999999999994},{"$f":"INDEX('201809'!$B$5:$C$29,MATCH('월별 설비용량'!U$4,'201809'!$B$5:$B$29,0),2)","v":67.406000000000006},{"$f":"INDEX('201809'!$B$5:$C$29,MATCH('월별 설비용량'!V$4,'201809'!$B$5:$B$29,0),2)","v":378.38400000000001},null,529.26199999999994,{"$f":"INDEX('201809'!$B$5:$C$29,MATCH('월별 설비용량'!Y$4,'201809'!$B$5:$B$29,0),2)","v":3009.58},0,{"$f":"INDEX('201809'!$B$5:$C$29,MATCH('월별 설비용량'!AA$4,'201809'!$B$5:$B$29,0),2)","v":249.642},3259.2219999999998,10350.976999999999]
["2018-08-31",{"$f":"M57","v":294.2},{"$f":"N57","v":346.33},{"$f":"O57","v":2445.6819999999998},{"$f":"P57","v":1284.7180000000001},1785.3879999999999,{"$f":"S57","v":255},{"$f":"X57","v":529.06700000000001},{"$f":"AB57","v":3259.2219999999998},{"$f":"AC57","v":10199.607},null,"2018-08-31",{"$f":"INDEX('201808'!$B$5:$C$29,MATCH('월별 설비용량'!M$4,'201808'!$B$5:$B$29,0),2)","v":294.2},{"$f":"INDEX('201808'!$B$5:$C$29,MATCH('월별 설비용량'!N$4,'201808'!$B$5:$B$29,0),2)","v":346.33},{"$f":"INDEX('201808'!$B$5:$C$29,MATCH('월별 설비용량'!O$4,'201808'!$B$5:$B$29,0),2)","v":2445.6819999999998},{"$f":"INDEX('201808'!$B$5:$C$29,MATCH('월별 설비용량'!P$4,'201808'!$B$5:$B$29,0),2)","v":1284.7180000000001},{"$f":"INDEX('201808'!$B$5:$C$29,MATCH('월별 설비용량'!Q$4,'201808'!$B$5:$B$29,0),2)","v":1600.78},{"$f":"INDEX('201808'!$B$5:$C$29,MATCH('월별 설비용량'!R$4,'201808'!$B$5:$B$29,0),2)","v":184.608},{"$f":"INDEX('201808'!$B$5:$C$29,MATCH('월별 설비용량'!S$4,'201808'!$B$5:$B$29,0),2)","v":255},{"$f":"INDEX('201808'!$B$5:$C$29,MATCH('월별 설비용량'!T$4,'201808'!$B$5:$B$29,0),2)","v":83.277000000000001},{"$f":"INDEX('201808'!$B$5:$C$29,MATCH('월별 설비용량'!U$4,'201808'!$B$5:$B$29,0),2)","v":67.406000000000006},{"$f":"INDEX('201808'!$B$5:$C$29,MATCH('월별 설비용량'!V$4,'201808'!$B$5:$B$29,0),2)","v":378.38400000000001},null,529.06700000000001,{"$f":"INDEX('201808'!$B$5:$C$29,MATCH('월별 설비용량'!Y$4,'201808'!$B$5:$B$29,0),2)","v":3009.58},0,{"$f":"INDEX('201808'!$B$5:$C$29,MATCH('월별 설비용량'!AA$4,'201808'!$B$5:$B$29,0),2)","v":249.642},3259.2219999999998,10199.607]
["2018-07-31",{"$f":"M58","v":294.2},{"$f":"N58","v":346.33},{"$f":"O58","v":2398.3829999999998},{"$f":"P58","v":1282.4179999999999},1785.3879999999999,{"$f":"S58","v":255},{"$f":"X58","v":529.06700000000001},{"$f":"AB58","v":3259.2219999999998},{"$f":"AC58","v":10150.007999999998},null,"2018-07-31",{"$f":"INDEX('201807'!$B$5:$C$29,MATCH('월별 설비용량'!M$4,'201807'!$B$5:$B$29,0),2)","v":294.2},{"$f":"INDEX('201807'!$B$5:$C$29,MATCH('월별 설비용량'!N$4,'201807'!$B$5:$B$29,0),2)","v":346.33},{"$f":"INDEX('201807'!$B$5:$C$29,MATCH('월별 설비용량'!O$4,'201807'!$B$5:$B$29,0),2)","v":2398.3829999999998},{"$f":"INDEX('201807'!$B$5:$C$29,MATCH('월별 설비용량'!P$4,'201807'!$B$5:$B$29,0),2)","v":1282.4179999999999},{"$f":"INDEX('201807'!$B$5:$C$29,MATCH('월별 설비용량'!Q$4,'201807'!$B$5:$B$29,0),2)","v":1600.78},{"$f":"INDEX('201807'!$B$5:$C$29,MATCH('월별 설비용량'!R$4,'201807'!$B$5:$B$29,0),2)","v":184.608},{"$f":"INDEX('201807'!$B$5:$C$29,MATCH('월별 설비용량'!S$4,'201807'!$B$5:$B$29,0),2)","v":255},{"$f":"INDEX('201807'!$B$5:$C$29,MATCH('월별 설비용량'!T$4,'201807'!$B$5:$B$29,0),2)","v":83.277000000000001},{"$f":"INDEX('201807'!$B$5:$C$29,MATCH('월별 설비용량'!U$4,'201807'!$B$5:$B$29,0),2)","v":67.406000000000006},{"$f":"INDEX('201807'!$B$5:$C$29,MATCH('월별 설비용량'!V$4,'201807'!$B$5:$B$29,0),2)","v":378.38400000000001},null,529.06700000000001,{"$f":"INDEX('201807'!$B$5:$C$29,MATCH('월별 설비용량'!Y$4,'201807'!$B$5:$B$29,0),2)","v":3009.58},0,{"$f":"INDEX('201807'!$B$5:$C$29,MATCH('월별 설비용량'!AA$4,'201807'!$B$5:$B$29,0),2)","v":249.642},3259.2219999999998,10150.007999999998]
["2018-06-30",{"$f":"M59","v":294.2},{"$f":"N59","v":346.33},{"$f":"O59","v":2302.4899999999998},{"$f":"P59","v":1282.4179999999999},1785.3879999999999,{"$f":"S59","v":255},{"$f":"X59","v":528.94800000000009},{"$f":"AB59","v":3255.2219999999998},{"$f":"AC59","v":10049.995999999999},null,"2018-06-30",{"$f":"INDEX('201806'!$B$5:$C$29,MATCH('월별 설비용량'!M$4,'201806'!$B$5:$B$29,0),2)","v":294.2},{"$f":"INDEX('201806'!$B$5:$C$29,MATCH('월별 설비용량'!N$4,'201806'!$B$5:$B$29,0),2)","v":346.33},{"$f":"INDEX('201806'!$B$5:$C$29,MATCH('월별 설비용량'!O$4,'201806'!$B$5:$B$29,0),2)","v":2302.4899999999998},{"$f":"INDEX('201806'!$B$5:$C$29,MATCH('월별 설비용량'!P$4,'201806'!$B$5:$B$29,0),2)","v":1282.4179999999999},{"$f":"INDEX('201806'!$B$5:$C$29,MATCH('월별 설비용량'!Q$4,'201806'!$B$5:$B$29,0),2)","v":1600.78},{"$f":"INDEX('201806'!$B$5:$C$29,MATCH('월별 설비용량'!R$4,'201806'!$B$5:$B$29,0),2)","v":184.608},{"$f":"INDEX('201806'!$B$5:$C$29,MATCH('월별 설비용량'!S$4,'201806'!$B$5:$B$29,0),2)","v":255},{"$f":"INDEX('201806'!$B$5:$C$29,MATCH('월별 설비용량'!T$4,'201806'!$B$5:$B$29,0),2)","v":83.158000000000001},{"$f":"INDEX('201806'!$B$5:$C$29,MATCH('월별 설비용량'!U$4,'201806'!$B$5:$B$29,0),2)","v":67.406000000000006},{"$f":"INDEX('201806'!$B$5:$C$29,MATCH('월별 설비용량'!V$4,'201806'!$B$5:$B$29,0),2)","v":378.38400000000001},null,528.94800000000009,{"$f":"INDEX('201806'!$B$5:$C$29,MATCH('월별 설비용량'!Y$4,'201806'!$B$5:$B$29,0),2)","v":3009.58},0,{"$f":"INDEX('201806'!$B$5:$C$29,MATCH('월별 설비용량'!AA$4,'201806'!$B$5:$B$29,0),2)","v":245.642},3255.2219999999998,10049.995999999999]
["2018-05-31",{"$f":"M60","v":294.2},{"$f":"N60","v":346.33},{"$f":"O60","v":2253.0749999999998},{"$f":"P60","v":1282.4179999999999},1785.3879999999999,{"$f":"S60","v":255},{"$f":"X60","v":528.64800000000002},{"$f":"AB60","v":3255.2219999999998},{"$f":"AC60","v":10000.280999999999},null,"2018-05-31",{"$f":"INDEX('201805'!$B$5:$C$29,MATCH('월별 설비용량'!M$4,'201805'!$B$5:$B$29,0),2)","v":294.2},{"$f":"INDEX('201805'!$B$5:$C$29,MATCH('월별 설비용량'!N$4,'201805'!$B$5:$B$29,0),2)","v":346.33},{"$f":"INDEX('201805'!$B$5:$C$29,MATCH('월별 설비용량'!O$4,'201805'!$B$5:$B$29,0),2)","v":2253.0749999999998},{"$f":"INDEX('201805'!$B$5:$C$29,MATCH('월별 설비용량'!P$4,'201805'!$B$5:$B$29,0),2)","v":1282.4179999999999},{"$f":"INDEX('201805'!$B$5:$C$29,MATCH('월별 설비용량'!Q$4,'201805'!$B$5:$B$29,0),2)","v":1600.78},{"$f":"INDEX('201805'!$B$5:$C$29,MATCH('월별 설비용량'!R$4,'201805'!$B$5:$B$29,0),2)","v":184.608},{"$f":"INDEX('201805'!$B$5:$C$29,MATCH('월별 설비용량'!S$4,'201805'!$B$5:$B$29,0),2)","v":255},{"$f":"INDEX('201805'!$B$5:$C$29,MATCH('월별 설비용량'!T$4,'201805'!$B$5:$B$29,0),2)","v":83.158000000000001},{"$f":"INDEX('201805'!$B$5:$C$29,MATCH('월별 설비용량'!U$4,'201805'!$B$5:$B$29,0),2)","v":67.105999999999995},{"$f":"INDEX('201805'!$B$5:$C$29,MATCH('월별 설비용량'!V$4,'201805'!$B$5:$B$29,0),2)","v":378.38400000000001},null,528.64800000000002,{"$f":"INDEX('201805'!$B$5:$C$29,MATCH('월별 설비용량'!Y$4,'201805'!$B$5:$B$29,0),2)","v":3009.58},0,{"$f":"INDEX('201805'!$B$5:$C$29,MATCH('월별 설비용량'!AA$4,'201805'!$B$5:$B$29,0),2)","v":245.642},3255.2219999999998,10000.280999999999]
[{"$f":"L61","v":"2018-04-30"},277.4799999999999,346.33,2199.2989999999891,1265.8779999999999,{"$f":"Q61","v":1785.3879999999999},255,528.94800000000009,3255.2220000000007,9913.544999999991,null,"2018-04-30",277.4799999999999,346.33,2199.2989999999891,1265.8779999999999,1785.3879999999999,null,255,83.158000000000001,67.406000000000006,378.38400000000001,null,528.94800000000009,3009.5800000000004,0,245.64200000000005,3255.2220000000007,{"$f":"M61+N61+O61+P61+Q61+S61+X61+AB61","v":9913.544999999991}]
[{"$f":"L62","v":"2018-03-31"},{"$f":"M62","v":257.48},{"$f":"N62","v":346.33},{"$f":"O62","v":2179.6609999999905},{"$f":"P62","v":1265.9179999999999},{"$f":"Q62","v":1785.3879999999999},{"$f":"S62","v":255},{"$f":"X62","v":528.94800000000009},{"$f":"AB62","v":3255.2220000000007},{"$f":"AC62","v":9527.6169999999911},null,"2018-03-31",257.48,346.33,2179.6609999999905,1265.9179999999999,1785.3879999999999,null,255,83.158000000000001,67.406000000000006,378.38400000000001,null,528.94800000000009,3009.5800000000004,0,245.64200000000005,3255.2220000000007,9527.6169999999911]
[{"$f":"L63","v":"2018-02-28"},{"$f":"M63","v":257.04000000000002},{"$f":"N63","v":346.33},{"$f":"O63","v":2138.0379999999927},{"$f":"P63","v":1265.9179999999999},{"$f":"Q63","v":1785.3579999999999},{"$f":"S63","v":255},{"$f":"X63","v":528.40800000000002},{"$f":"AB63","v":3255.2220000000007},{"$f":"AC63","v":9831.3139999999948},null,"2018-02-28",257.04000000000002,346.33,2138.0379999999927,1265.9179999999999,1785.3579999999999,null,255,82.617999999999995,67.406000000000006,378.38400000000001,null,528.40800000000002,3009.5800000000004,0,245.64200000000005,3255.2220000000007,9831.3139999999948]
[{"$f":"L64","v":"2018-01-31"},251.76000000000005,346.33,{"$f":"O64","v":2113.0799999999936},{"$f":"P64","v":1265.9179999999999},{"$f":"Q64","v":1785.3579999999999},{"$f":"S64","v":255},{"$f":"X64","v":528.40800000000002},{"$f":"AB64","v":3255.2220000000007},{"$f":"AC64","v":9801.0759999999937},null,"2018-01-31",251.76000000000005,346.33,2113.0799999999936,1265.9179999999999,1785.3579999999999,null,255,82.617999999999995,67.406000000000006,378.38400000000001,null,528.40800000000002,3009.5800000000004,0,245.64200000000005,3255.2220000000007,9801.0759999999937]
["2017-12-31",238.56,346.33,{"$f":"O65","v":1892.7889999999959},{"$f":"P65","v":1188.8179999999998},{"$f":"Q65","v":1783.94},{"$f":"S65","v":255},486.56800000000004,3212.7690000000002,{"$f":"AC65","v":9404.7739999999976},null,"2017-12-31",{"$f":"SUMIF($AA$65:$AA$3060,\"연료전지\",$C$66:$C$3061)","v":251.76000000000005},{"$f":"SUMIF($AA$65:$AA$3060,\"IGCC\",$C$66:$C$3061)","v":346.33},{"$f":"SUMIF($AA$65:$AA$3060,\"태양광\",$C$66:$C$3061)","v":2044.0099999999945},{"$f":"SUMIF($AA$65:$AA$3060,\"풍력\",$C$66:$C$3061)","v":1233.7179999999996},{"$f":"SUMIF($AA$65:$AA$3060,\"수력\",$C$66:$C$3061)+SUMIF($AA$65:$AA$3060,\"소수력\",$C$66:$C$3061)","v":1785.24},null,{"$f":"SUMIF($AA$65:$AA$3060,\"해양에너지\",$C$66:$C$3061)","v":255},{"$f":"SUMIF($AA$65:$AA$3060,\"바이오가스\",$C$66:$C$3061)","v":82.617999999999995},{"$f":"SUMIF($AA$65:$AA$3060,\"매립가스\",$C$66:$C$3061)","v":68.956000000000003},{"$f":"SUMIF($AA$65:$AA$3060,\"바이오매스\",$C$66:$C$3061)","v":378.38400000000001},null,{"$f":"SUM(T65:V65)","v":529.95800000000008},{"$f":"SUMIF($AA$65:$AA$3060,\"부생가스\",$C$66:$C$3061)","v":3009.5800000000004},{"$f":"SUMIF($AA$65:$AA$3060,\"폐가스\",$C$66:$C$3061)","v":0},{"$f":"SUMIF($AA$65:$AA$3060,\"폐기물\",$C$66:$C$3061)","v":241.74200000000008},{"$f":"SUM(Y65:AA65)","v":3251.3220000000006},{"$f":"SUM(M65:S65)+X65+AB65","v":9697.3379999999943}]
[{"$f":"L66","v":"2017-11-30"},{"$f":"M66","v":246.04000000000005},{"$f":"N66","v":346.33},{"$f":"O66","v":1931.3919999999955},{"$f":"P66","v":1188.8179999999998},{"$f":"Q66","v":1783.94},{"$f":"S66","v":255},486.75800000000004,3212.7690000000002,{"$f":"AC66","v":9451.046999999995},{"$f":"SUM(B74:I74)","v":8960.4789999999994},"2017-11-30",246.04000000000005,346.33,1931.3919999999955,1188.8179999999998,1783.94,null,255,82.617999999999995,68.956000000000003,335.18400000000003,null,486.75800000000004,3009.5800000000004,0,203.18900000000002,3212.7690000000002,9451.046999999995]
[{"$f":"L67","v":"2017-10-31"},{"$f":"M67","v":238.56},{"$f":"N67","v":346.33},{"$f":"O67","v":1892.7889999999959},{"$f":"P67","v":1188.8179999999998},{"$f":"Q67","v":1783.94},{"$f":"S67","v":255},486.56800000000004,3212.7690000000002,{"$f":"AC67","v":9404.7739999999976},{"$f":"SUM(B75:I75)","v":8883.7499999999982},"2017-10-31",238.56,346.33,1892.7889999999959,1188.8179999999998,1783.94,null,255,82.427999999999997,68.956000000000003,335.18400000000003,null,486.56800000000004,3009.5800000000004,0,203.18900000000002,3212.7690000000002,9404.7739999999976]
[{"$f":"L68","v":"2017-09-30"},{"$f":"M68","v":235.92000000000007},346.33,1880.8269999999959,1160.0679999999998,1783.6399999999999,{"$f":"S68","v":255},486.56800000000004,3210.9690000000005,{"$f":"AC68","v":9359.3219999999965},null,"2017-09-30",235.92000000000007,346.33,1880.8269999999959,1160.0679999999998,1783.6399999999999,null,255,82.427999999999997,68.956000000000003,335.18400000000003,null,486.56800000000004,3009.5800000000004,0,201.38900000000007,3210.9690000000005,9359.3219999999965]
[{"$f":"L69","v":"2017-08-31"},235.92000000000007,380.7,1860.3779999999974,1084.1679999999997,1783.6399999999999,{"$f":"S69","v":255},486.56800000000004,3201.8690000000006,{"$f":"AC69","v":9288.2429999999986},null,"2017-08-31",235.92000000000007,380.7,1860.3779999999974,1084.1679999999997,1783.6399999999999,null,255,82.427999999999997,68.956000000000003,335.18400000000003,null,486.56800000000004,3009.5800000000004,0,192.28900000000004,3201.8690000000006,9288.2429999999986]
[{"$f":"L70","v":"2017-07-31"},{"$f":"M70","v":235.92000000000007},{"$f":"N70","v":380.7},{"$f":"O70","v":1846.5879999999977},{"$f":"P70","v":1079.4679999999996},{"$f":"Q70","v":1781.19},{"$f":"S70","v":255},{"$f":"X70","v":486.07300000000004},{"$f":"AB70","v":3179.8790000000004},{"$f":"AC70","v":9244.8179999999993},null,"2017-07-31",235.92000000000007,380.7,1846.5879999999977,1079.4679999999996,1781.19,null,255,81.932999999999993,68.956000000000003,335.18400000000003,null,486.07300000000004,3009.5800000000004,0,170.29900000000004,3179.8790000000004,9244.8179999999993]
["2017-06-30",235.92000000000007,380.7,1816.1779999999983,1076.1679999999997,1781.19,255,486.07300000000004,3179.0790000000006,9210.3079999999991,null,"2017-06-30",235.92000000000007,380.7,1816.1779999999983,1076.1679999999997,1781.19,null,255,81.932999999999993,68.956000000000003,335.18400000000003,null,486.07300000000004,3009.5800000000004,0,169.49900000000002,3179.0790000000006,9210.3079999999991]
["2017-05-31",235.92000000000007,380.7,1781.5379999999986,1076.1679999999997,1780.94,255,485.08300000000003,3179.0790000000006,9174.4279999999981,null,"2017-05-31",235.92000000000007,380.7,1781.5379999999986,1076.1679999999997,1780.94,null,255,80.942999999999998,68.956000000000003,335.18400000000003,null,485.08300000000003,3009.5800000000004,0,169.49900000000002,3179.0790000000006,9174.4279999999981]
["2017-04-30",235.92000000000007,380.7,1749.1289999999988,1076.1679999999997,1780.94,255,485.08300000000003,3179.0790000000006,9142.0189999999984,null,"2017-04-30",235.92000000000007,380.7,1749.1289999999988,1076.1679999999997,1780.94,null,255,80.942999999999998,68.956000000000003,335.18400000000003,null,485.08300000000003,3009.5800000000004,0,169.49900000000002,3179.0790000000006,9142.0189999999984]
["2017-03-31",229.92000000000007,380.7,1705.5379999999989,1076.1679999999997,1780.94,255,355.584,3176.6290000000004,8960.4789999999994,null,"2017-03-31",229.92000000000007,380.7,1705.5379999999989,1076.1679999999997,1780.94,null,255,82.293999999999997,68.956000000000003,204.334,null,355.584,3009.5800000000004,0,167.04900000000004,3176.6290000000004,8960.4789999999994]
["2017-02-28",214.52000000000007,380.7,{"$f":"O75","v":1643.2089999999987},1076.1679999999997,1781.94,255,355.584,3176.6290000000004,8883.7499999999982,null,"2017-02-28",214.52000000000007,380.7,1643.2089999999987,1076.1679999999997,1781.94,null,255,82.293999999999997,68.956000000000003,204.334,null,355.584,3009.5800000000004,0,167.04900000000004,3176.6290000000004,8883.7499999999982]
["2017-01-31",214.52000000000007,380.7,1633.4709999999989,1076.1679999999997,1781.94,255,354.48400000000004,3176.6290000000004,8872.9120000000003,null,"2017-01-31",214.52000000000007,380.7,1633.4709999999989,1076.1679999999997,1781.94,null,255,82.293999999999997,68.956000000000003,203.23400000000001,null,354.48400000000004,3009.5800000000004,0,167.04900000000004,3176.6290000000004,8872.9120000000003]
["2016-12-31",214.52000000000007,380.7,1612.974999999999,1048.0879999999997,1781.94,255,353.43399999999997,3191.2640000000006,8837.9209999999985,null,"2016-12-31",214.52000000000007,380.7,1612.974999999999,1048.0879999999997,1781.94,null,255,81.244,68.956000000000003,203.23400000000001,null,353.43399999999997,3009.5800000000004,16.5,165.18400000000003,3191.2640000000006,8837.9209999999985]
["2016-11-30",214.52000000000007,380.7,1523.0499999999995,1050.7279999999996,1781.92,255,315.51,3191.2640000000006,8712.6920000000009,null,"2016-11-30",214.52000000000007,380.7,1523.0499999999995,1050.7279999999996,1781.92,null,255,75.679999999999993,68.956000000000003,170.874,null,315.51,3009.5800000000004,16.5,165.18400000000003,3191.2640000000006,8712.6920000000009]
["2016-10-31",179.12000000000006,380.7,1489.884,1017.8779999999997,1781.86,255,315.51,3191.2640000000006,8611.2160000000003,null,"2016-10-31",179.12000000000006,380.7,1489.884,1017.8779999999997,1781.86,null,255,75.679999999999993,68.956000000000003,170.874,null,315.51,3009.5800000000004,16.5,165.18400000000003,3191.2640000000006,8611.2160000000003]
["2016-09-30",179.12000000000006,380.7,1479.7360000000001,968.82799999999963,1776.86,255,313.05999999999995,3191.2640000000006,8544.5680000000011,null,"2016-09-30",179.12000000000006,380.7,1479.7360000000001,968.82799999999963,1776.86,null,255,73.22999999999999,68.956000000000003,170.874,null,313.05999999999995,3009.5800000000004,16.5,165.18400000000003,3191.2640000000006,8544.5680000000011]
["2016-08-31",179.12,380.7,1455.5979999999997,938.82799999999963,1776.86,255,274.15999999999997,3200.9640000000004,8461.23,null,"2016-08-31",179.12,380.7,1455.5979999999997,938.82799999999963,1776.86,null,255,73.22999999999999,68.956000000000003,131.97400000000002,null,274.15999999999997,3009.5800000000004,16.5,174.88400000000001,3200.9640000000004,8461.23]
["2015-07-31",164.80000000000007,380.7,1248.5610000000017,814.56100000000004,1761.62,255,264.423,4224.9839999999995,9114.6490000000013,null,"2015-07-31",164.80000000000007,380.7,1248.5610000000017,814.56100000000004,1761.62,null,255,68.435000000000002,69.213999999999999,126.774,null,264.423,4016.58,18.22,190.18400000000008,4224.9839999999995,9114.6490000000013]
["2015-06-30",164.80000000000007,380.7,1189.6560000000011,807.16099999999983,1761.62,255,262.38800000000003,4226.1840000000002,9047.5090000000018,null,"2015-06-30",164.80000000000007,380.7,1189.6560000000011,807.16099999999983,1761.62,null,255,66.400000000000006,69.213999999999999,126.774,null,262.38800000000003,4016.58,18.22,191.38400000000007,4226.1840000000002,9047.5090000000018]
["2016-05-31",173.40000000000006,380.7,1412.1959999999997,895.52799999999979,1767.4499999999998,255,270.61,3192.4640000000004,8347.348,null,"2016-05-31",173.40000000000006,380.7,1412.1959999999997,895.52799999999979,1767.4499999999998,null,255,72.879999999999981,68.956000000000003,128.774,null,270.61,3009.5800000000004,16.5,166.38400000000001,3192.4640000000004,8347.348]
["2016-04-30",175.80000000000007,380.7,1400.7429999999995,895.52799999999979,1767.1,255,270.61,4196.5640000000003,9342.0449999999983,null,"2016-04-30",175.80000000000007,380.7,1400.7429999999995,895.52799999999979,1767.1,null,255,72.879999999999981,68.956000000000003,128.774,null,270.61,4016.58,16.5,163.48400000000004,4196.5640000000003,9342.0449999999983]
["2016-03-31",170.80000000000007,380.7,1392.1969999999997,876.77799999999979,1766.74,255,269.36,4193.7640000000001,9305.3389999999999,null,"2016-03-31",170.80000000000007,380.7,1392.1969999999997,876.77799999999979,1766.74,null,255,71.83,68.956000000000003,128.57400000000001,null,269.36,4016.58,16.5,160.68400000000003,4193.7640000000001,9305.3389999999999]
["2016-02-29",170.80000000000007,380.7,1372.5820000000024,876.77799999999979,1766.74,255,269.36,4223.2640000000001,9315.224000000002,null,"2016-02-29",170.80000000000007,380.7,1372.5820000000024,876.77799999999979,1766.74,null,255,71.83,68.956000000000003,128.57400000000001,null,269.36,4016.58,16.5,190.18400000000008,4223.2640000000001,9315.224000000002]
["2016-01-31",170.80000000000007,380.7,1362.5790000000025,876.77799999999979,1766.74,255,269.36,4223.2640000000001,9305.2210000000014,null,"2016-01-31",170.80000000000007,380.7,1362.5790000000025,876.77799999999979,1766.74,null,255,71.83,68.956000000000003,128.57400000000001,null,269.36,4016.58,16.5,190.18400000000008,4223.2640000000001,9305.2210000000014]
["2015-12-31",170.80000000000007,380.7,1339.7720000000029,846.77799999999979,1761.74,255,268.86,4223.2640000000001,9246.9140000000025,null,"2015-12-31",170.80000000000007,380.7,1339.7720000000029,846.77799999999979,1761.74,null,255,71.33,68.956000000000003,128.57400000000001,null,268.86,4016.58,16.5,190.18400000000008,4223.2640000000001,9246.9140000000025]
["2015-11-30",170.80000000000007,380.7,1295.2770000000035,832.77799999999979,1761.74,255,266.71800000000002,4223.2640000000001,9186.2770000000019,null,"2015-11-30",170.80000000000007,380.7,1295.2770000000035,832.77799999999979,1761.74,null,255,68.929999999999993,69.213999999999999,128.57400000000001,null,266.71800000000002,4016.58,16.5,190.18400000000008,4223.2640000000001,9186.2770000000019]
["2015-10-31",170.80000000000007,380.7,1282.6150000000034,812.12799999999982,1761.74,255,266.71800000000002,4223.2640000000001,9152.9650000000038,null,"2015-10-31",170.80000000000007,380.7,1282.6150000000034,812.12799999999982,1761.74,null,255,68.929999999999993,69.213999999999999,128.57400000000001,null,266.71800000000002,4016.58,16.5,190.18400000000008,4223.2640000000001,9152.9650000000038]
["2015-09-30",164.80000000000007,380.7,1273.6900000000028,812.10999999999979,1761.62,255,266.18799999999999,4224.9839999999995,9139.0920000000006,null,"2015-09-30",164.80000000000007,380.7,1273.6900000000028,812.10999999999979,1761.62,null,255,68.400000000000006,69.213999999999999,128.57400000000001,null,266.18799999999999,4016.58,18.22,190.18400000000008,4224.9839999999995,9139.0920000000006]
["2015-08-31",164.80000000000007,380.7,1258.0720000000028,814.56099999999992,1761.62,255,646.923,4224.9839999999995,9125.9600000000028,null,"2015-08-31",164.80000000000007,380.7,1258.0720000000028,814.56099999999992,1761.62,null,255,68.400000000000006,69.213999999999999,128.57400000000001,null,646.923,4016.58,18.22,190.18400000000008,4224.9839999999995,9125.9600000000028]
["2015-07-31",164.80000000000007,380.7,1248.5610000000017,814.56099999999992,1761.62,255,264.423,4224.9839999999995,9114.6490000000013,null,"2015-07-31",164.80000000000007,380.7,1248.5610000000017,814.56099999999992,1761.62,null,255,68.435000000000002,69.213999999999999,126.774,null,264.423,4016.58,18.22,190.18400000000008,4224.9839999999995,9114.6490000000013]
["2015-06-30",164.80000000000007,380.7,1189.6560000000011,807.16099999999983,1761.62,255,262.38800000000003,4226.1840000000002,9047.5090000000018,null,"2015-06-30",164.80000000000007,380.7,1189.6560000000011,807.16099999999983,1761.62,null,255,66.400000000000006,69.213999999999999,126.774,null,262.38800000000003,4016.58,18.22,191.38400000000007,4226.1840000000002,9047.5090000000018]
["2015-05-31",164.80000000000007,380.7,1157.3730000000019,747.76099999999985,1761.02,255,269.88800000000003,4224.3090000000002,8960.8510000000024,null,"2015-05-31",164.80000000000007,380.7,1157.3730000000019,747.76099999999985,1761.02,null,255,68.400000000000006,69.213999999999999,132.27400000000003,null,269.88800000000003,4016.58,18.22,189.50900000000007,4224.3090000000002,8960.8510000000024]
["2015-04-30",164.80000000000007,380.7,1133.6340000000016,677.76099999999997,1761.02,255,163.08799999999999,4222.5889999999999,8758.5920000000006,null,"2015-04-30",164.80000000000007,380.7,1133.6340000000016,677.76099999999997,1761.02,null,255,67.099999999999994,69.213999999999999,26.774000000000001,null,163.08799999999999,4016.58,16.5,189.50900000000007,4222.5889999999999,8758.5920000000006]
["2015-03-31",164.80000000000007,0,1120.5780000000013,647.76099999999997,1761.02,255,162.393,4212.5889999999999,8324.1410000000014,null,"2015-03-31",164.80000000000007,0,1120.5780000000013,647.76099999999997,1761.02,null,255,66.405000000000001,69.213999999999999,26.774000000000001,null,162.393,4016.58,16.5,179.50900000000001,4212.5889999999999,8324.1410000000014]
[{"$nulls":11},"2015-02-28",164.80000000000007,0,1089.382000000001,647.76099999999997,1758.6799999999998,null,255,67.204999999999998,69.213999999999999,21.914000000000001,null,158.33299999999997,4016.58,0,179.50900000000001,4196.0889999999999,8270.0450000000019]
[{"$nulls":11},"2015-01-31",164.80000000000007,0,1078.091000000001,645.46100000000001,1758.6799999999998,null,255,67.204999999999998,69.213999999999999,18.964000000000002,null,155.38299999999998,4016.58,0,179.50900000000001,4196.0889999999999,8253.5040000000008]
[]
[]
[]
[]
[]
[{"$nulls":12},"원자력합"]
[{"$nulls":12},"석탄합","유연탄","무연탄"]
[{"$nulls":12},"LNG합"]
[{"$nulls":12},"유류합","중유","경유"]
[{"$nulls":12},"양수합"]
[{"$nulls":11},"┌","신재생합","소수력","수력","바이오가스","매립가스","바이오매스","바이오중유","부생가스","폐기물","태양광","풍력","연료전지","해양에너지"]
[{"$nulls":11},"│","수력합","소수력","수력"]
[{"$nulls":11},"│","바이오합","바이오가스","매립가스","바이오매스","바이오중유"]
[{"$nulls":11},"└","신에너지","연료전지","IGCC"]
[{"$nulls":12},"폐기물합","부생가스","폐기물"]
[{"$nulls":12},"기타합","가스압","기타"]
[{"$nulls":14},"*기타 : 증류탑폐열활용발전기, 군장에너지#3, 신승에너지 여열 회수 발전기, 명성환경 소각 폐열 발전소"]

{"sheet":"202212","index":1,"n_rows":37,"n_cols":12,"rows_kept":37,"cut":false,"hidden":false,"merged":[[0,0,0,11],[1,0,1,11],[2,0,2,11]]}
["정산요소 내역"]
["조회기간 : 2022-12-01 ~ 2022-12-31"]
["단위 : MWh"]
["연료원코드","연료원","설비용량(MW)","A","RA","ARA","MGO","AMGO","PSE","FCA","OFCA","OR"]
["01","원자력",24650,14504658,14511465,14156017.492995,14143351.377067,14143351.377067,0,14310080.931666,14511465,0]
["02","유연탄",39220.781999999999,22052280,21808101,21804731.338810999,17887036.577877,17887009.791476998,0,21505723.556185,21808101,0]
["03","무연탄",400,268584,268584,268584,246785.61208799999,246785.61208799999,0,268584,268584,0]
["05","바이오가스",85.32,0,0,0,34166.137439999999,34166.137439999999,0,0,0,0]
["06","부생가스",4327.49,0,0,0,49289.809785999998,49289.809785999998,0,0,0,0]
["07","소수력",193.172,0,0,0,34259.482422000001,34259.482422000001,0,0,0,0]
["08","수력",1609.8520000000001,156884,156443,156443,159175.48860400001,159175.48860400001,0,0,0,0]
["09","양수",4700,1280,1280,1280,305514.67478599999,305514.67478599999,0,0,0,0]
["10","매립가스",63.734000000000002,0,0,0,20257.270579,20257.270579,0,0,0,0]
["12","중유",226,80025,74018,73973.936384000001,67573.709491000001,67573.709491000001,0,74018.883749999994,74018,0]
["13","태양광",6878.3649999999998,0,0,0,439949.54074899998,439949.54074899998,0,0,0,0]
["15","폐기물",363.077,0,0,0,86958.534119999997,86958.534119999997,0,0,0,0]
["16","풍력",1892.2329999999999,0,0,0,445112.06230599998,445112.06230599998,0,0,0,0]
["17","LNG",42107.875999999997,32211197,31589753,31578723.986848999,16405915.478933999,16400174.136972001,0,31592251.862016,31589653,4934]
["18","LPG",88,58031,58031,58031,26664.090432000001,26664.090432000001,0,58031,58031,0]
["20","연료전지",871.86800000000005,0,0,0,480097.579684,480097.579684,0,0,0,0]
["21","경유",612.04499999999996,506705,506784,506770,46438.874215999997,46436.765143999997,0,506784,506784,0]
["22","해양에너지",255.5,0,0,0,36478.801463999996,36478.801463999996,0,0,0,0]
["23","가스압",0.3,0,0,0,0,0,0,0,0,0]
["24","바이오매스",1248.0129999999999,0,0,0,722011.17104499997,722011.17104499997,0,0,0,0]
["25","IGCC",346.33,158586,145768,145642.06599999999,140544.39952000001,140544.39952000001,0,145784.09487999999,145768,0]
["32","바이오중유",390,271027,270548,270548,151977.82773600001,151977.82773600001,0,270548.53793599998,270548,0]
["40","RPS",0,0,0,0,0,0,0,0,0,0]
["41","DER",0,0,0,0,0,0,0,0,0,0]
["99","기타",21.4,0,0,0,12802.951359000001,12802.951359000001,0,0,0,0]
["원자력합","원자력합",24650,14504658,14511465,14156017.492995001,14143351.377067002,14143351.377067002,0,14310080.931666,14511465,0]
["석탄합","석탄합",39620.781999999999,22320864,22076685,22073315.338810999,18133822.189964999,18133795.403565001,0,21774307.556185,22076685,0]
["LNG합","LNG합",42107.875999999997,32211197,31589753,31578723.986848999,16405915.478933999,16400174.136972001,0,31592251.862015996,31589653,4934]
["유류합","유류합",838.04499999999996,586730,580802,580743.936384,114012.583707,114010.47463499999,0,580802.88375000004,580802,0]
["양수합","양수합",4700,1280,1280,1280,305514.67478599999,305514.67478599999,0,0,0,0]
["신재생합","신재생합",13834.387000000001,586497,572759,572633.06599999999,2664029.7615490002,2664029.7615490002,0,416332.63281599997,416316,0]
["기타합","기타합",4800.2669999999998,58031,58031,58031,175715.38569700005,175715.38569700005,0,58031,58031,0]
["총계",null,130551.357,70269257,69390775,69020744.821039006,51942361.451705001,51936591.214271002,0,68731806.866432995,69232952,4934]

{"sheet":"202211","index":2,"n_rows":37,"n_cols":12,"rows_kept":37,"cut":false,"hidden":false,"merged":[[0,0,0,11],[1,0,1,11],[2,0,2,11]]}
["정산요소 내역"]
["조회기간 : 2022-11-01 ~ 2022-11-30"]
["단위 : MWh"]
["연료원코드","연료원","설비용량(MW)","A","RA","ARA","MGO","AMGO","PSE","FCA","OFCA","OR"]
["01","원자력",24650,13419488,13352196,13352192.331150999,13336544.251985,13336543.6566,0,13028882.786067,13352196,0]
["02","유연탄",39220.781999999999,19126398,18781385,18779733.575087,14319555.982082,14319555.982082,0,18492138.28748,18781385,0]
["03","무연탄",400,139078,137190,137182.23860099999,125924.267617,125924.267617,0,137203.736118,137190,0]
["05","바이오가스",85.32,0,0,0,32550.555423999998,32550.555423999998,0,0,0,0]
["06","부생가스",4327.49,0,0,0,44318.912738999999,44318.912738999999,0,0,0,0]
["07","소수력",193.172,0,0,0,34449.865028,34449.865028,0,0,0,0]
["08","수력",1609.8520000000001,164007,167919,167919,174484.46494899999,174484.46494899999,0,0,0,0]
["09","양수",4700,8591,8469,7742.1259739999996,311647.72879600001,311647.72879600001,0,0,0,0]
["10","매립가스",63.734000000000002,0,0,0,18834.600655999999,18834.600655999999,0,0,0,0]
["12","중유",226,81267,77668,77653.796144000007,51807.861164000002,51807.861164000002,0,77668.362416000004,77668,0]
["13","태양광",6791.7790000000005,0,0,0,588037.566765,588037.566765,0,0,0,0]
["15","폐기물",363.077,0,0,0,86780.256267999997,86780.256267999997,0,0,0,0]
["16","풍력",1798.5329999999999,0,0,0,254193.964912,254193.964912,0,0,0,0]
["17","LNG",42107.875999999997,26680666,25963868,25941102.855415002,12366487.258071,12366464.366686,0,25966094.284630999,25963696,111517]
["18","LPG",88,35922,35922,35922,900.37281599999994,900.23796800000002,0,35922,35922,0]
["20","연료전지",871.86800000000005,0,0,0,439050.467833,439050.467833,0,0,0,0]
["21","경유",612.04499999999996,392749,393493,393459.90875200002,25475.107671999998,25475.107671999998,0,393493.11105599999,393493,0]
["22","해양에너지",255.5,0,0,0,35045.077367999998,35045.077367999998,0,0,0,0]
["23","가스압",0.3,0,0,0,0,0,0,0,0,0]
["24","바이오매스",1248.0129999999999,0,0,0,688475.54474599997,688475.54474599997,0,0,0,0]
["25","IGCC",346.33,0,0,0,0,0,0,0,0,0]
["32","바이오중유",390,248913,247782,247781.004032,136304.84588000001,136304.84588000001,0,247796.17018399999,247782,0]
["40","RPS",0,0,0,0,0,0,0,0,0,0]
["41","DER",0,0,0,0,0,0,0,0,0,0]
["99","기타",21.4,0,0,0,12568.453186000001,12568.453186000001,0,0,0,0]
["원자력합","원자력합",24650,13419488,13352196,13352192.331150999,13336544.251985,13336543.6566,0,13028882.786067,13352196,0]
["석탄합","석탄합",39620.781999999999,19265476,18918575,18916915.813687999,14445480.249698998,14445480.249698998,0,18629342.023598,18918575,0]
["LNG합","LNG합",42107.875999999997,26680666,25963868,25941102.855414998,12366487.258071,12366464.366686,0,25966094.284630999,25963696,111517]
["유류합","유류합",838.04499999999996,474016,471161,471113.70489599998,77282.968836,77282.968836,0,471161.47347200004,471161,0]
["양수합","양수합",4700,8591,8469,7742.1259739999996,311647.72879600001,311647.72879600001,0,0,0,0]
["신재생합","신재생합",13654.101000000001,412920,415701,415700.00403200003,2401426.9535610001,2401426.9535610001,0,247796.17018400002,247782,0]
["기타합","기타합",4800.2669999999998,35922,35922,35922,144567.99500900001,144567.86016099999,0,35922,35922,0]
["총계",null,130371.071,60297079,59165892,59140688.835156001,43083437.405956998,43083413.784339003,0,58379198.737952001,58989332,111517]

{"sheet":"202210","index":3,"n_rows":40,"n_cols":12,"rows_kept":40,"cut":false,"hidden":false,"merged":[[0,0,0,11],[1,0,1,11],[2,0,2,11]]}
["정산요소 내역"]
["조회기간 : 2022-10-01 ~ 2022-10-31"]
["단위 : MWh"]
["연료원코드","연료원","설비용량(MW)","A","RA","ARA","MGO","AMGO","PSE","FCA","OFCA","OR"]
["01","원자력",24650,13715012,13701058,13700567.815624001,13682526.03386,13682526.03386,0,13613944.830078,13701058,0]
["02","유연탄",39220.781999999999,19089034,18965175,18964287.887892999,13785130.168532999,13785082.082133001,0,18965425.348398,19495421,0]
["03","무연탄",400,199619,194121,194103.80383600001,177133.733802,177133.733802,0,194182.03676399999,194121,0]
["05","바이오가스",85.608999999999995,0,0,0,20908.604291,20908.604291,0,0,0,0]
["06","부생가스",4327.49,0,0,0,112294.181562,112294.181562,0,0,0,0]
["07","소수력",193.172,0,0,0,39785.164991999998,39785.164991999998,0,0,0,0]
["08","수력",1609.8520000000001,188117,202205,202205,207666.96375900001,207666.96375900001,0,0,0,0]
["09","양수",4700,3410,3262,3262,323024.14708199998,323024.14708199998,0,0,0,0]
["10","매립가스",63.734000000000002,0,0,0,15514.525054,15514.525054,0,0,0,0]
["12","중유",226,105778,94260,93778,43939.944813000002,43939.944813000002,0,94260.286544000002,94260,0]
["13","태양광",6720.0860000000002,0,0,0,776861.87588099996,776861.87588099996,0,0,0,0]
["15","폐기물",363.077,0,0,0,90810.989079000006,90810.989079000006,0,0,0,0]
["16","풍력",1774.5329999999999,0,0,0,252269.704937,252269.704937,0,0,0,0]
["17","LNG",42107.875999999997,23858821,23612773,23571557.72913,11146865.214214001,11146850.274064001,0,23614699.754301,23612610,160039]
["18","LPG",88,38688,38688,38688,557.60432000000003,557.07172300000002,0,38688,38688,0]
["20","연료전지",860.06799999999998,0,0,0,440650.31624900002,440650.31624900002,0,0,0,0]
["21","경유",612.04499999999996,166950,166254,166252.37779200001,22306.496744,22306.496744,0,164713.506864,164630,0]
["22","해양에너지",255.5,0,0,0,39706.343664,39706.343664,0,0,0,0]
["23","가스압",0.3,0,0,0,0,0,0,0,0,0]
["24","바이오매스",1248.0129999999999,0,0,0,720768.18754800002,720768.18754800002,0,0,0,0]
["25","IGCC",346.33,78745,78745,78745,77527.21312,77527.21312,0,78882.035040000002,78745,0]
["32","바이오중유",390,219927,218392,218392,107825.336136,107825.336136,0,218395.311544,218392,0]
["40","RPS",0,0,0,0,0,0,0,0,0,0]
["41","DER",0,0,0,0,0,0,0,0,0,0]
["99","기타",21.4,0,0,0,12966.375674000001,12966.375674000001,0,0,0,0]
["원자력합","원자력합",24650,13715012,13701058,13700567.815624001,13682526.03386,13682526.03386,0,13701058,0]
["석탄합","석탄합",39620.781999999999,19288653,19159296,19158391.691729002,13962263.902335001,13962215.815934997,0,19689542,0]
["LNG합","LNG합",42107.875999999997,23858821,23612773,23571557.72913,11146865.214214001,11146850.274064001,0,23612610,160039]
["유류합","유류합",838.04499999999996,272728,260514,260030.37779200001,66246.441556999998,66246.441556999998,0,258890,0]
["양수합","양수합",4700,3410,3262,3262,323024.14708200004,323024.14708200004,0,0,0]
["신재생합","신재생합",18237.464,486789,499342,499342,2902589.4062719988,2902589.4062719988,0,297137,0]
["기타합","기타합",21.7,0,0,0,12966.375673999999,12966.375673999999,0,0,0]
["수력합","수력합",1803.0239999999999,188117,202205,202205,247452.12875100001,247452.12875100001,0,0,0]
["폐기물합","폐기물합",4690.567,0,0,0,203105.170641,203105.170641,0,0,0]
["바이오합","바이오합",1787.356,219927,218392,218392,865016.65302900004,865016.65302900004,0,218392,0]
["총계",null,130263.867,57664101,57274933,57231839.614275001,42097039.125313997,42096975.566166997,0,56983191.109532997,57597925,160039]

{"sheet":"202209","index":4,"n_rows":40,"n_cols":12,"rows_kept":40,"cut":false,"hidden":false,"merged":[[0,0,0,11],[1,0,1,11],[2,0,2,11]]}
["정산요소 내역"]
["조회기간 : 2022-09-01 ~ 2022-09-30"]
["단위 : MWh"]
["연료원코드","연료원","설비용량(MW)","A","RA","ARA","MGO","AMGO","PSE","FCA","OFCA","OR"]
["01","원자력",24650,13700898,13434105,13432130.264674,13402906.342611,13402906.342611,0,12539497.0211,13434105,0]
["02","유연탄",38180.781999999999,20435468,20308305,20307927.033530999,14781080.114286,14781080.114286,0,20308990.692186002,20666427,0]
["03","무연탄",400,164610,164113,163019.93544999999,134079.81922899999,134079.81922899999,0,164153.08989100001,164113,0]
["05","바이오가스",85.608999999999995,0,0,0,14707.649121,14707.649121,0,0,0,0]
["06","부생가스",4327.49,0,0,0,48698.565225999999,48698.565225999999,0,0,0,0]
["07","소수력",193.172,0,0,0,49450.812116000001,49450.812116000001,0,0,0,0]
["08","수력",1609.8520000000001,411788,417526,417526,430396.18645199999,430396.18645199999,0,0,0,0]
["09","양수",4700,6150,6148,6148,315227.517299,315227.517299,0,0,0,0]
["10","매립가스",63.734000000000002,0,0,0,17392.531566000001,17392.531566000001,0,0,0,0]
["12","중유",226,114107,113996,113995.387968,23270.319256999999,23270.319256999999,0,113996,113996,0]
["13","태양광",6658.8770000000004,0,0,0,696313.54516400001,696313.54516400001,0,0,0,0]
["15","폐기물",363.077,0,0,0,85234.194501999998,85234.194501999998,0,0,0,0]
["16","풍력",1774.5329999999999,0,0,0,226015.07811,226015.07811,0,0,0,0]
["17","LNG",42107.875999999997,26465139,26270263,26265817.272681002,11033690.718684999,11033690.718684999,0,26270383.815905001,26270201,211851]
["18","LPG",88,37440,37440,37440,1262.8051519999999,1262.8051519999999,0,37440,37440,0]
["20","연료전지",843.06799999999998,0,0,0,423357.431231,423357.431231,0,0,0,0]
["21","경유",612.04499999999996,371366,363182,363113.18695200002,29261.949359999999,29261.949359999999,0,363231.66946399998,363182,1083]
["22","해양에너지",255.5,0,0,0,39890.338151999997,39890.338151999997,0,0,0,0]
["23","가스압",0.3,0,0,0,0,0,0,0,0,0]
["24","바이오매스",1248.0129999999999,0,0,0,627681.439809,627681.439809,0,0,0,0]
["25","IGCC",346.33,196721,192846,192807.7004,135438.96799999999,135438.96799999999,0,192864.90304,192846,0]
["32","바이오중유",390,268486,268498,268496.46774400002,139242.34805599999,139242.34805599999,0,268498,268498,0]
["40","RPS",0,0,0,0,0,0,0,0,0,0]
["41","DER",0,0,0,0,0,0,0,0,0,0]
["99","기타",21.4,0,0,0,10935.832005,10935.832005,0,0,0,0]
["원자력합","원자력합",24650,13700898,13434105,13432130.264674,13402906.342611,13402906.342611,0,13434105,0]
["석탄합","석탄합",38580.781999999999,20600078,20472418,20470946.968981002,14915159.933514996,14915159.933514996,0,20830540,0]
["LNG합","LNG합",42107.875999999997,26465139,26270263,26265817.272681002,11033690.718685001,11033690.718685001,0,26270201,211851]
["유류합","유류합",838.04499999999996,485473,477178,477108.57491999998,52532.268617000002,52532.268617000002,0,477178,1083]
["양수합","양수합",4700,6150,6148,6148,315227.517299,315227.517299,0,0,0]
["신재생합","신재생합",18159.255000000001,876995,878870,878830.168144,2933819.0875049997,2933819.0875049997,0,461344,0]
["기타합","기타합",21.7,0,0,0,10935.832005,10935.832005,0,0,0]
["수력합","수력합",1803.0239999999999,411788,417526,417526,479846.99856800004,479846.99856800004,0,0,0]
["폐기물합","폐기물합",4690.567,0,0,0,133932.759728,133932.759728,0,0,0]
["바이오합","바이오합",1787.356,268486,268498,268496.46774400002,799023.96855200001,799023.96855200001,0,268498,0]
["총계",null,129145.658,62172173,61576422,61568421.249399997,42665534.505388997,42665534.505388997,0,60259055.191586003,61510808,212934]

{"sheet":"202208","index":5,"n_rows":39,"n_cols":12,"rows_kept":39,"cut":false,"hidden":false,"merged":[[0,0,0,11],[1,0,1,11],[2,0,2,11]]}
["정산요소 내역"]
["조회기간 : 2022-08-01 ~ 2022-08-31"]
["단위 : MWh"]
["연료원코드","연료원","설비용량(MW)","A","RA","ARA","MGO","AMGO","PSE","FCA","OFCA","OR"]
["01","원자력",24650,15621122,15506068,15503695.391051,15487381.672217,15487381.672217,14967648,14942678.081897,15506068,0]
["02","유연탄",38180.781999999999,22761736,22596932,22596834.474123001,17754657.439711999,17754657.439711999,21971103,22597897.801204,23149017,0]
["03","무연탄",400,268584,268502,268502,245318.95402599999,245318.95402599999,268584,268506.084485,268502,0]
["05","바이오가스",85.608999999999995,0,0,0,32942.883670000003,32942.883670000003,0,0,0,0]
["06","부생가스",4327.49,0,0,0,65398.727162000003,65398.727162000003,0,0,0,0]
["07","소수력",193.172,0,0,0,49975.769070000002,49975.769070000002,0,0,0,0]
["08","수력",1609.8520000000001,570423,621801,621801,634846.42411999998,634846.42411999998,570422,0,0,0]
["09","양수",4700,3776,3776,3776,328061.03561399999,328061.03561399999,1929,0,0,0]
["10","매립가스",63.734000000000002,0,0,0,20213.820530000001,20213.820530000001,0,0,0,0]
["12","중유",226,121363,121162,120936.387464,23184.757941,23184.757941,23076,121162.832824,121162,0]
["13","태양광",6493.7380000000003,0,0,0,642662.03816800006,642662.03816800006,0,0,0,0]
["15","폐기물",363.077,0,0,0,88777.586047999997,88777.586047999997,0,0,0,0]
["16","풍력",1753.5329999999999,0,0,0,234303.12830499999,234303.12830499999,0,0,0,0]
["17","LNG",41915.447999999997,28622283,28473621,28470359.640845001,12906324.483228,12906323.264178,9271159,28473687.679853,28473565,194520]
["18","LPG",88,38688,38688,38688,1474.799424,1474.799424,0,38688,38688,0]
["20","연료전지",825.66800000000001,0,0,0,433776.514027,433776.514027,0,0,0,0]
["21","경유",612.04499999999996,388563,389144,389143.15926400002,13220.625599999999,13220.625599999999,11574,389190.45561599999,389144,0]
["22","해양에너지",255.5,0,0,0,38444.743344000002,38444.743344000002,0,0,0,0]
["23","가스압",0.3,0,0,0,0,0,0,0,0,0]
["24","바이오매스",1248.0129999999999,0,0,0,694944.47094100004,694944.47094100004,0,0,0,0]
["25","IGCC",346.33,203400,196982,196982.20856,194185.94383999999,194185.94383999999,203400,197094.14144000001,196982,0]
["32","바이오중유",390,276201,273904,273900.00939199998,152417.81055200001,152417.81055200001,39173,273923.17817600002,273904,0]
["40","RPS",0,0,0,0,0,0,0,0,0,0]
["99","기타",21.4,0,0,0,13129.039192,13129.039192,0,0,0,0]
["원자력합","원자력합",24650,15621122,15506068,15503695.391051002,15487381.672217002,15487381.672217002,14967648,14942678.081897,15506068,0]
["석탄합","석탄합",38580.781999999999,23030320,22865434,22865336.474123001,17999976.393738002,17999976.393738002,22239687,22866403.885689002,23417519,0]
["LNG합","LNG합",41915.447999999997,28622283,28473621,28470359.640845001,12906324.483228,12906323.264178,9271159,28473687.679853003,28473565,194520]
["유류합","유류합",838.04499999999996,509926,510306,510079.54672799999,36405.383541000003,36405.383541000003,34650,510353.28843999997,510306,0]
["양수합","양수합",4700,3776,3776,3776,328061.03561399999,328061.03561399999,1929,0,0,0]
["신재생합","신재생합",17955.716,1050024,1092687,1092683.217952,3282889.8597770003,3282889.8597770003,812995,471017.31961599999,470886,0]
["기타합","기타합",21.7,0,0,0,13129.039192,13129.039192,0,0,0,0]
["수력합","수력합",1803.0239999999999,570423,621801,621801,684822.19319000002,684822.19319000002,570422,0,0,0]
["폐기물합","폐기물합",4690.567,0,0,0,154176.31320999999,154176.31320999999,0,0,0,0]
["바이오합","바이오합",1787.356,276201,273904,273900.00939200004,900518.98569300002,900518.98569300002,39173,273923.17817600002,273904,0]
["총계",null,128749.69100000001,68876139,68490580,68484618.270698994,50055642.666731,50055641.447681002,47328068,67302828.255494997,68417032,194520]

{"sheet":"202207","index":6,"n_rows":39,"n_cols":12,"rows_kept":39,"cut":false,"hidden":false,"merged":[[0,0,0,11],[1,0,1,11],[2,0,2,11]]}
["정산요소 내역"]
["조회기간 : 2022-07-01 ~ 2022-07-31"]
["단위 : MWh"]
["연료원코드","연료원","설비용량(MW)","A","RA","ARA","MGO","AMGO","PSE","FCA","OFCA","OR"]
["01","원자력",24650,14646624,14609271,14607759.83327,14590408.304018,14590408.304018,14471595,14472058.172236999,14609271,0]
["02","유연탄",38180.781999999999,22477740,22275350,22274139.195583999,18519926.948915999,18519926.948915999,22066990,22277080.865908001,22309988,0]
["03","무연탄",400,268584,268584,268579.51164300001,246015.22683500001,246015.22683500001,268584,268584.512415,268584,0]
["05","바이오가스",85.608999999999995,0,0,0,33037.116914999999,33037.116914999999,0,0,0,0]
["06","부생가스",4327.49,0,0,0,31983.897183000001,31983.897183000001,0,0,0,0]
["07","소수력",193.172,0,0,0,51979.580532,51979.580532,0,0,0,0]
["08","수력",1609.8520000000001,313088,336462,336462,341209.45827800001,341209.45827800001,313086,0,0,0]
["09","양수",4700,280,280,280,286006.07244600001,286006.07244600001,-1355,0,0,0]
["10","매립가스",63.734000000000002,0,0,0,16621.288796000001,16621.288796000001,0,0,0,0]
["12","중유",266,145249,143796,143743.50518400001,45393.135833,45393.135833,27794,143800.75105600001,143796,0]
["13","태양광",6360.1559999999999,0,0,0,741851.872722,741851.872722,0,0,0,0]
["15","폐기물",363.077,0,0,0,97153.929201000006,97153.929201000006,0,0,0,0]
["16","풍력",1753.5329999999999,0,0,0,135265.57769800001,135265.57769800001,0,0,0,0]
["17","LNG",42497.463000000003,28118535,27515335,27509032.124756001,14475051.629303001,14475051.629303001,10920370,27516686.811788,27515054,222301]
["18","LPG",88,36806,36806,36806,948.82312000000002,948.82312000000002,0,36806,36806,0]
["20","연료전지",809.82799999999997,0,0,0,426115.00219600002,426115.00219600002,0,0,0,0]
["21","경유",612.04499999999996,381918,374470,374470,33265.946448000002,33264.075040000003,11922,374524.34688000003,374470,6647]
["22","해양에너지",255.5,0,0,0,35715.695568000003,35715.695568000003,0,0,0,0]
["23","가스압",0.3,0,0,0,0,0,0,0,0,0]
["24","바이오매스",1245.0129999999999,0,0,0,566578.76979399996,566578.76979399996,0,0,0,0]
["25","IGCC",346.33,195978,190170,190169.62143999999,188875.38488,188875.38488,195978,190679.46960000001,190170,0]
["32","바이오중유",350,185234,181151,180626.976688,108404.923368,108404.923368,15112,181152.00803999999,181151,0]
["40","RPS",0,0,0,0,0,0,0,0,0,0]
["99","기타",21.4,0,0,0,11106.605681999999,11106.605681999999,0,0,0,0]
["원자력합","원자력합",24650,14646624,14609271,14607759.83327,14590408.304018,14590408.304018,14471595,14472058.172236999,14609271,0]
["석탄합","석탄합",38580.781999999999,22746324,22543934,22542718.707226999,18765942.175751001,18765942.175751001,22335574,22545665.378322996,22578572,0]
["LNG합","LNG합",42497.463000000003,28118535,27515335,27509032.124756001,14475051.629302999,14475051.629302999,10920370,27516686.811788,27515054,222301]
["유류합","유류합",878.04499999999996,527167,518266,518213.50518400001,78659.082280999995,78657.210873000004,39716,518325.09793599998,518266,6647]
["양수합","양수합",4700,280,280,280,286006.07244600001,286006.07244600001,-1355,0,0,0]
["신재생합","신재생합",17763.294000000002,694300,707783,707258.59812799993,2774792.4971310003,2774792.4971310003,524176,371831.47764,371321,0]
["기타합","기타합",21.7,0,0,0,11106.605681999999,11106.605681999999,0,0,0,0]
["수력합","수력합",1803.0239999999999,313088,336462,336462,393189.03881,393189.03881,313086,0,0,0]
["폐기물합","폐기물합",4690.567,0,0,0,129137.82638399999,129137.82638399999,0,0,0,0]
["바이오합","바이오합",1744.356,185234,181151,180626.97668800002,724642.09887300001,724642.09887300001,15112,181152.00804000002,181151,0]
["총계",null,129179.284,66770036,65931675,65922068.768564999,50982915.189732,50982913.318324,48290076,65461372.937923998,65629290,228948]

{"sheet":"202206","index":7,"n_rows":39,"n_cols":12,"rows_kept":39,"cut":false,"hidden":false,"merged":[[0,0,0,11],[1,0,1,11],[2,0,2,11]]}
["정산요소 내역"]
["조회기간 : 2022-06-01 ~ 2022-06-30"]
["단위 : MWh"]
["연료원코드","연료원","설비용량(MW)","A","RA","ARA","MGO","AMGO","PSE","FCA","OFCA","OR"]
[1,"원자력",24650,14132388,14028760,13971321.393371999,13956297.176927,13956297.176927,14085628,14002828.916013001,14028760,0]
[2,"유연탄",38180.781999999999,18897568,18493887,18485479.224459,14658756.458851,14658756.458851,18485657,18497439.019099999,18682207,0]
[3,"무연탄",400,155580,152776,152773.05796500001,140103.79350599999,140103.79350599999,155580,152809.35460699999,152776,0]
[5,"바이오가스",85.608999999999995,0,0,0,28912.060193000001,28912.060193000001,0,0,0,0]
[6,"부생가스",4327.49,0,0,0,29248.775288000001,29248.775288000001,0,0,0,0]
[7,"소수력",193.09200000000001,0,0,0,42815.484790000002,42815.484790000002,0,0,0,0]
[8,"수력",1609.8520000000001,207219,228619,228619,232362.16232999999,232362.16232999999,207218,0,0,0]
[9,"양수",4700,10610,9930,9930,275659.76531300001,275659.76531300001,-3761,0,0,0]
[10,"매립가스",63.734000000000002,0,0,0,19355.541739,19355.541739,0,0,0,0]
[12,"중유",266,84708,81999,81965.239879999994,30483.646940999999,30483.646940999999,12190,82039.850183999995,81999,0]
[13,"태양광",6290.1909999999998,0,0,0,718657.48723299999,718657.48723299999,0,0,0,0]
[15,"폐기물",363.077,0,0,0,86271.780209000004,86271.780209000004,0,0,0,0]
[16,"풍력",1753.5329999999999,0,0,0,246879.77849299999,246879.77849299999,0,0,0,0]
[17,"LNG",41528.025999999998,23619710,23030693,23019402.046558,12206145.246461,12206144.513309,7859066,23031309.416157,23030411,280124]
[18,"LPG",88,37440,37440,37440,671.19662400000004,671.19662400000004,0,37440,37440,0]
[20,"연료전지",800.22799999999995,0,0,0,399527.257117,399527.257117,0,0,0,0]
[21,"경유",612.04499999999996,385975,381033,376622,27962.022983999999,27962.022983999999,11565,381054.31884800002,381033,4021]
[22,"해양에너지",255.5,0,0,0,22694.458416000001,22694.458416000001,0,0,0,0]
[23,"가스압",0.3,0,0,0,0,0,0,0,0,0]
[24,"바이오매스",1245.0129999999999,0,0,0,478850.60131599999,478850.60131599999,0,0,0,0]
[25,"IGCC",346.33,66019,56878,56878.463360000002,93957.528560000006,93957.528560000006,66019,56980.849280000002,56878,0]
[32,"바이오중유",350,172080,172080,172080,99918.098503999994,99918.098503999994,12761,172080.653888,172080,0]
[40,"RPS",0,0,0,0,0,0,0,0,0,0]
[99,"기타",21.4,0,0,0,12385.816366999999,12385.816366999999,0,0,0,0]
["원자력합","원자력합",24650,14132388,14028760,13971321.393371999,13956297.176926998,13956297.176926998,14085628,14002828.916013001,14028760,0]
["석탄합","석탄합",38580.781999999999,19053148,18646663,18638252.282423999,14798860.252357,14798860.252357,18641237,18650248.373707,18834983,0]
["LNG합","LNG합",41528.025999999998,23619710,23030693,23019402.046558,12206145.246461,12206144.513309,7859066,23031309.416157,23030411,280124]
["유류합","유류합",878.04499999999996,470683,463032,458587.23988000001,58445.669925000002,58445.669925000002,23755,463094.16903199995,463032,4021]
["양수합","양수합",4700,10610,9930,9930,275659.76531300001,275659.76531300001,-3761,0,0,0]
["신재생합","신재생합",17683.649000000001,445318,457577,457577.46336000005,2499451.0141879995,2499451.0141879995,285998,229061.503168,228958,0]
["기타합","기타합",21.7,0,0,0,12385.816366999999,12385.816366999999,0,0,0,0]
["수력합","수력합",1802.944,207219,228619,228619,275177.64711999998,275177.64711999998,207218,0,0,0]
["폐기물합","폐기물합",4690.567,0,0,0,115520.55549700001,115520.55549700001,0,0,0,0]
["바이오합","바이오합",1744.356,172080,172080,172080,627036.301752,627036.301752,12761,172080.653888,172080,0]
["총계",null,128130.202,57769297,56674095,56592510.425594002,43807916.138162002,43807915.40501,40891923,56413982.378077,56623584,284145]

{"sheet":"202205","index":8,"n_rows":39,"n_cols":12,"rows_kept":39,"cut":false,"hidden":false,"merged":[[0,0,0,11],[1,0,1,11],[2,0,2,11]]}
["정산요소 내역"]
["조회기간 : 2022-05-01 ~ 2022-05-31"]
["단위 : MWh"]
["연료원코드","연료원","설비용량(MW)","A","RA","ARA","MGO","AMGO","PSE","FCA","OFCA","OR"]
[1,"원자력",23250,13957102,13926493,13926482.126168,13911955.782361001,13911955.782361001,13957102,13927454.630315,13926493,0]
[2,"유연탄",38180.781999999999,15745364,15434424,15433217.632378999,12910851.115692001,12910851.115692001,15280761,15436300.459624,15444895,0]
[3,"무연탄",400,252114,251138,251138,148959.41336400001,148959.41336400001,0,251147.943593,251138,0]
[5,"바이오가스",85.608999999999995,0,0,0,36616.188225999998,36616.188225999998,0,0,0,0]
[6,"부생가스",4327.49,0,0,0,36934.226369000004,36934.226369000004,0,0,0,0]
[7,"소수력",201.29,0,0,0,46631.949482000004,46631.949482000004,0,0,0,0]
[8,"수력",1609.8520000000001,191188,191852,191852,193998.726972,193998.726972,191191,0,0,0]
[9,"양수",4700,3508,3508,3508,292838.09698199999,292838.09698199999,-115,0,0,0]
[10,"매립가스",63.734000000000002,0,0,0,19555.105369000001,19555.105369000001,0,0,0,0]
[12,"중유",270.3,100859,99257,99251.387463999999,30488.812223000001,30486.661758999999,15887,99273.731688,99257,0]
[13,"태양광",6270.92,0,0,0,1000574.0932379999,1000574.0932379999,0,0,0,0]
[15,"폐기물",363.077,0,0,0,85165.140222000002,85165.140222000002,0,0,0,0]
[16,"풍력",1753.5329999999999,0,0,0,243521.28897299999,243521.28897299999,0,0,0,0]
[17,"LNG",41528.025999999998,22684092,22455950,22440068.317519002,11817152.612686999,11817152.612686999,9238308,22457481.055342998,22455869,200968.8]
[18,"LPG",88,30556,30556,30556,159.19612799999999,159.19612799999999,0,30556,30556,0]
[20,"연료전지",800.22799999999995,0,0,0,466046.48533,466046.48533,0,0,0,0]
[21,"경유",612.04499999999996,360552,353424,353416.57113599998,6582.2441440000002,6582.2441440000002,282,353424,353424,2221]
[22,"해양에너지",255.5,0,0,0,38067.930624000001,38067.930624000001,0,0,0,0]
[23,"가스압",0.3,0,0,0,0,0,0,0,0,0]
[24,"바이오매스",1245.0129999999999,0,0,0,617542.94666000002,617542.94666000002,0,0,0,0]
[25,"IGCC",346.33,0,0,0,5796.7599200000004,5796.7599200000004,0,0,0,0]
[32,"바이오중유",350,241229,241190,241180.880936,134459.12222399999,134459.12222399999,36580,241190.108224,241190,0]
[40,"RPS",0,0,0,0,0,0,0,0,0,0]
[99,"기타",21.4,0,0,0,12954.010912,12954.010912,0,0,0,0]
["원자력합","원자력합",23250,13957102,13926493,13926482.126168,13911955.782360999,13911955.782360999,13957102,13927454.630315,13926493,0]
["석탄합","석탄합",38580.781999999999,15997478,15685562,15684355.632379001,13059810.529055998,13059810.529055998,15280761,15687448.403217001,15696033,0]
["LNG합","LNG합",41528.025999999998,22684092,22455950,22440068.317519002,11817152.612686999,11817152.612686999,9238308,22457481.055342998,22455869,200968.8]
["유류합","유류합",882.34500000000003,461411,452681,452667.95860000001,37071.056367000005,37068.905902999999,16169,452697.73168800003,452681,2221]
["양수합","양수합",4700,3508,3508,3508,292838.09698199999,292838.09698199999,-115,0,0,0]
["신재생합","신재생합",17672.576000000001,432417,433042,433032.88093599997,2924909.9636090007,2924909.9636090007,227771,241190.10822399997,241190,0]
["기타합","기타합",21.7,0,0,0,12954.010912,12954.010912,0,0,0,0]
["수력합","수력합",1811.1420000000001,191188,191852,191852,240630.676454,240630.676454,191191,0,0,0]
["폐기물합","폐기물합",4690.567,0,0,0,122099.36659100001,122099.36659100001,0,0,0,0]
["바이오합","바이오합",1744.356,241229,241190,241180.880936,808173.36247900024,808173.36247900024,36580,241190.10822399997,241190,0]
["총계",null,126723.429,53566564,52987792,52970670.915601999,42056851.248102002,42056849.097638004,38719996,52796827.928787,52802822,203189.8]

{"sheet":"202204","index":9,"n_rows":39,"n_cols":12,"rows_kept":39,"cut":false,"hidden":false,"merged":[[0,0,0,11],[1,0,1,11],[2,0,2,11]]}
["정산요소 내역"]
["조회기간 : 2022-04-01 ~ 2022-04-30"]
["단위 : MWh"]
["연료원코드","연료원","설비용량(MW)","A","RA","ARA","MGO","AMGO","PSE","FCA","OFCA","OR"]
["01","원자력",23250,12811336,12759905,12759874.379211999,12747591.166469,12747591.166469,12811336,12760752.219074,12759905,0]
["02","유연탄",37140.781999999999,13827683,13629758,13626708.458487,12597684.541662,12597684.541662,13816730,13631507.132285001,13629758,0]
["03","무연탄",400,231341,229905,229905,212594.276958,212594.276958,231341,229924.020039,229905,0]
["05","바이오가스",85.608999999999995,0,0,0,32908.238427999997,32908.238427999997,0,0,0,0]
["06","부생가스",4327.49,0,0,0,48116.538604000001,48116.538604000001,0,0,0,0]
["07","소수력",201.29,0,0,0,41974.867614000003,41974.867614000003,0,0,0,0]
["08","수력",1609.8520000000001,157560,156880,156880,160654.555341,160654.555341,157567,0,0,0]
["09","양수",4700,6468,6168,6168,265680.747286,265680.747286,212,0,0,0]
["10","매립가스",63.734000000000002,0,0,0,4938.1558720000003,4938.1558720000003,0,0,0,0]
["12","중유",270.3,106926,106475,106472.49103999999,58705.209174000003,58705.209174000003,48553,106478.462432,106475,0]
["13","태양광",6202.1260000000002,0,0,0,883697.16861499997,883697.16861499997,0,0,0,0]
["15","폐기물",363.077,0,0,0,86796.860751999993,86796.860751999993,0,0,0,0]
["16","풍력",1734.7329999999999,0,0,0,258455.05016300001,258455.05016300001,0,0,0,0]
["17","LNG",41528.025999999998,25351360,25116837,25109574.449181002,12632969.71201,12632948.609494001,10990905,25117947.799462002,25116824,10268]
["18","LPG",88,35818,35818,35818,0,0,0,35818,35818,0]
["20","연료전지",800.22799999999995,0,0,0,450156.766909,450156.766909,0,0,0,0]
["21","경유",612.04499999999996,411357,410535,410461.569632,15954.970472000001,15954.970472000001,16363,410555.92793599999,410535,1864]
["22","해양에너지",255.5,0,0,0,37509.205895999999,37509.205895999999,0,0,0,0]
["23","가스압",0.3,0,0,0,0,0,0,0,0,0]
["24","바이오매스",1245.0129999999999,0,0,0,491927.33388799999,491927.33388799999,0,0,0,0]
["25","IGCC",346.33,0,0,0,125474.59288,125474.59288,0,0,0,0]
["32","바이오중유",350,208583,208016,208008.986408,112795.00831200001,112795.00831200001,5248,208025.56672800001,208016,0]
["40","RPS",0,0,0,0,0,0,0,0,0,0]
["99","기타",21.4,0,0,0,11574.220659000001,11574.220659000001,0,0,0,0]
["원자력합","원자력합",23250,12811336,12759905,12759874.379211999,12747591.166469,12747591.166469,12811336,12760752.219074,12759905,0]
["석탄합","석탄합",37540.781999999999,14059024,13859663,13856613.458487,12810278.81862,12810278.81862,14048071,13861431.152323999,13859663,0]
["LNG합","LNG합",41528.025999999998,25351360,25116837,25109574.449180998,12632969.71201,12632948.609494001,10990905,25117947.799461998,25116824,10268]
["유류합","유류합",882.34500000000003,518283,517010,516934.06067200005,74660.179646000004,74660.179646000004,64916,517034.39036800002,517010,1864]
["양수합","양수합",4700,6468,6168,6168,265680.747286,265680.747286,212,0,0,0]
["신재생합","신재생합",17584.982,366143,364896,364888.986408,2735404.3432740001,2735404.3432740001,162815,208025.56672800001,208016,0]
["기타합","기타합",21.7,0,0,0,11574.220659000001,11574.220659000001,0,0,0,0]
["수력합","수력합",1811.1420000000001,157560,156880,156880,202629.42295499999,202629.42295499999,157567,0,0,0]
["폐기물합","폐기물합",4690.567,0,0,0,134913.39935599998,134913.39935599998,0,0,0,0]
["바이오합","바이오합",1744.356,208583,208016,208008.986408,642568.7365,642568.7365,5248,208025.56672800001,208016,0]
["총계",null,125595.83500000001,53148432,52660297,52649871.333959997,41278159.187964,41278138.085447997,38078255,52501009.127956003,52497236,12132]

{"sheet":"202203","index":10,"n_rows":39,"n_cols":12,"rows_kept":39,"cut":false,"hidden":false,"merged":[[0,0,0,11],[1,0,1,11],[2,0,2,11]]}
["정산요소 내역"]
["조회기간 : 2022-03-01 ~ 2022-03-31"]
["단위 : MWh"]
["연료원코드","연료원","설비용량(MW)","A","RA","ARA","MGO","AMGO","PSE","FCA","OFCA","OR"]
["01","원자력",23250,13525292,13525663,13525581.213724,13197795.380227,13197795.380227,13525292,13526733.749988999,13525663,0]
["02","유연탄",37140.781999999999,13948191,13898493,13895641.63015,13621716.674157999,13621716.674157999,13947231,13902912.766238,13898493,0]
["03","무연탄",400,630,106,106,104.447928,104.447928,630,106.18176800000001,106,0]
["05","바이오가스",85.608999999999995,0,0,0,21400.79477,21400.79477,0,0,0,0]
["06","부생가스",4327.49,0,0,0,43058.45637,43058.45637,0,0,0,0]
["07","소수력",201.29,0,0,0,41983.243162999999,41983.243162999999,0,0,0,0]
["08","수력",1609.8520000000001,155019,162647,162647,164847.61480000001,164847.61480000001,155034,0,0,0]
["09","양수",4700,18425,15609,15609,342797.62147800002,342797.62147800002,6631,0,0,0]
["10","매립가스",63.734000000000002,0,0,0,16482.318474,16482.318474,0,0,0,0]
["12","중유",270.3,129176,127650,127645.204336,83721.586368000004,83721.586368000004,52556,127651.56450399999,127650,0]
["13","태양광",6144.6540000000005,0,0,0,680462.19741799997,680462.19741799997,0,0,0,0]
["15","폐기물",363.077,0,0,0,85471.618294999993,85471.618294999993,0,0,0,0]
["16","풍력",1726.7329999999999,0,0,0,302192.200961,302192.200961,0,0,0,0]
["17","LNG",41528.025999999998,29636937,29328855,29319296.212370999,16314250.124740999,16314243.049725,15215861,29330145.816238001,29328588,27852]
["18","LPG",88,50184,50184,50184,6219.7663359999997,6219.7663359999997,0,50185.545359999996,50184,0]
["20","연료전지",787.90800000000002,0,0,0,454560.20863200002,454560.20863200002,0,0,0,0]
["21","경유",612.04499999999996,490671,489140,487948.47424000001,33321.881375999998,33320.344661000003,20745,489140.23758399999,489140,0]
["22","해양에너지",255.5,0,0,0,27134.16072,27134.16072,0,0,0,0]
["23","가스압",0.3,0,0,0,0,0,0,0,0,0]
["24","바이오매스",1245.0129999999999,0,0,0,506347.84783099999,506347.84783099999,0,0,0,0]
["25","IGCC",346.33,0,0,0,190873.44080000001,190873.44080000001,0,0,0,0]
["32","바이오중유",350,163609,162973,162973,90700.369032000002,90700.369032000002,843,162973,162973,0]
["40","RPS",0,0,0,0,0,0,0,0,0,0]
["99","기타",21.4,0,0,0,43094.940597000001,43094.940597000001,0,0,0,0]
["원자력합","원자력합",23250,13525292,13525663,13525581.213724,13197795.380227,13197795.380227,13525292,13526733.749988999,13525663,0]
["석탄합","석탄합",37540.781999999999,13948821,13898599,13895747.63015,13621821.122086,13621821.122086,13947861,13903018.948006,13898599,0]
["LNG합","LNG합",41528.025999999998,29636937,29328855,29319296.212371003,16314250.124741001,16314243.049725,15215861,29330145.816238001,29328588,27852]
["유류합","유류합",882.34500000000003,619847,616790,615593.67857600003,117043.46774399998,117041.93102899997,73301,616791.802088,616790,0]
["양수합","양수합",4700,18425,15609,15609,342797.62147800002,342797.62147800002,6631,0,0,0]
["신재생합","신재생합",17507.189999999999,318628,325620,325620,2625514.4712660001,2625514.4712660001,155877,162973,162973,0]
["기타합","기타합",21.7,0,0,0,43094.940597000001,43094.940597000001,0,0,0,0]
["수력합","수력합",1811.1420000000001,155019,162647,162647,206830.85796300002,206830.85796300002,155034,0,0,0]
["폐기물합","폐기물합",4690.567,0,0,0,128530.07466500001,128530.07466500001,0,0,0,0]
["바이오합","바이오합",1744.356,163609,162973,162973,634931.33010699996,634931.33010699996,843,162973,162973,0]
["총계",null,125518.04300000001,58118134,57761320,57747631.734820999,46268536.894474998,46268528.282743998,42924823,57589848.861680999,57582797,27852]

{"sheet":"202202","index":11,"n_rows":39,"n_cols":12,"rows_kept":39,"cut":false,"hidden":false,"merged":[[0,0,0,11],[1,0,1,11],[2,0,2,11]]}
["정산요소 내역"]
["조회기간 : 2022-02-01 ~ 2022-02-28"]
["단위 : MWh"]
["연료원코드","연료원","설비용량(MW)","A","RA","ARA","MGO","AMGO","PSE","FCA","OFCA","OR"]
["01","원자력",23250,13385164,13345565,13345423.862837,13313981.862710999,13313981.862710999,13385114,13347084.866657,13345565,0]
["02","유연탄",37390.781999999999,18209156,17853945,17850195.657816,15433123.942237001,15433123.942237001,17932325,17854386.429820001,17853945,0]
["03","무연탄",400,0,0,0,0,0,0,0,0,0]
["05","바이오가스",85.608999999999995,0,0,0,29815.060022999998,29815.060022999998,0,0,0,0]
["06","부생가스",4327.49,0,0,0,55930.169010999998,55930.169010999998,0,0,0,0]
["07","소수력",201.29,0,0,0,31097.169158000001,31097.169158000001,0,0,0,0]
["08","수력",1609.8520000000001,130128,130347,130347,133955.09057900001,133955.09057900001,130133,0,0,0]
["09","양수",4700,4935,4935,4935,322853.83715099999,322853.83715099999,-1985,0,0,0]
["10","매립가스",63.734000000000002,0,0,0,16565.873210999998,16565.873210999998,0,0,0,0]
["12","중유",270.3,132058,130412,130410.027072,108679.486064,108679.486064,51211,130412.521912,130412,0]
["13","태양광",6084.4589999999998,0,0,0,630522.85354200006,630522.85354200006,0,0,0,0]
["15","폐기물",360.17700000000002,0,0,0,73840.617303000006,73840.617303000006,0,0,0,0]
["16","풍력",1726.7329999999999,0,0,0,406108.14986499998,406108.14986499998,0,0,0,0]
["17","LNG",41528.025999999998,28778693,28485843,28479570.451965,13335409.794551,13335407.803607,10345627,28486707.054715,28485824,44369]
["18","LPG",88,51744,51744,51744,19326.762672000001,19326.762672000001,0,51744,51744,0]
["20","연료전지",783.70799999999997,0,0,0,403346.91859999998,403346.91859999998,0,0,0,0]
["21","경유",612.04499999999996,455741,455624,455624,32857.012719999999,32857.012719999999,48800,455624,455624,0]
["22","해양에너지",255.5,0,0,0,34351.703952000003,34351.703952000003,0,0,0,0]
["23","가스압",0.3,0,0,0,0,0,0,0,0,0]
["24","바이오매스",935.01300000000003,0,0,0,428814.80040599999,428814.80040599999,0,0,0,0]
["25","IGCC",346.33,0,0,0,164442.33736,164442.33736,0,0,0,0]
["32","바이오중유",350,176064,176064,176064,97256.643175999998,97256.643175999998,252,176064,176064,0]
["40","RPS",0,0,0,0,0,0,0,0,0,0]
["99","기타",81.400000000000006,0,0,0,44609.970419999998,44609.970419999998,0,0,0,0]
["원자력합","원자력합",23250,13385164,13345565,13345423.862837,13313981.862710999,13313981.862710999,13385114,13347084.866657,13345565,0]
["석탄합","석탄합",37790.781999999999,18209156,17853945,17850195.657816,15433123.942236997,15433123.942236997,17932325,17854386.429820001,17853945,0]
["LNG합","LNG합",41528.025999999998,28778693,28485843,28479570.451965004,13335409.794551,13335407.803607,10345627,28486707.054715004,28485824,44369]
["유류합","유류합",882.34500000000003,587799,586036,586034.02707200008,141536.49878400002,141536.49878400002,100011,586036.52191200003,586036,0]
["양수합","양수합",4700,4935,4935,4935,322853.83715100004,322853.83715100004,-1985,0,0,0]
["신재생합","신재생합",17129.895,306192,306411,306411,2506047.386186,2506047.386186,130385,176064,176064,0]
["기타합","기타합",81.7,0,0,0,44609.970419999998,44609.970419999998,0,0,0,0]
["수력합","수력합",1811.1420000000001,130128,130347,130347,165052.25973699999,165052.25973699999,130133,0,0,0]
["폐기물합","폐기물합",4687.6670000000004,0,0,0,129770.78631400001,129770.78631400001,0,0,0,0]
["바이오합","바이오합",1434.356,176064,176064,176064,572452.37681599986,572452.37681599986,252,176064,176064,0]
["총계",null,125450.74800000001,61323683,60634479,60624313.999690004,45116890.054711998,45116888.063767999,41891477,60502022.873103999,60499178,44369]

{"sheet":"202201","index":12,"n_rows":39,"n_cols":12,"rows_kept":39,"cut":false,"hidden":false,"merged":[[0,0,0,11],[1,0,1,11],[2,0,2,11]]}
["정산요소 내역"]
["조회기간 : 2022-01-01 ~ 2022-01-31"]
["단위 : MWh"]
["연료원코드","연료원","설비용량(MW)","A","RA","ARA","MGO","AMGO","PSE","FCA","OFCA","OR"]
["01","원자력",23250,15347414,15354461,15354437.635382,15330922.149747999,15330922.149747999,15347414,15355383.950447001,15354461,0]
["02","유연탄",37390.781999999999,21113436,20755283,20746507.350230999,17756115.837451,17755979.566622,20959837,20755730.422653999,20755283,0]
["03","무연탄",400,0,0,0,0,0,0,0,0,0]
["05","바이오가스",85.608999999999995,0,0,0,33343.037162000001,33343.037162000001,0,0,0,0]
["06","부생가스",4327.49,0,0,0,45984.637192000002,45984.637192000002,0,0,0,0]
["07","소수력",201.29,0,0,0,35406.699363,35406.699363,0,0,0,0]
["08","수력",1609.8520000000001,146562,147432,147432,151734.49474200001,151734.49474200001,146567,0,0,0]
["09","양수",4700,290,290,290,329450.57666299999,329450.57666299999,290,0,0,0]
["10","매립가스",63.734000000000002,0,0,0,17604.977003,17604.977003,0,0,0,0]
["12","중유",1470.3,967536,965863,965861.20095199998,448647.55104200001,448647.55104200001,42144,965863.95129600004,965863,0]
["13","태양광",5929.75,0,0,0,541224.55965700001,541224.55965700001,0,0,0,0]
["15","폐기물",360.17700000000002,0,0,0,76156.851794999995,76156.851794999995,0,0,0,0]
["16","풍력",1726.7329999999999,0,0,0,344581.89216300001,344581.89216300001,0,0,0,0]
["17","LNG",41528.025999999998,32037098,31610357,31605201.884271,14972435.159748999,14972427.080693001,11399975,31610876.202394001,31610309,10985]
["18","LPG",88,56424,56424,56424,18532.387439999999,18532.387439999999,0,56424.305103999999,56424,0]
["20","연료전지",768.70799999999997,0,0,0,439925.45318700001,439925.45318700001,0,0,0,0]
["21","경유",612.04499999999996,501899,490132,490132,17831.182991999998,17829.894263999999,22613,490132,490132,0]
["22","해양에너지",255.5,0,0,0,38801.778552000003,38801.778552000003,0,0,0,0]
["23","가스압",0.3,0,0,0,0,0,0,0,0,0]
["24","바이오매스",935.01300000000003,0,0,0,385612.12902400002,385612.12902400002,0,0,0,0]
["25","IGCC",346.33,0,0,0,188624.54800000001,188624.54800000001,0,0,0,0]
["32","바이오중유",350,229230,230094,230094,131839.679944,131839.679944,3176,230096.50245599999,230094,0]
["40","RPS",0,0,0,0,0,0,0,0,0,0]
["99","기타",81.400000000000006,0,0,0,48540.531689000003,48540.531689000003,0,0,0,0]
["원자력합","원자력합",23250,15347414,15354461,15354437.635382,15330922.149748001,15330922.149748001,15347414,15355383.950447001,15354461,0]
["석탄합","석탄합",37790.781999999999,21113436,20755283,20746507.350230999,17756115.837451,17755979.566622,20959837,20755730.422653999,20755283,0]
["LNG합","LNG합",41528.025999999998,32037098,31610357,31605201.884271003,14972435.159748999,14972427.080692999,11399975,31610876.202394001,31610309,10985]
["유류합","유류합",2082.3449999999998,1469435,1455995,1455993.200952,466478.73403400002,466477.44530600007,64757,1455995.9512959998,1455995,0]
["양수합","양수합",4700,290,290,290,329450.57666299999,329450.57666299999,290,0,0,0]
["신재생합","신재생합",16960.186000000002,375792,377526,377526,2430840.7377840006,2430840.7377840006,149743,230096.50245599999,230094,0]
["기타합","기타합",81.7,0,0,0,48540.531688999996,48540.531688999996,0,0,0,0]
["수력합","수력합",1811.1420000000001,146562,147432,147432,187141.194105,187141.194105,146567,0,0,0]
["폐기물합","폐기물합",4687.6670000000004,0,0,0,122141.48898699999,122141.48898699999,0,0,0,0]
["바이오합","바이오합",1434.356,229230,230094,230094,568399.82313299994,568399.82313299994,3176,230096.50245599999,230094,0]
["총계",null,126481.039,70399889,69610336,69596380.070835993,51353316.114557996,51353170.475945003,47922016,69464507.334351003,69462566,10985]

{"sheet":"202112","index":13,"n_rows":39,"n_cols":12,"rows_kept":39,"cut":false,"hidden":false,"merged":[[0,0,0,11],[1,0,1,11],[2,0,2,11]]}
["정산요소 내역"]
["조회기간 : 2021-12-01 ~ 2021-12-31"]
["단위 : MWh"]
["연료원코드","연료원","설비용량(MW)","A","RA","ARA","MGO","AMGO","PSE","FCA","OFCA","OR"]
[1,"원자력",23250,15765709,15757933,15749225,15732304.040442999,15732304.040442999,15765187,15758712.905657001,15757933,0]
[2,"유연탄",37890.781999999999,19257710,19102901,19102010.595550001,17397776.535843998,17397776.535843998,19249049,19105597.270025998,19102901,0]
[3,"무연탄",400,0,0,0,0.54491699999999998,0.54491699999999998,0,0.54491699999999998,0,0]
[5,"바이오가스",85.149000000000001,0,0,0,31877.050552000001,31877.050552000001,0,0,0,0]
[6,"부생가스",4327.49,0,0,0,50685.873120999997,50685.873120999997,0,0,0,0]
[7,"소수력",204.29,0,0,0,39477.695247000003,39477.695247000003,0,0,0,0]
[8,"수력",1609.8520000000001,134104,135422,135419.675028,137930.90641900001,137930.90641900001,134105,0,0,0]
[9,"양수",4700,3955,3955,3942.0514159999998,337287.07382799999,337287.07382799999,-10356,0,0,0]
[10,"매립가스",63.734000000000002,0,0,0,14597.518109000001,14597.518109000001,0,0,0,0]
[12,"중유",1470.3,969642,968786,968779.81513200002,166768.926977,166768.926977,23306,968786.96662800002,968786,0]
[13,"태양광",5787.5959999999995,0,0,0,417117.94073099998,417117.94073099998,0,0,0,0]
[15,"폐기물",360.17700000000002,0,0,0,89510.638193999999,89510.638193999999,0,0,0,0]
[16,"풍력",1726.7329999999999,0,0,0,430829.145953,430829.145953,0,0,0,0]
[17,"LNG",41528.025999999998,31813817,30951672,30916383.617341001,14088369.933258999,14088369.933258999,11712728,30854836.156667002,30951545,86063]
[18,"LPG",88,53325,52925,52925,11825.538928,11825.538928,0,52925,52925,0]
[20,"연료전지",776.70799999999997,0,0,0,446916.289536,446916.289536,0,0,0,0]
[21,"경유",612.04499999999996,417799,417980,417979.390464,2530.718288,2530.718288,2573,417980,417980,0]
[22,"해양에너지",255.5,0,0,0,37607.239536000001,37607.239536000001,0,0,0,0]
[23,"가스압",0.3,0,0,0,0,0,0,0,0,0]
[24,"바이오매스",935.01300000000003,0,0,0,436900.723206,436900.723206,0,0,0,0]
[25,"IGCC",346.33,0,0,0,177038.99583999999,177038.99583999999,0,0,0,0]
[32,"바이오중유",350,246865,246774,246774,133794.41320000001,133794.41320000001,2069,246774,246774,0]
[40,"RPS",0,0,0,0,0,0,0,0,0,0]
[99,"기타",81.400000000000006,0,0,0,49040.372203999999,49040.372203999999,0,0,0,0]
["원자력합","원자력합",23250,15765709,15757933,15749225,15732304.040442999,15732304.040442999,15765187,15758712.905657001,15757933,0]
["석탄합","석탄합",38290.781999999999,19257710,19102901,19102010.595550001,17397777.080761001,17397777.080761001,19249049,19105597.814942997,19102901,0]
["LNG합","LNG합",41528.025999999998,31813817,30951672,30916383.617340997,14088369.933258999,14088369.933258999,11712728,30854836.156666998,30951545,86063]
["유류합","유류합",2082.3449999999998,1387441,1386766,1386759.205596,169299.645265,169299.645265,25879,1386766.9666280001,1386766,0]
["양수합","양수합",4700,3955,3955,3942.0514159999998,337287.07382799999,337287.07382799999,-10356,0,0,0]
["신재생합","신재생합",16828.572,380969,382196,382193.67502800003,2444284.4296439998,2444284.4296439998,136174,246774,246774,0]
["기타합","기타합",81.7,0,0,0,49040.372203999999,49040.372203999999,0,0,0,0]
["수력합","수력합",1814.1420000000001,134104,135422,135419.675028,177408.601666,177408.601666,134105,0,0,0]
["폐기물합","폐기물합",4687.6670000000004,0,0,0,140196.51131500001,140196.51131500001,0,0,0,0]
["바이오합","바이오합",1433.896,246865,246774,246774,617169.705067,617169.705067,2069,246774,246774,0]
["총계",null,126849.425,68662926,67638348,67593439.144931003,50230188.114331998,50230188.114331998,46878661,67405612.843895003,67498844,86063]

{"sheet":"202111","index":14,"n_rows":39,"n_cols":12,"rows_kept":39,"cut":false,"hidden":false,"merged":[[0,0,0,11],[1,0,1,11],[2,0,2,11]]}
["정산요소 내역"]
["조회기간 : 2021-11-01 ~ 2021-11-30"]
["단위 : MWh"]
["연료원코드","연료원","설비용량(MW)","A","RA","ARA","MGO","AMGO","PSE","FCA","OFCA","OR"]
[1,"원자력",23250,12971881,12919389,12900897.840019001,12888501.508060001,12888501.508060001,12971881,12920634.728095001,12919389,0]
[2,"유연탄",37890.781999999999,18698341,18551928,18541433.088238999,15288848.018342,15288848.018342,18641139,18557701.868291002,18551928,0]
[3,"무연탄",400,219354,216533,216481.56922800001,201386.662835,201386.662835,218645,216577.526706,216533,0]
[5,"바이오가스",85.149000000000001,0,0,0,31825.055676,31825.055676,0,0,0,0]
[6,"부생가스",4327.49,0,0,0,67230.423360999994,67230.423360999994,0,0,0,0]
[7,"소수력",204.29,0,0,0,39688.065890999998,39688.065890999998,0,0,0,0]
[8,"수력",1609.8520000000001,129170,130790,130790,134249.419521,134249.419521,129165,0,0,0]
[9,"양수",4700,10331,10331,10331,255202.64967700001,255202.64967700001,-11259,0,0,0]
[10,"매립가스",63.734000000000002,0,0,0,21627.876887999999,21627.876887999999,0,0,0,0]
[12,"중유",1470.3,902807,901403,901399.21552800003,141174.091724,141174.091724,11293,901408.86453799997,901403,0]
[13,"태양광",5537.3770000000004,0,0,0,442463.730774,442463.730774,0,0,0,0]
[15,"폐기물",359.077,0,0,0,88428.152472999995,88428.152472999995,0,0,0,0]
[16,"풍력",1707.933,0,0,0,340451.01523899997,340451.01523899997,0,0,0,0]
[17,"LNG",41978.025999999998,26237883,25485974,25469335.974564999,12797983.890321,12797974.953855,8788538,25480772.361846998,25485590,111387]
[18,"LPG",88,37631,37631,37631,129.376352,129.376352,0,37631,37631,0]
[20,"연료전지",776.70799999999997,0,0,0,411443.27882800001,411443.27882800001,0,0,0,0]
[21,"경유",612.04499999999996,468239,467626,467626,12733.376656,12733.376656,2509,467627.10203200002,467626,0]
[22,"해양에너지",255.5,0,0,0,36253.425239999997,36253.425239999997,0,0,0,0]
[23,"가스압",0.3,0,0,0,0,0,0,0,0,0]
[24,"바이오매스",935.01300000000003,0,0,0,330687.54901700001,330687.54901700001,0,0,0,0]
[25,"IGCC",346.33,0,0,0,168923.75080000001,168923.75080000001,0,0,0,0]
[32,"바이오중유",350,229758,229719,229719,89078.385928000003,89078.385928000003,0,229719.02534399999,229719,0]
[40,"RPS",0,0,0,0,0,0,0,0,0,0]
[99,"기타",81.400000000000006,0,0,0,47636.761681000004,47636.761681000004,0,0,0,0]
["원자력합","원자력합",23250,12971881,12919389,12900897.840019001,12888501.508060001,12888501.508060001,12971881,12920634.728095001,12919389,0]
["석탄합","석탄합",38290.781999999999,18917695,18768461,18757914.657467,15490234.681177,15490234.681177,18859784,18774279.394997001,18768461,0]
["LNG합","LNG합",41978.025999999998,26237883,25485974,25469335.974564999,12797983.890321001,12797974.953855,8788538,25480772.361846998,25485590,111387]
["유류합","유류합",2082.3449999999998,1371046,1369029,1369025.2155280001,153907.46838000001,153907.46838000001,13802,1369035.9665700002,1369029,0]
["양수합","양수합",4700,10331,10331,10331,255202.64967700001,255202.64967700001,-11259,0,0,0]
["신재생합","신재생합",16558.453000000001,358928,360509,360509,2202350.1296359999,2202350.1296359999,129165,229719.02534399999,229719,0]
["기타합","기타합",81.7,0,0,0,47636.761681000004,47636.761681000004,0,0,0,0]
["수력합","수력합",1814.1420000000001,129170,130790,130790,173937.48541199998,173937.48541199998,129165,0,0,0]
["폐기물합","폐기물합",4686.567,0,0,0,155658.57583399999,155658.57583399999,0,0,0,0]
["바이오합","바이오합",1433.896,229758,229719,229719,473218.867509,473218.867509,0,229719.02534399999,229719,0]
["총계",null,127029.306,59905395,58951324,58905644.687578999,43835946.465283997,43835937.528817996,40751911,58812072.476852998,58809819,111387]

{"sheet":"202110","index":15,"n_rows":39,"n_cols":12,"rows_kept":39,"cut":false,"hidden":false,"merged":[[0,0,0,11],[1,0,1,11],[2,0,2,11]]}
["정산요소 내역"]
["조회기간 : 2021-10-01 ~ 2021-10-31"]
["단위 : MWh"]
["연료원코드","연료원","설비용량(MW)","A","RA","ARA","MGO","AMGO","PSE","FCA","OFCA","OR"]
[1,"원자력",23250,12904773,12806052,12805999.237681,12789148.099680001,12789148.099680001,12904773,12807095.494292,12806052,0]
[2,"유연탄",37890.781999999999,16309610,16117658,16116748.973339999,14555768.895625999,14555768.895625999,15841060,15754948.916137001,16117658,0]
[3,"무연탄",400,80459,78427,78416.998233999999,77034.930342000007,77034.930342000007,80324,78481.460988000006,78427,0]
[5,"바이오가스",85.149000000000001,0,0,0,20444.354518,20444.354518,0,0,0,0]
[6,"부생가스",4327.49,0,0,0,51485.581875000003,51485.581875000003,0,0,0,0]
[7,"소수력",204.29,0,0,0,50832.821751000003,50832.821751000003,0,0,0,0]
[8,"수력",1609.8520000000001,146740,155576,155576,159402.64605400001,159402.64605400001,146741,0,0,0]
[9,"양수",4700,9490,9490,9451.3148949999995,291516.52137700003,291516.52137700003,2523,0,0,0]
[10,"매립가스",63.734000000000002,0,0,0,22112.070721,22112.070721,0,0,0,0]
[12,"중유",1470.3,935564,935476,935476,196571.17118999999,196571.17118999999,8451,935489.08704400004,935476,0]
[13,"태양광",5430.35,0,0,0,559217.17484800005,559217.17484800005,0,0,0,0]
[15,"폐기물",359.077,0,0,0,96121.854624,96121.854624,0,0,0,0]
[16,"풍력",1707.933,0,0,0,203260.940902,203260.940902,0,0,0,0]
[17,"LNG",41817.055999999997,24160611,23893040,23885546.854865,12591160.872853,12590902.922987999,10826200,23892493.096604999,23892566,472932]
[18,"LPG",88,39648,39456,39456,394.17985599999997,394.17985599999997,0,39456,39456,0]
[20,"연료전지",750.74800000000005,0,0,0,421609.99457600003,421609.99457600003,0,0,0,0]
[21,"경유",612.04499999999996,236107,214717,211434.937056,11397.703576,11397.703576,3346,214719.07636000001,214717,0]
[22,"해양에너지",255.5,0,0,0,37052.380848000001,37052.380848000001,0,0,0,0]
[23,"가스압",0.3,0,0,0,0,0,0,0,0,0]
[24,"바이오매스",935.01300000000003,0,0,0,395005.28409999999,395005.28409999999,0,0,0,0]
[25,"IGCC",346.33,0,0,0,99640.983120000004,99640.983120000004,0,0,0,0]
[32,"바이오중유",350,240140,239967,239937.28538399999,98268.7356,98268.7356,0,239899.42619999999,239895,0]
[40,"RPS",0,0,0,0,0,0,0,0,0,0]
[99,"기타",81.400000000000006,0,0,0,50855.612971000002,50855.612971000002,0,0,0,0]
["원자력합","원자력합",23250,12904773,12806052,12805999.237681,12789148.099680001,12789148.099680001,12904773,12807095.494292,12806052,0]
["석탄합","석탄합",38290.781999999999,16390069,16196085,16195165.971573999,14632803.825967999,14632803.825967999,15921384,15833430.377125001,16196085,0]
["LNG합","LNG합",41817.055999999997,24160611,23893040,23885546.854865,12591160.872853,12590902.922988001,10826200,23892493.096604999,23892566,472932]
["유류합","유류합",2082.3449999999998,1171671,1150193,1146910.9370559999,207968.87476600002,207968.87476600002,11797,1150208.163404,1150193,0]
["양수합","양수합",4700,9490,9490,9451.3148949999995,291516.52137700003,291516.52137700003,2523,0,0,0]
["신재생합","신재생합",16425.466,386880,395543,395513.28538399999,2214454.8235369995,2214454.8235369995,146741,239899.42619999999,239895,0]
["기타합","기타합",81.7,0,0,0,50855.612970999995,50855.612970999995,0,0,0,0]
["수력합","수력합",1814.1420000000001,146740,155576,155576,210235.46780499999,210235.46780499999,146741,0,0,0]
["폐기물합","폐기물합",4686.567,0,0,0,147607.436499,147607.436499,0,0,0,0]
["바이오합","바이오합",1433.896,240140,239967,239937.28538400002,535830.44493900007,535830.44493900007,0,239899.42619999999,239895,0]
["총계",null,126735.349,55063142,54489859,54478043.601455003,42778302.811007999,42778044.861143,39813418,53962582.557626002,54324247,472932]

{"sheet":"202109","index":16,"n_rows":39,"n_cols":16,"rows_kept":39,"cut":false,"hidden":false,"merged":[[0,0,0,15],[1,0,1,15],[2,0,2,15]]}
["정산요소 내역"]
["조회기간 : 2021-08-01 ~ 2021-08-31"]
["단위 : MWh"]
["연료원코드","연료원","설비용량(MW)","A","RA","ARA","MGO","AMGO","PSE","FCA","OFCA","OR","ECR","ECRP","EACO","REACO"]
[1,"원자력",23250,12204535,12155299,12155040.213962,12139694.455367001,12139694.455367001,12204535,12156763.520414,12155299,0,0,0,0,0]
[2,"유연탄",37890.781999999999,22878433,22669703,22667536.013071001,19600416.708034001,19600416.708034001,22313659,22257289.799830001,22669147,0,0,0,0,0]
[3,"무연탄",400,221412,222824,222824,212453.60067399999,212453.60067399999,218839,222914.28602500001,222824,0,0,0,0,0]
[5,"바이오가스",85.149000000000001,0,0,0,31985.267834999999,31985.267834999999,0,0,0,0,0,0,0,0]
[6,"부생가스",4327.49,0,0,0,110928.22891799999,110928.22891799999,0,0,0,0,0,0,0,0]
[7,"소수력",205.29,0,0,0,62726.010215000002,62726.010215000002,0,0,0,0,0,0,0,0]
[8,"수력",1609.8520000000001,205173,210057,210055.40690500001,220114.647126,220114.647126,205173,0,0,0,0,0,0,0]
[9,"양수",4700,6852,6852,6852,317359.76471800002,317359.76471800002,5198,0,0,0,0,0,0,0]
[10,"매립가스",63.734000000000002,0,0,0,14977.304958000001,14977.304958000001,0,0,0,0,0,0,0,0]
[12,"중유",1470.3,961612,924319,924317.95393800002,62671.326985,62671.326985,20754,924335.18776600005,924319,0,0,0,0,0]
[13,"태양광",5191.4449999999997,0,0,0,529813.47668900003,529813.47668900003,0,0,0,0,0,0,0,0]
[15,"폐기물",359.077,0,0,0,88566.913751999993,88566.913751999993,0,0,0,0,0,0,0,0]
[16,"풍력",1707.933,0,0,0,153700.66244099999,153700.66244099999,0,0,0,0,0,0,0,0]
[17,"LNG",41498.336000000003,29048374,28937457,28931484.913169999,13488666.050975,13488604.606977001,10891389,28938142.597623002,28937112,476658.76287600002,0,0,0,0]
[18,"LPG",88,37632,37632,37632,0,0,0,37632,37632,0,0,0,0,0]
[20,"연료전지",735.74800000000005,0,0,0,410941.28965599998,410941.28965599998,0,0,0,0,0,0,0,0]
[21,"경유",612.04499999999996,446201,447024,447022.58988799999,4485.1586079999997,4485.1586079999997,17051,446998,446998,0,0,0,0,0]
[22,"해양에너지",255.5,0,0,0,37015.929552000001,37015.929552000001,0,0,0,0,0,0,0,0]
[23,"가스압",0.3,0,0,0,0,0,0,0,0,0,0,0,0,0]
[24,"바이오매스",935.01300000000003,0,0,0,401168.43645400001,401168.43645400001,0,0,0,0,0,0,0,0]
[25,"IGCC",346.33,0,0,0,175607.47847999999,175607.47847999999,0,0,0,0,0,0,0,0]
[32,"바이오중유",350,248004,247964,247963.07235199999,145174.09849599999,145174.09849599999,4846,247964.71823999999,247964,0,0,0,0,0]
[40,"RPS",0,0,0,0,0,0,0,0,0,0,0,0,0,0]
[99,"기타",81.400000000000006,0,0,0,45655.23605,45655.23605,0,0,0,0,0,0,0,0]
["원자력합","원자력합",23250,12204535,12155299,12155040.213962,12139694.455366999,12139694.455366999,12204535,12156763.520414,12155299,0]
["석탄합","석탄합",38290.781999999999,23099845,22892527,22890360.013071001,19812870.308707997,19812870.308707997,22532498,22480204.085855,22891971,0]
["LNG합","LNG합",41498.336000000003,29048374,28937457,28931484.913170002,13488666.050975,13488604.606977001,10891389,28938142.597622998,28937112,476658.76287600002]
["유류합","유류합",2082.3449999999998,1407813,1371343,1371340.5438259998,67156.48559299999,67156.48559299999,37805,1371333.1877659997,1371317,0]
["양수합","양수합",4700,6852,6852,6852,317359.76471799996,317359.76471799996,5198,0,0,0]
["신재생합","신재생합",16172.561,453177,458021,458018.47925699997,2382719.7445720001,2382719.7445720001,210019,247964.71824000002,247964,0]
["기타합","기타합",81.7,0,0,0,45655.23605,45655.23605,0,0,0,0]
["수력합","수력합",1815.1420000000001,205173,210057,210055.40690499998,282840.65734099998,282840.65734099998,205173,0,0,0]
["폐기물합","폐기물합",4686.567,0,0,0,199495.14267,199495.14267,0,0,0,0]
["바이오합","바이오합",1433.896,248004,247964,247963.07235199999,593305.10774300003,593305.10774300003,4846,247964.71824000002,247964,0]
["총계",null,126163.724,66258228,65859131,65850728.163286,48254122.045983002,48254060.601985,45881444,65232040.109898001,65641295,476658.76287600002,0,0,0,0]

{"sheet":"202108","index":17,"n_rows":39,"n_cols":12,"rows_kept":39,"cut":false,"hidden":false,"merged":[[0,0,0,11],[1,0,1,11],[2,0,2,11]]}
["정산요소 내역"]
["조회기간 : 2021-08-01 ~ 2021-08-31"]
["단위 : MWh"]
["연료원코드","연료원","설비용량(MW)","A","RA","ARA","MGO","AMGO","PSE","FCA","OFCA","OR"]
[1,"원자력",23250,12204535,12155299,12155040.213962,12139694.455367001,12139694.455367001,12204535,12156763.520414,12155299,0]
[2,"유연탄",37890.781999999999,22878433,22669703,22667536.013071001,19600416.708034001,19600416.708034001,22313659,22257289.799830001,22669147,0]
[3,"무연탄",400,221412,222824,222824,212453.60067399999,212453.60067399999,218839,222914.28602500001,222824,0]
[5,"바이오가스",85.149000000000001,0,0,0,31985.267834999999,31985.267834999999,0,0,0,0]
[6,"부생가스",4327.49,0,0,0,129134.709424,129134.709424,0,0,0,0]
[7,"소수력",205.29,0,0,0,62695.334572,62695.334572,0,0,0,0]
[8,"수력",1604.8520000000001,205173,210057,210055.40690500001,220114.647126,220114.647126,205173,0,0,0]
[9,"양수",4700,6852,6852,6852,317359.76471800002,317359.76471800002,5198,0,0,0]
[10,"매립가스",63.734000000000002,0,0,0,14977.304958000001,14977.304958000001,0,0,0,0]
[12,"중유",1470.3,961612,924319,924317.95393800002,62671.326985,62671.326985,20754,924335.18776600005,924319,0]
[13,"태양광",5189.6109999999999,0,0,0,527680.39480200002,527680.39480200002,0,0,0,0]
[15,"폐기물",359.077,0,0,0,88566.913751999993,88566.913751999993,0,0,0,0]
[16,"풍력",1707.933,0,0,0,153675.75254399999,153675.75254399999,0,0,0,0]
[17,"LNG",41498.336000000003,29048374,28937457,28931400.622609999,13488666.050975,13488604.606977001,10891389,28938142.597623002,28937112,476658.76287600002]
[18,"LPG",88,37632,37632,37632,0,0,0,37632,37632,0]
[20,"연료전지",735.74800000000005,0,0,0,410941.28965599998,410941.28965599998,0,0,0,0]
[21,"경유",612.04499999999996,446201,447024,447022.58988799999,4485.1586079999997,4485.1586079999997,17051,446998,446998,0]
[22,"해양에너지",255.5,0,0,0,37015.929552000001,37015.929552000001,0,0,0,0]
[23,"가스압",0.3,0,0,0,0,0,0,0,0,0]
[24,"바이오매스",935.01300000000003,0,0,0,401168.41965400003,401168.41965400003,0,0,0,0]
[25,"IGCC",346.33,0,0,0,175607.47847999999,175607.47847999999,0,0,0,0]
[32,"바이오중유",350,248004,247964,247963.07235199999,145174.09849599999,145174.09849599999,4846,247964.71823999999,247964,0]
[40,"RPS",0,0,0,0,0,0,0,0,0,0]
[99,"기타",81.400000000000006,0,0,0,45655.23605,45655.23605,0,0,0,0]
["원자력합","원자력합",23250,12204535,12155299,12155040.213962,12139694.455366999,12139694.455366999,12204535,12156763.520414,12155299,0]
["석탄합","석탄합",38290.781999999999,23099845,22892527,22890360.013071001,19812870.308707997,19812870.308707997,22532498,22480204.085855,22891971,0]
["LNG합","LNG합",41498.336000000003,29048374,28937457,28931400.622609999,13488666.050975,13488604.606977001,10891389,28938142.597622998,28937112,476658.76287600002]
["유류합","유류합",2082.3449999999998,1407813,1371343,1371340.5438259998,67156.48559299999,67156.48559299999,37805,1371333.1877659997,1371317,0]
["양수합","양수합",4700,6852,6852,6852,317359.76471799996,317359.76471799996,5198,0,0,0]
["신재생합","신재생합",16165.727000000001,453177,458021,458018.47925699997,2398737.5408509998,2398737.5408509998,210019,247964.71824000002,247964,0]
["기타합","기타합",81.7,0,0,0,45655.23605,45655.23605,0,0,0,0]
["수력합","수력합",1810.1420000000001,205173,210057,210055.40690499998,282809.98169799999,282809.98169799999,205173,0,0,0]
["폐기물합","폐기물합",4686.567,0,0,0,217701.62317600002,217701.62317600002,0,0,0,0]
["바이오합","바이오합",1433.896,248004,247964,247963.07235199999,593305.09094300005,593305.09094300005,4846,247964.71824000002,247964,0]
["총계",null,126156.89,66258228,65859131,65850643.872726001,48270139.842262,48270078.398263998,45881444,65232040.109898001,65641295,476658.76287600002]

{"sheet":"202107","index":18,"n_rows":39,"n_cols":12,"rows_kept":39,"cut":false,"hidden":false,"merged":[[0,0,0,11],[1,0,1,11],[2,0,2,11]]}
["정산요소 내역"]
["조회기간 : 2021-07-01 ~ 2021-07-31"]
["단위 : MWh"]
["연료원코드","연료원","설비용량(MW)","A","RA","ARA","MGO","AMGO","PSE","FCA","OFCA","OR"]
[1,"원자력",23250,11786385,11716895,11716651.806479,11704354.300943,11704354.300943,11783240,11719404.384795999,11716895,0]
[2,"유연탄",37890.781999999999,23236377,22997842,22994886.526523001,20146617.915385,20146617.915385,22441889,22444421.622274,22997826,0]
[3,"무연탄",400,224529,226724,226724,214941.73746900001,214941.73746900001,220085,226766.73450399999,226724,0]
[5,"바이오가스",85.149000000000001,0,0,0,36061.676075000003,36061.676075000003,0,0,0,0]
[6,"부생가스",4243.47,0,0,0,114973.610631,114973.610631,0,0,0,0]
[7,"소수력",205.29,0,0,0,60795.675173000003,60795.675173000003,0,0,0,0]
[8,"수력",1604.8520000000001,270564,292224,292222.38846699998,300990.409767,300990.409767,270563,0,0,0]
[9,"양수",4700,10403,10403,10403,342716.44494199997,342716.44494199997,4964,0,0,0]
[10,"매립가스",63.734000000000002,0,0,0,17063.924309000002,17063.924309000002,0,0,0,0]
[12,"중유",1470.3,956523,937593,937587.87684799999,251901.90634099999,251901.90634099999,14590,937596.88248000003,937593,0]
[13,"태양광",5113.6819999999998,0,0,0,624673.20207100001,624673.20207100001,0,0,0,0]
[15,"폐기물",359.077,0,0,0,96119.308732999998,96119.308732999998,0,0,0,0]
[16,"풍력",1691.933,0,0,0,120621.48091300001,120621.48091300001,0,0,0,0]
[17,"LNG",41498.336000000003,28623417,28417764,28408361.188528001,15270242.829107,15270242.829107,12086134,28418908.442704,28417710,215676]
[18,"LPG",88,38064,38064,38064,1205.9659360000001,1205.9659360000001,0,38064,38064,0]
[20,"연료전지",700.94799999999998,0,0,0,387504.32262499997,387504.32262499997,0,0,0,0]
[21,"경유",612.04499999999996,446810,445872,445872,9235.6807759999992,9235.6807759999992,14978,445875.32535200001,445872,0]
[22,"해양에너지",255.5,0,0,0,37168.796783999998,37168.796783999998,0,0,0,0]
[23,"가스압",0.3,0,0,0,0,0,0,0,0,0]
[24,"바이오매스",835.01300000000003,0,0,0,421204.01216699998,421204.01216699998,0,0,0,0]
[25,"IGCC",346.33,0,0,0,11750.91568,11750.91568,0,0,0,0]
[32,"바이오중유",350,248496,248496,248496,136388.39939199999,136388.39939199999,3114,248496,248496,0]
[40,"RPS",0,0,0,0,0,0,0,0,0,0]
[99,"기타",81.400000000000006,0,0,0,50283.178290000003,50283.178290000003,0,0,0,0]
["원자력합","원자력합",23250,11786385,11716895,11716651.806479,11704354.300942998,11704354.300942998,11783240,11719404.384796001,11716895,0]
["석탄합","석탄합",38290.781999999999,23460906,23224566,23221610.526523001,20361559.652853999,20361559.652853999,22661974,22671188.356778,23224550,0]
["LNG합","LNG합",41498.336000000003,28623417,28417764,28408361.188528001,15270242.829107001,15270242.829107001,12086134,28418908.442704,28417710,215676]
["유류합","유류합",2082.3449999999998,1403333,1383465,1383459.8768479999,261137.58711700002,261137.58711700002,29568,1383472.207832,1383465,0]
["양수합","양수합",4700,10403,10403,10403,342716.44494200003,342716.44494200003,4964,0,0,0]
["신재생합","신재생합",15854.977999999999,519060,540720,540718.38846699998,2365315.7343200003,2365315.7343200003,273677,248496,248496,0]
["기타합","기타합",81.7,0,0,0,50283.178289999996,50283.178289999996,0,0,0,0]
["수력합","수력합",1810.1420000000001,270564,292224,292222.38846699998,361786.08494000003,361786.08494000003,270563,0,0,0]
["폐기물합","폐기물합",4602.5469999999996,0,0,0,211092.919364,211092.919364,0,0,0,0]
["바이오합","바이오합",1333.896,248496,248496,248496,610718.01194300002,610718.01194300002,3114,248496,248496,0]
["총계",null,125846.141,65841568,65331877,65319268.786844999,50356815.693508998,50356815.693508998,46839557,64479533.392109998,65029180,215676]

{"sheet":"202106","index":19,"n_rows":39,"n_cols":22,"rows_kept":39,"cut":false,"hidden":false,"merged":[[0,0,0,21],[1,0,1,21],[2,0,2,21]]}
["정산요소 내역"]
["조회기간 : 2021-06-01 ~ 2021-06-30"]
["단위 : MWh"]
["연료원코드","연료원","설비용량(MW)","설비용량(%)","A","A(%)","RA","RA(%)","ARA","ARA(%)","MGO","MGO(%)","AMGO","AMGO(%)","PSE","PSE(%)","FCA","FCA(%)","OFCA","OFCA(%)","OR","OR(%)"]
[1,"원자력",23250,18.487078557822763,10830303,19.130772873789301,10803191,19.347972150588198,10803033.622072,19.353463415966299,10792590.283764999,25.4323160925167,10792590.283764999,25.4323160925167,10830173,27.337751208275201,10804513.856623,19.612206314603199,10803191,19.464604729478399,0,0]
[2,"유연탄",37890.781999999999,30.128596277476849,18326080,32.371400333572701,17944926,32.1384606170868,17939797.525904,32.138862772587899,15824260.228308,37.289249149202,15824260.228308,37.289249149202,17558217,44.320821837925301,17530153.581987999,31.820495890787502,17944926,32.332196245511199,0,0]
[3,"무연탄",400,0.31805726551092928,132085,0.2333164764674,134134,0.24022725289659999,134132.55561899999,0.24029634627429999,128036.574613,0.30171317092049998,128036.574613,0.30171317092049998,131786,0.33265700194570003,134430.425908,0.24401627716470001,134134,0.24167538005979999,0,0]
[5,"바이오가스",85.149000000000001,6.7705645252475286E-2,0,0,0,0,0,0,32588.316341999998,7.6793090476100001E-2,32588.316341999998,7.6793090476100001E-2,0,0,0,0,0,0,0,0]
[6,"부생가스",4243.47,3.3741661611941574,0,0,0,0,0,0,88822.712043000007,0.2093072403823,88822.712043000007,0.2093072403823,0,0,0,0,0,0,0,0]
[7,"소수력",205.29,0.16323494009184666,0,0,0,0,0,0,55309.915158000003,0.13033564773270001,55309.915158000003,0.13033564773270001,0,0,0,0,0,0,0,0]
[8,"수력",1604.8520000000001,1.2760870966743647,333722,0.58949041268619995,327011,0.58566026657640002,327011,0.58583502065460002,329240.17930399999,0.77584158114589996,329240.17930399999,0.77584158114589996,333723,0.84239063831009997,0,0,0,0,0,0]
[9,"양수",4700,3.7371728697534188,11451,2.0227179256E-2,7465,1.33694398353E-2,7465,1.33734291176E-2,294612.38320400001,0.69424253653779999,294612.38320400001,0.69424253653779999,-178,-4.4931135589999999E-4,0,0,0,0,0,0]
[10,"매립가스",63.734000000000002,5.0677654400183916E-2,0,0,0,0,0,0,5118.7948889999998,1.2062239574300001E-2,5118.7948889999998,1.2062239574300001E-2,0,0,0,0,0,0,0,0]
[12,"중유",1470.3,1.1690989937017982,894798,1.5805815687632001,894101,1.6012899566261001,894099.36072,1.6017648258152,151609.65684499999,0.35726221548129999,151609.65684499999,0.35726221548129999,6760,1.7063734639099999E-2,894103.66448000004,1.6229647874138999,894101,1.6109427810015999,0,0]
[13,"태양광",5031.0569999999998,4.0004105801240479,0,0,0,0,0,0,627964.38223300001,1.4797734597426,627964.38223300001,1.4797734597426,0,0,0,0,0,0,0,0]
[15,"폐기물",359.077,0.28551762181966989,0,0,0,0,0,0,95568.409119000004,0.22520321120959999,95568.409119000004,0.22520321120959999,0,0,0,0,0,0,0,0]
[16,"풍력",1691.933,1.3453289585192576,0,0,0,0,0,0,130009.412493,0.30636208607850002,130009.412493,0.30636208607850002,0,0,0,0,0,0,0,0]
[17,"LNG",41498.336000000003,32.997118178534386,25440948,44.939185716400097,25087587,44.930607503047803,25076657.059142999,44.924433447775698,12980242.796874,30.5874335157798,12980242.796874,30.5874335157798,10740590,27.111623909432399,25089665.502920002,45.542418912815897,25087490,45.201281408867303,189941,100]
[18,"LPG",88,6.9972598412404441E-2,37440,6.6134450383800003E-2,37440,6.7053158397199997E-2,37440,6.7073166264499995E-2,64.372448000000006,1.516911513E-4,64.372448000000006,1.516911513E-4,0,0,37440,6.7960577788400006E-2,37440,6.7457365242499998E-2,0,0]
[20,"연료전지",700.94799999999998,0.55735401036338705,0,0,0,0,0,0,353644.10233999998,0.83334846950450003,353644.10233999998,0.83334846950450003,0,0,0,0,0,0,0,0]
[21,"경유",612.04499999999996,0.48666339767409172,434178,0.76693705658980005,430151,0.77037882312249994,429723.46591999999,0.76984277450299998,18345.236784000001,4.3229831617400002E-2,18345.236784000001,4.3229831617400002E-2,12595,3.1792564760299999E-2,430151.301568,0.78080478074220006,430151,0.77502278622950005,0,0]
[22,"해양에너지",255.5,0.20315907834510608,0,0,0,0,0,0,35974.436232,8.4772349310700004E-2,35974.436232,8.4772349310700004E-2,0,0,0,0,0,0,0,0]
[23,"가스압",0.3,2.3854294913319693E-4,0,0,0,0,0,0,0,0,0,0,0,0,0,0,0,0,0,0]
[24,"바이오매스",835.01300000000003,0.66395487861519398,0,0,0,0,0,0,341403.29729199997,0.80450349206890004,341403.29729199997,0.80450349206890004,0,0,0,0,0,0,0,0]
[25,"IGCC",346.33,0.2753819319110003,0,0,0,0,0,0,5.5999999999999995E-4,1.3196000000000001E-9,5.5999999999999995E-4,1.3196000000000001E-9,0,0,0,0,0,0,0,0]
[32,"바이오중유",350,0.27830010732206312,170942,0.30195393209139998,170290,0.30498083182309998,170280.491992,0.30505480104100002,99625.264255999995,0.23476303137070001,99625.264255999995,0.23476303137070001,2515,6.3484160677000001E-3,170303.426336,0.30913245868419997,170290,0.3068193036097,0,0]
[40,"RPS",0,0,0,0,0,0,0,0,0,0,0,0,0,0,0,0,0,0,0,0]
[99,"기타",81.400000000000006,6.4724653531474108E-2,0,0,0,0,0,0,51490.733952000002,0.1213358968767,51490.733952000002,0.1213358968767,0,0,0,0,0,0,0,0]
["원자력합","원자력합",23250,18.487078557822759,10830303,19.130772873789301,10803191,19.347972150588202,10803033.622072,19.353463415966303,10792590.283764999,25.4323160925167,10792590.283764999,25.4323160925167,10830173,27.337751208275201,10804513.856623,19.612206314603199,10803191,19.464604729478399,0,0]
["석탄합","석탄합",38290.781999999999,30.446653542987782,18458165,32.604716810040095,18079060,32.378687869983409,18073930.081523001,32.379159118862205,15952296.802920999,37.590962320122486,15952296.802920999,37.590962320122486,17690003,44.653478839870999,17664584.007895999,32.064512167952195,18079060,32.573871625571002,0,0]
["LNG합","LNG합",41498.336000000003,32.997118178534393,25440948,44.939185716400097,25087587,44.930607503047803,25076657.059142999,44.924433447775698,12980242.796874,30.587433515779804,12980242.796874,30.587433515779804,10740590,27.111623909432396,25089665.502920002,45.542418912815904,25087490,45.201281408867303,189941,100]
["유류합","유류합",2082.3449999999998,1.6557623913758897,1328976,2.347518625353,1324252,2.3716687797486009,1323822.8266399999,2.3716076003182001,169954.893629,0.40049204709870007,169954.893629,0.40049204709870007,19355,4.8856299399399998E-2,1324254.9660479999,2.4037695681561004,1324252,2.3859655672311,0,0]
["양수합","양수합",4700,3.7371728697534183,11451,2.0227179256E-2,7465,1.33694398353E-2,7465,1.33734291176E-2,294612.38320400001,0.69424253653779999,294612.38320400001,0.69424253653779999,-178,-4.4931135590000004E-4,0,0,0,0,0,0]
["신재생합","신재생합",15772.352999999999,12.541278664632758,504664,0.89144434477760004,497301,0.89064109839950001,497291.49199200002,0.89088982169560005,2195269.222261,5.1730658999164003,2195269.222261,5.1730658999164003,336238,0.84873905437780017,170303.42633599997,0.30913245868419997,170290,0.3068193036097,0,0]
["기타합","기타합",81.7,6.4963196480607305E-2,0,0,0,0,0,0,51490.733951999995,0.1213358968767,51490.733951999995,0.1213358968767,0,0,0,0,0,0,0,0]
["수력합","수력합",1810.1420000000001,1.439322036766211,333722,0.58949041268619995,327011,0.58566026657640002,327011,0.58583502065460002,384550.09446200001,0.90617722887859997,384550.09446200001,0.90617722887859997,333723,0.84239063831010008,0,0,0,0,0,0]
["폐기물합","폐기물합",4602.5469999999996,3.6596837830138269,0,0,0,0,0,0,184391.121162,0.43451045159189999,184391.121162,0.43451045159189999,0,0,0,0,0,0,0,0]
["바이오합","바이오합",1333.896,1.0606382855899164,170942,0.30195393209140003,170290,0.30498083182309998,170280.491992,0.30505480104100002,478735.67277900001,1.1281218534900002,478735.67277900001,1.1281218534900002,2515,6.3484160677000001E-3,170303.42633599997,0.30913245868419997,170290,0.3068193036097,0,0]
["총계",null,125763.516,100,56611947,99.999999999999901,55836296,100,55819640.081370004,100.0000000000001,42436521.489054002,99.999999999999901,42436521.489054002,99.999999999999901,39616181,99.999999999999901,55090761.759823002,100,55501723,100,189941,100]

{"sheet":"202105","index":20,"n_rows":39,"n_cols":12,"rows_kept":39,"cut":false,"hidden":false,"merged":[[0,0,0,11],[1,0,1,11],[2,0,2,11]]}
["정산요소 내역"]
["조회기간 : 2021-05-01 ~ 2021-05-31"]
["단위 : MWh"]
["연료원코드","연료원","설비용량(MW)","A","RA","ARA","MGO","AMGO","PSE","FCA","OFCA","OR"]
[1,"원자력",23250,12293569,12185758,12174949.154639,12166291.071377,12166291.071377,12292353,12187723.435818,12185758,0]
[2,"유연탄",37890.781999999999,15052814,14650557,14649930.658652,13693545.419219,13693545.419219,14145667,13987347.487895001,14650557,0]
[3,"무연탄",400,219874,221246,221246,210905.26400200001,210905.26400200001,219826,221353.621732,221246,0]
[5,"바이오가스",85.149000000000001,0,0,0,37065.288940999999,37065.288940999999,0,0,0,0]
[6,"부생가스",4243.47,0,0,0,34001.825932,34001.825932,0,0,0,0]
[7,"소수력",202.70400000000001,0,0,0,55822.130512999996,55822.130512999996,0,0,0,0]
[8,"수력",1604.8520000000001,258637,269856,269856,271796.24076299998,271796.24076299998,258647,0,0,0]
[9,"양수",4700,8448,8448,8448,302418.92607099999,302418.92607099999,-16150,0,0,0]
[10,"매립가스",63.734000000000002,0,0,0,18362.625264999999,18362.625264999999,0,0,0,0]
[12,"중유",1470.3,946956,944796,944795.36267199996,209973.391756,209973.391756,3508,944796.08164800005,944796,0]
[13,"태양광",4954.4949999999999,0,0,0,631693.15846199996,631693.15846199996,0,0,0,0]
[15,"폐기물",354.27699999999999,0,0,0,80986.376031000007,80986.376031000007,0,0,0,0]
[16,"풍력",1691.933,0,0,0,272331.34524900001,272331.34524900001,0,0,0,0]
[17,"LNG",41498.336000000003,25492930,25223200,25209758.318321001,11882562.371338001,11882562.371338001,10672593,25225696.723684002,25222930,141387]
[18,"LPG",88,51888,51888,51888,0,0,0,51888,51888,0]
[20,"연료전지",674.76800000000003,0,0,0,382493.940221,382493.940221,0,0,0,0]
[21,"경유",612.04499999999996,451435,452534,452534,10701.59944,10701.59944,1078,452534,452534,0]
[22,"해양에너지",255.5,0,0,0,39037.405848000002,39037.405848000002,0,0,0,0]
[23,"가스압",0.3,0,0,0,0,0,0,0,0,0]
[24,"바이오매스",835.01300000000003,0,0,0,482222.681514,482222.681514,0,0,0,0]
[25,"IGCC",346.33,0,0,0,133123.27728000001,133123.27728000001,0,0,0,0]
[32,"바이오중유",350,162937,162805,162566.27730399999,78336.528367999999,78336.528367999999,252,163072.575992,162805,0]
[40,"RPS",0,0,0,0,0,0,0,0,0,0]
[99,"기타",81.400000000000006,0,0,0,45305.472291999999,45305.472291999999,0,0,0,0]
["원자력합","원자력합",23250,12293569,12185758,12174949.154639,12166291.071377,12166291.071377,12292353,12187723.435818,12185758,0]
["석탄합","석탄합",38290.781999999999,15272688,14871803,14871176.658651998,13904450.683220999,13904450.683220999,14365493,14208701.109626999,14871803,0]
["LNG합","LNG합",41498.336000000003,25492930,25223200,25209758.318321001,11882562.371338001,11882562.371338001,10672593,25225696.723683998,25222930,141387]
["유류합","유류합",2082.3449999999998,1398391,1397330,1397329.362672,220674.99119600002,220674.99119600002,4586,1397330.0816480001,1397330,0]
["양수합","양수합",4700,8448,8448,8448,302418.92607099999,302418.92607099999,-16150,0,0,0]
["신재생합","신재생합",15662.225,421574,432661,432422.27730399999,2517272.8243869999,2517272.8243869999,258899,163072.575992,162805,0]
["기타합","기타합",81.7,0,0,0,45305.472291999999,45305.472291999999,0,0,0,0]
["수력합","수력합",1807.556,258637,269856,269856,327618.37127600005,327618.37127600005,258647,0,0,0]
["폐기물합","폐기물합",4597.7470000000003,0,0,0,114988.20196300001,114988.20196300001,0,0,0,0]
["바이오합","바이오합",1333.896,162937,162805,162566.27730399999,615987.12408800004,615987.12408800004,252,163072.575992,162805,0]
["총계",null,125653.38800000001,54939488,54171088,54145971.771587998,41038976.339882001,41038976.339882001,37577774,53234411.926769003,53892514,141387]

{"sheet":"202104","index":21,"n_rows":39,"n_cols":12,"rows_kept":39,"cut":false,"hidden":false,"merged":[[0,0,0,11],[1,0,1,11],[2,0,2,11]]}
["정산요소 내역"]
["조회기간 : 2021-04-01 ~ 2021-04-30"]
["단위 : MWh"]
["연료원코드","연료원","설비용량(MW)","A","RA","ARA","MGO","AMGO","PSE","FCA","OFCA","OR"]
[1,"원자력",23250,12120200,11974025,11973994.052999999,11965764.598351,11965764.598351,12116826,11975754.994883999,11974025,0]
[2,"유연탄",37970.781999999999,13080646,12478785,12477357.877,12222115.901572,12222115.901572,11938246,11688429.575759999,12478785,0]
[3,"무연탄",400,112312,110946,110890.33199999999,107967.82066899999,107967.82066899999,111956,110963.611831,110946,0]
[5,"바이오가스",84.549000000000007,0,0,0,32782.465458999999,32782.465458999999,0,0,0,0]
[6,"부생가스",4243.47,0,0,0,108819.598493,108819.598493,0,0,0,0]
[7,"소수력",197.70400000000001,0,0,0,46827.958248000003,46827.958248000003,0,0,0,0]
[8,"수력",1604.8520000000001,179863,179808,179808,185294.36666199999,185294.36666199999,179862,0,0,0]
[9,"양수",4700,5274,5274,5274,318670.20782399998,318670.20782399998,-24020,0,0,0]
[10,"매립가스",63.734000000000002,0,0,0,12536.084701,12536.084701,0,0,0,0]
[12,"중유",1470.3,699108,693717,693711.91599999997,79849.959795999996,79849.959795999996,16460,693730.35183499998,693717,0]
[13,"태양광",4897.3109999999997,0,0,0,659435.51269200002,659435.51269200002,0,0,0,0]
[15,"폐기물",354.27699999999999,0,0,0,82329.158641000002,82329.158641000002,0,0,0,0]
[16,"풍력",1691.933,0,0,0,268066.74375999998,268066.74375999998,0,0,0,0]
[17,"LNG",41791.836000000003,25559640,25283359,25245526.614,13058737.842496,13058737.586499,13114473,25286903.825500999,25283333,284732]
[18,"LPG",88,53280,53280,53280,0,0,0,53280,53280,0]
[20,"연료전지",674.76800000000003,0,0,0,373002.26925100002,373002.26925100002,0,0,0,0]
[21,"경유",612.04499999999996,463004,462809,462809,17235.534063999999,17235.534063999999,4956,462809,462809,0]
[22,"해양에너지",255.5,0,0,0,39428.763072000002,39428.763072000002,0,0,0,0]
[23,"가스압",0.3,0,0,0,0,0,0,0,0,0]
[24,"바이오매스",835.01300000000003,0,0,0,389278.91730899998,389278.91730899998,0,0,0,0]
[25,"IGCC",346.33,0,0,0,195758.46359999999,195758.46359999999,0,0,0,0]
[32,"바이오중유",350,239207,239207,239207,97645.022383999996,97645.022383999996,4016,239214.73572,239207,0]
[40,"RPS",0,0,0,0,0,0,0,0,0,0]
[99,"기타",81.400000000000006,0,0,0,43727.262478999997,43727.262478999997,0,0,0,0]
["원자력합","원자력합",23250,12120200,11974025,11973994.052999999,11965764.598351,11965764.598351,12116826,11975754.994883999,11974025,0]
["석탄합","석탄합",38370.781999999999,13192958,12589731,12588248.209000001,12330083.722241001,12330083.722241001,12050202,11799393.187591,12589731,0]
["LNG합","LNG합",41791.836000000003,25559640,25283359,25245526.614,13058737.842496,13058737.586499,13114473,25286903.825501002,25283333,284732]
["유류합","유류합",2082.3449999999998,1162112,1156526,1156520.916,97085.493860000017,97085.493860000017,21416,1156539.3518350001,1156526,0]
["양수합","양수합",4700,5274,5274,5274,318670.20782399998,318670.20782399998,-24020,0,0,0]
["신재생합","신재생합",15599.441000000001,419070,419015,419015,2491205.3242720007,2491205.3242720007,183878,239214.73571999997,239207,0]
["기타합","기타합",81.7,0,0,0,43727.262479000005,43727.262479000005,0,0,0,0]
["수력합","수력합",1802.556,179863,179808,179808,232122.32491,232122.32491,179862,0,0,0]
["폐기물합","폐기물합",4597.7470000000003,0,0,0,191148.75713399998,191148.75713399998,0,0,0,0]
["바이오합","바이오합",1333.296,239207,239207,239207,532242.48985299992,532242.48985299992,4016,239214.73571999997,239207,0]
["총계",null,125964.10400000001,52512534,51481210,51441858.792000003,40305274.451522999,40305274.195525996,37462775,50511086.095531002,51296102,284732]

{"sheet":"202103","index":22,"n_rows":39,"n_cols":12,"rows_kept":39,"cut":false,"hidden":false,"merged":[[0,0,0,11],[1,0,1,11],[2,0,2,11]]}
["정산요소 내역"]
["조회기간 : 2021-03-01 ~ 2021-03-31"]
["단위 : MWh"]
["연료원코드","연료원","설비용량(MW)","A","RA","ARA","MGO","AMGO","PSE","FCA","OFCA","OR"]
[1,"원자력",23250,13211582,13165659,13166014.461999999,13159239.635823,13159239.635823,13209360,13167669.639359999,13165659,0]
[2,"유연탄",37970.781999999999,12997815,12511401,12505653.805,12504794.708729999,12504781.825598,12612642,12375260.355037,12511401,0]
[3,"무연탄",400,136111,132319,132308.53899999999,128633.89679,128633.89679,135949,132365.17593500001,132319,0]
[5,"바이오가스",84.549000000000007,0,0,0,26163.43563,26163.43563,0,0,0,0]
[6,"부생가스",4243.47,0,0,0,163432.418645,163432.418645,0,0,0,0]
[7,"소수력",192.70400000000001,0,0,0,43275.265128999999,43275.265128999999,0,0,0,0]
[8,"수력",1604.8520000000001,141876,149375,149375,153912.60545,153912.60545,141877,0,0,0]
[9,"양수",4700,22104,19687,19687,307907.38797699998,307907.38797699998,19657,0,0,0]
[10,"매립가스",63.734000000000002,0,0,0,16112.962006,16112.962006,0,0,0,0]
[12,"중유",1470.3,940106,939578,939577.15899999999,55350.253442000001,55347.95723,20907,939578.15117199998,939578,0]
[13,"태양광",4834.0879999999997,0,0,0,578502.20999200002,578502.20999200002,0,0,0,0]
[15,"폐기물",354.27699999999999,0,0,0,90956.839290999997,90956.839290999997,0,0,0,0]
[16,"풍력",1691.933,0,0,0,268598.57233699999,268598.57233699999,0,0,0,0]
[17,"LNG",40746.086000000003,29888908,29628176,29623329.945,14982782.363191999,14982773.830639999,14818480,29634224.677248999,29628150,237341]
[18,"LPG",88,55416,55296,55296,3277.0908800000002,3277.0908800000002,0,55296.822944,55296,0]
[20,"연료전지",674.76800000000003,0,0,0,376253.16353000002,376253.16353000002,0,0,0,0]
[21,"경유",612.04499999999996,485993,485419,484890,22090.339936,22090.339936,13475,485500.66427200002,485419,0]
[22,"해양에너지",255.5,0,0,0,42756.197064,42756.197064,0,0,0,0]
[23,"가스압",0.3,0,0,0,0,0,0,0,0,0]
[24,"바이오매스",850.654,0,0,0,411173.72592400003,411173.72592400003,0,0,0,0]
[25,"IGCC",346.33,0,0,0,163434.30600000001,163434.30600000001,0,0,0,0]
[32,"바이오중유",350,233485,233435,233435,123386.7404,123386.7404,10522,233440.647448,233435,0]
[40,"RPS",0,0,0,0,0,0,0,0,0,0]
[99,"기타",81.400000000000006,0,0,0,40029.703604000002,40029.703604000002,0,0,0,0]
["원자력합","원자력합",23250,13211582,13165659,13166014.461999999,13159239.635823,13159239.635823,13209360,13167669.639360001,13165659,0]
["석탄합","석탄합",38370.781999999999,13133926,12643720,12637962.344000001,12633428.605519999,12633415.722388001,12748591,12507625.530972,12643720,0]
["LNG합","LNG합",40746.086000000003,29888908,29628176,29623329.945,14982782.363192001,14982773.830639999,14818480,29634224.677248999,29628150,237341]
["유류합","유류합",2082.3449999999998,1426099,1424997,1424467.159,77440.59337799999,77438.297165999989,34382,1425078.8154440001,1424997,0]
["양수합","양수합",4700,22104,19687,19687,307907.38797699998,307907.38797699998,19657,0,0,0]
["신재생합","신재생합",15546.859,375361,382810,382810,2457958.4413979999,2457958.4413979999,152399,233440.647448,233435,0]
["기타합","기타합",81.7,0,0,0,40029.703604000002,40029.703604000002,0,0,0,0]
["수력합","수력합",1797.556,141876,149375,149375,197187.87057900001,197187.87057900001,141877,0,0,0]
["폐기물합","폐기물합",4597.7470000000003,0,0,0,254389.25793600001,254389.25793600001,0,0,0,0]
["바이오합","바이오합",1348.9369999999999,233485,233435,233435,576836.86395999999,576836.86395999999,10522,233440.647448,233435,0]
["총계",null,124865.772,58113396,57320345,57309566.909999996,43662063.821772002,43662040.109875999,40982869,57023336.133417003,57151257,237341]

{"sheet":"202102","index":23,"n_rows":39,"n_cols":12,"rows_kept":39,"cut":false,"hidden":false,"merged":[[0,0,0,11],[1,0,1,11],[2,0,2,11]]}
["정산요소 내역"]
["조회기간 : 2021-02-01 ~ 2021-02-28"]
["단위 : MWh"]
["연료원코드","연료원","설비용량(MW)","A","RA","ARA","MGO","AMGO","PSE","FCA","OFCA","OR"]
[1,"원자력",23250,12220410,12194706,12194308.385,12132702.317415999,12132702.317415999,12219433,12196518.252218001,12194706,0]
[2,"유연탄",37970.781999999999,15285490,14935812,14935660.387,13706205.626181001,13706205.626181001,14434092,14352192.621638,14935812,0]
[3,"무연탄",400,150830,150830,150799.45000000001,120058.65818300001,120058.65818300001,132528,150830.27688600001,150830,0]
[5,"바이오가스",84.549000000000007,0,0,0,30652.282186,30652.282186,0,0,0,0]
[6,"부생가스",4243.47,0,0,0,129932.924466,129932.924466,0,0,0,0]
[7,"소수력",192.70400000000001,0,0,0,28687.045693,28687.045693,0,0,0,0]
[8,"수력",1604.8520000000001,137696,137329,137329,138299.567587,138299.567587,137702,0,0,0]
[9,"양수",4700,4792,4792,4792,307172.20042900002,307172.20042900002,3342,0,0,0]
[10,"매립가스",65.849999999999994,0,0,0,14001.904509,14001.904509,0,0,0,0]
[12,"중유",1470.3,838796,838478,838478,151495.86145699999,151495.86145699999,5097,838478.39204800001,838478,0]
[13,"태양광",4749.8029999999999,0,0,0,447571.35157900001,447571.35157900001,0,0,0,0]
[15,"폐기물",354.27699999999999,0,0,0,68491.826977999997,68491.826977999997,0,0,0,0]
[16,"풍력",1691.933,0,0,0,384718.05729700002,384718.05729700002,0,0,0,0]
[17,"LNG",40746.086000000003,27829745,27563596,27559200.248,13282515.913628999,13282515.913628999,12355652,27563913.561891999,27563416,81651]
[18,"LPG",88,53088,53088,53088,12644.419984,12644.419984,0,53088,53088,0]
[20,"연료전지",673.82799999999997,0,0,0,329944.03939500003,329944.03939500003,0,0,0,0]
[21,"경유",612.04499999999996,447694,448118,448118,3187.0759760000001,3187.0759760000001,3194,448120.26671200001,448118,0]
[22,"해양에너지",255.5,0,0,0,35192.156135999998,35192.156135999998,0,0,0,0]
[23,"가스압",0.3,0,0,0,0,0,0,0,0,0]
[24,"바이오매스",850.654,0,0,0,301100.72472599999,301100.72472599999,0,0,0,0]
[25,"IGCC",346.33,0,0,0,177626.97568,177626.97568,0,0,0,0]
[32,"바이오중유",350,144268,147363,147305.90299999999,84912.006984000007,84912.006984000007,0,147537.96549599999,147363,0]
[40,"RPS",0,0,0,0,0,0,0,0,0,0]
[99,"기타",81.400000000000006,0,0,0,47366.511488999997,47366.511488999997,0,0,0,0]
["원자력합","원자력합",23250,12220410,12194706,12194308.385,12132702.317416001,12132702.317416001,12219433,12196518.252217999,12194706,0]
["석탄합","석탄합",38370.781999999999,15436320,15086642,15086459.836999999,13826264.284363998,13826264.284363998,14566620,14503022.898523999,15086642,0]
["LNG합","LNG합",40746.086000000003,27829745,27563596,27559200.248,13282515.913628999,13282515.913628999,12355652,27563913.561891999,27563416,81651]
["유류합","유류합",2082.3449999999998,1286490,1286596,1286596,154682.93743299998,154682.93743299998,8291,1286598.65876,1286596,0]
["양수합","양수합",4700,4792,4792,4792,307172.20042900002,307172.20042900002,3342,0,0,0]
["신재생합","신재생합",15463.75,281964,284692,284634.90299999999,2171130.8632160001,2171130.8632160001,137702,147537.96549599999,147363,0]
["기타합","기타합",81.7,0,0,0,47366.511488999997,47366.511488999997,0,0,0,0]
["수력합","수력합",1797.556,137696,137329,137329,166986.61327999999,166986.61327999999,137702,0,0,0]
["폐기물합","폐기물합",4597.7470000000003,0,0,0,198424.75144399999,198424.75144399999,0,0,0,0]
["바이오합","바이오합",1351.0530000000001,144268,147363,147305.90299999999,430666.918405,430666.918405,0,147537.96549599999,147363,0]
["총계",null,124782.663,57112809,56474112,56469079.373000003,41934479.447959997,41934479.447959997,39291040,55750679.336889997,56331811,81651]

{"sheet":"202101","index":24,"n_rows":39,"n_cols":12,"rows_kept":39,"cut":false,"hidden":false,"merged":[[0,0,0,11],[1,0,1,11],[2,0,2,11]]}
["정산요소 내역"]
["조회기간 : 2021-01-01 ~ 2021-01-31"]
["단위 : MWh"]
["연료원코드","연료원","설비용량(MW)","A","RA","ARA","MGO","AMGO","PSE","FCA","OFCA","OR"]
[1,"원자력",23250,13415416,13401579,13291457.789999999,13282069.492122,13282069.492122,13415416,13402848.675241999,13401579,0]
[2,"유연탄",37964.281999999999,18404457,18461014,18459214.173999999,16739500.586292,16739500.586292,18180289,18359779.716054998,18461014,0]
[3,"무연탄",400,222244,227072,227072,213039.65031600001,213039.65031600001,114408,227084.192996,227072,0]
[5,"바이오가스",84.549000000000007,0,0,0,32585.993149999998,32585.993149999998,0,0,0,0]
[6,"부생가스",4243.47,0,0,0,129624.44119300001,129624.44119300001,0,0,0,0]
[7,"소수력",192.70400000000001,0,0,0,33465.775296,33465.775296,0,0,0,0]
[8,"수력",1604.98,153581,153568,153568,155941.141164,155941.141164,153595,0,0,0]
[9,"양수",4700,2980,2980,2980,322997.89177699998,322997.89177699998,2023,0,0,0]
[10,"매립가스",65.849999999999994,0,0,0,12499.110019,12499.110019,0,0,0,0]
[12,"중유",1470.3,920431,903949,903949.196,315812.40061100002,315812.40061100002,6563,903950.88128800003,903949,0]
[13,"태양광",4680.7259999999997,0,0,0,337707.90414900001,337707.90414900001,0,0,0,0]
[15,"폐기물",353.78199999999998,0,0,0,81676.314450999998,81676.314450999998,0,0,0,0]
[16,"풍력",1653.133,0,0,0,374016.41922899999,374016.41922899999,0,0,0,0]
[17,"LNG",40746.086000000003,31545499,30966315,30954597.873,16765302.839042,16765302.839042,15107792,30967488.080722999,30965921,27974]
[18,"LPG",88,57992,57878,57880.964,21225.037231999999,21225.037231999999,0,57890.068240000001,57878,0]
[20,"연료전지",654.02800000000002,0,0,0,359975.60433200002,359975.60433200002,0,0,0,0]
[21,"경유",612.04499999999996,504885,506087,505922.03899999999,17311.209943999998,17311.209943999998,2988,506087,506087,0]
[22,"해양에너지",255.5,0,0,0,39503.439431999999,39503.439431999999,0,0,0,0]
[23,"가스압",0.3,0,0,0,0,0,0,0,0,0]
[24,"바이오매스",850.654,0,0,0,339910.51425800001,339910.51425800001,0,0,0,0]
[25,"IGCC",346.33,0,0,0,190565.37304000001,190565.37304000001,0,0,0,0]
[32,"바이오중유",350,140616,140616,140616,76965.473759999993,76965.473759999993,0,140616,140616,0]
[40,"RPS",0,0,0,0,0,0,0,0,0,0]
[99,"기타",81.400000000000006,0,0,0,51765.163141999998,51765.163141999998,0,0,0,0]
["원자력합","원자력합",23250,13415416,13401579,13291457.789999999,13282069.492122,13282069.492122,13415416,13402848.675241999,13401579,0]
["석탄합","석탄합",38364.281999999999,18626701,18688086,18686286.173999999,16952540.236607999,16952540.236607999,18294697,18586863.909051001,18688086,0]
["LNG합","LNG합",40746.086000000003,31545499,30966315,30954597.873,16765302.839042,16765302.839042,15107792,30967488.080722999,30965921,27974]
["유류합","유류합",2082.3449999999998,1425316,1410036,1409871.2350000001,333123.61055500002,333123.61055500002,9551,1410037.8812879999,1410036,0]
["양수합","양수합",4700,2980,2980,2980,322997.89177699998,322997.89177699998,2023,0,0,0]
["신재생합","신재생합",15335.706,294197,294184,294184,2164437.5034730001,2164437.5034730001,153595,140616,140616,0]
["기타합","기타합",81.7,0,0,0,51765.163142000005,51765.163142000005,0,0,0,0]
["수력합","수력합",1797.684,153581,153568,153568,189406.91645999998,189406.91645999998,153595,0,0,0]
["폐기물합","폐기물합",4597.2520000000004,0,0,0,211300.75564400002,211300.75564400002,0,0,0,0]
["바이오합","바이오합",1351.0530000000001,140616,140616,140616,461961.09118699998,461961.09118699998,0,140616,140616,0]
["총계",null,124648.11900000001,65368101,64821058,64697258.035999998,49893461.773951001,49893461.773951001,46983074,64565744.614543997,64664116,27974]

{"sheet":"202012","index":25,"n_rows":39,"n_cols":12,"rows_kept":39,"cut":false,"hidden":false,"merged":[[0,0,0,11],[1,0,1,11],[2,0,2,11]]}
["정산요소 내역"]
["조회기간 : 2020-12-01 ~ 2020-12-31"]
["단위 : MWh"]
["연료원코드","연료원","설비용량(MW)","A","RA","ARA","MGO","AMGO","PSE","FCA","OFCA","OR"]
[1,"원자력",23250,14386203,14360504,14360496.183,14353736.296226,14353736.296226,14385589,14362568.714695999,14360504,0]
[2,"유연탄",37946.281999999999,15707953,15311661,15310457.698000001,14870711.830035999,14870711.830035999,15383964,15256981.52698,15311661,0]
[3,"무연탄",400,209064,209064,209064,205821.47414999999,205821.47414999999,209064,209076.67004699999,209064,0]
[5,"바이오가스",84.549000000000007,0,0,0,33757.037147000003,33757.037147000003,0,0,0,0]
[6,"부생가스",4243.47,0,0,0,137335.225798,137335.225798,0,0,0,0]
[7,"소수력",192.70400000000001,0,0,0,36487.462595999998,36487.462595999998,0,0,0,0]
[8,"수력",1604.98,151584,150636,150636,153522.588904,153522.588904,151592,0,0,0]
[9,"양수",4700,51965,49444,49444,302064.18771899998,302064.18771899998,-31910,0,0,0]
[10,"매립가스",65.849999999999994,0,0,0,14461.288677,14461.288677,0,0,0,0]
[12,"중유",1470.3,942093,938683,938680.65800000005,428944.96628499997,428944.96628499997,5196,938683.02616000001,938683,0]
[13,"태양광",4645.7619999999997,0,0,0,339356.284591,339356.284591,0,0,0,0]
[15,"폐기물",353.78199999999998,0,0,0,87879.244821999993,87879.244821999993,0,0,0,0]
[16,"풍력",1642.3330000000001,0,0,0,399050.816506,399050.816506,0,0,0,0]
[17,"LNG",40746.086000000003,30428969,29774166,29767453.27,16154881.764373001,16154869.367566001,15547912,29774845.976535998,29774132,82283]
[18,"LPG",88,58031,58031,58031,9098.3242559999999,9098.3242559999999,0,58031,58031,0]
[20,"연료전지",604.30799999999999,0,0,0,352861.43474699999,352861.43474699999,0,0,0,0]
[21,"경유",612.04499999999996,490828,492437,491426,14157.977344000001,14157.977344000001,1951,492458.37577599997,492437,0]
[22,"해양에너지",255.5,0,0,0,37084.766280000003,37084.766280000003,0,0,0,0]
[23,"가스압",0.3,0,0,0,0,0,0,0,0,0]
[24,"바이오매스",850.654,0,0,0,359780.88492899999,359780.88492899999,0,0,0,0]
[25,"IGCC",346.33,0,0,0,197702.18831999999,197702.18831999999,0,0,0,0]
[32,"바이오중유",350,140616,140616,140616,69183.686656000005,69183.686656000005,0,140616,140616,0]
[40,"RPS",0,0,0,0,0,0,0,0,0,0]
[99,"기타",81.400000000000006,0,0,0,50347.269545000003,50347.269545000003,0,0,0,0]
["원자력합","원자력합",23250,14386203,14360504,14360496.183,14353736.296226,14353736.296226,14385589,14362568.714695999,14360504,0]
["석탄합","석탄합",38346.281999999999,15917017,15520725,15519521.698000001,15076533.304185998,15076533.304185998,15593028,15466058.197027,15520725,0]
["LNG합","LNG합",40746.086000000003,30428969,29774166,29767453.27,16154881.764373001,16154869.367566001,15547912,29774845.976535998,29774132,82283]
["유류합","유류합",2082.3449999999998,1432921,1431120,1430106.6580000001,443102.94362899999,443102.94362899999,7147,1431141.401936,1431120,0]
["양수합","양수합",4700,51965,49444,49444,302064.18771899998,302064.18771899998,-31910,0,0,0]
["신재생합","신재생합",15240.222,292200,291252,291252,2218462.9099729997,2218462.9099729997,151592,140616,140616,0]
["기타합","기타합",81.7,0,0,0,50347.269544999996,50347.269544999996,0,0,0,0]
["수력합","수력합",1797.684,151584,150636,150636,190010.0515,190010.0515,151592,0,0,0]
["폐기물합","폐기물합",4597.2520000000004,0,0,0,225214.47061999998,225214.47061999998,0,0,0,0]
["바이오합","바이오합",1351.0530000000001,140616,140616,140616,477182.89740900003,477182.89740900003,0,140616,140616,0]
["총계",null,124534.63499999999,62567306,61485242,61476304.809,48608226.999907002,48608214.603100002,45653358,61233261.290195003,61285128,82283]

{"sheet":"202011","index":26,"n_rows":39,"n_cols":12,"rows_kept":39,"cut":false,"hidden":false,"merged":[[0,0,0,11],[1,0,1,11],[2,0,2,11]]}
["정산요소 내역"]
["조회기간 : 2020-11-01 ~ 2020-11-30"]
["단위 : MWh"]
["연료원코드","연료원","설비용량(MW)","A","RA","ARA","MGO","AMGO","PSE","FCA","OFCA","OR"]
[1,"원자력",23250,13439876,13391661,13391599.077,13383711.885612,13383711.885612,13439664,13393484.018271999,13391660,0]
[2,"유연탄",37946.281999999999,19351439,19155067,19153350.624000002,13565721.32614,13565721.32614,14437839,19156053.703901999,19155067,0]
[3,"무연탄",400,259920,259920,259920,233578.05661100001,233578.05661100001,259920,259920,259920,0]
[5,"바이오가스",84.549000000000007,0,0,0,28686.380054000001,28686.380054000001,0,0,0,0]
[6,"부생가스",4243.47,0,0,0,89707.740990000006,89707.740990000006,0,0,0,0]
[7,"소수력",192.37700000000001,0,0,0,36304.455671000003,36304.455671000003,0,0,0,0]
[8,"수력",1604.98,155812,159552,159552,162496.111359,162496.111359,155816,0,0,0]
[9,"양수",4700,32758,28834,28834,222085.096903,222085.096903,6508,0,0,0]
[10,"매립가스",65.849999999999994,0,0,0,15942.684929999999,15942.684929999999,0,0,0,0]
[12,"중유",1470.3,911722,911784,911769.50399999996,284652.985958,284652.985958,2931,911791.39887399995,911784,0]
[13,"태양광",4485.509,0,0,0,360258.77730199997,360258.77730199997,0,0,0,0]
[15,"폐기물",347.08199999999999,0,0,0,88544.301720000003,88544.301720000003,0,0,0,0]
[16,"풍력",1642.3330000000001,0,0,0,321649.83335500001,321649.83335500001,0,0,0,0]
[17,"LNG",40746.086000000003,25860735,25373840,25358050.822999999,12322760.08481,12322758.230947999,10949273,25382866.811200999,25373771,147578]
[18,"LPG",88,37440,37440,37440,0,0,0,37440,37440,0]
[20,"연료전지",600.64800000000002,0,0,0,334162.78588500002,334162.78588500002,0,0,0,0]
[21,"경유",612.04499999999996,401311,395617,395617,36602.533016000001,36602.533016000001,0,361386,395617,0]
[22,"해양에너지",255.5,0,0,0,36401.579160000001,36401.579160000001,0,0,0,0]
[23,"가스압",0.3,0,0,0,0,0,0,0,0,0]
[24,"바이오매스",846.05399999999997,0,0,0,305225.69500900002,305225.69500900002,0,0,0,0]
[25,"IGCC",346.33,0,0,0,190148.40152000001,190148.40152000001,0,0,0,0]
[32,"바이오중유",350,166749,166731,166731,70971.125287999996,70971.125287999996,2691,166731,166731,0]
[40,"RPS",0,0,0,0,0,0,0,0,0,0]
[99,"기타",81.400000000000006,0,0,0,11223.218497,11223.218497,0,0,0,0]
["원자력합","원자력합",23250,13439876,13391661,13391599.077,13383711.885612,13383711.885612,13439664,13393484.018271999,13391660,0]
["석탄합","석탄합",38346.281999999999,19611359,19414987,19413270.624000002,13799299.382751001,13799299.382751001,14697759,19415973.703901999,19414987,0]
["LNG합","LNG합",40746.086000000003,25860735,25373840,25358050.822999999,12322760.08481,12322758.230947999,10949273,25382866.811201002,25373771,147578]
["유류합","유류합",2082.3449999999998,1313033,1307401,1307386.504,321255.51897400001,321255.51897400001,2931,1273177.3988739999,1307401,0]
["양수합","양수합",4700,32758,28834,28834,222085.09690300003,222085.09690300003,6508,0,0,0]
["신재생합","신재생합",15064.682000000001,322561,326283,326283,2040499.8722429997,2040499.8722429997,158507,166731,166731,0]
["기타합","기타합",81.7,0,0,0,11223.218497,11223.218497,0,0,0,0]
["수력합","수력합",1797.357,155812,159552,159552,198800.56703000001,198800.56703000001,155816,0,0,0]
["폐기물합","폐기물합",4590.5519999999997,0,0,0,178252.04270999998,178252.04270999998,0,0,0,0]
["바이오합","바이오합",1346.453,166749,166731,166731,420825.885281,420825.885281,2691,166731,166731,0]
["총계",null,124359.095,60617762,59880446,59862864.027999997,42100835.05979,42100833.205927998,39254642,59669672.932249002,59691990,147578]

{"sheet":"202010","index":27,"n_rows":39,"n_cols":12,"rows_kept":39,"cut":false,"hidden":false,"merged":[[0,0,0,11],[1,0,1,11],[2,0,2,11]]}
["정산요소 내역"]
["조회기간 : 2020-10-01 ~ 2020-10-31"]
["단위 : MWh"]
["연료원코드","연료원","설비용량(MW)","A","RA","ARA","MGO","AMGO","PSE","FCA","OFCA","OR"]
[1,"원자력",23250,12866942,12881408,12818913.444,12811638.874599,12811638.874599,12864369,12883733.142982,12881408,0]
[2,"유연탄",36906.281999999999,20745543,20562819,20562648.201000001,13581390.6842,13581390.6842,14875576,20563526.662613999,20562819,0]
[3,"무연탄",400,148227,143830,143817.22700000001,9416.9534710000007,9416.9534710000007,0,143839.672307,143830,0]
[5,"바이오가스",84.549000000000007,0,0,0,17035.992912000002,17035.992912000002,0,0,0,0]
[6,"부생가스",4243.47,0,0,0,154829.95153200001,154829.95153200001,0,0,0,0]
[7,"소수력",192.37700000000001,0,0,0,41279.371184000003,41279.371184000003,0,0,0,0]
[8,"수력",1604.98,184333,182200,182200,185546.54076800001,185546.54076800001,184336,0,0,0]
[9,"양수",4700,1700,1700,1700,242520.01556,242520.01556,-1626,0,0,0]
[10,"매립가스",65.849999999999994,0,0,0,13429.491926000001,13429.491926000001,0,0,0,0]
[12,"중유",1470.3,945223,944968,944963.42200000002,132969.225569,132969.225569,4067,944968,944968,0]
[13,"태양광",4358.0219999999999,0,0,0,495898.837948,495898.837948,0,0,0,0]
[15,"폐기물",347.08199999999999,0,0,0,92633.152283000003,92633.152283000003,0,0,0,0]
[16,"풍력",1621.3330000000001,0,0,0,229671.58434500001,229671.58434500001,0,0,0,0]
[17,"LNG",40746.086000000003,23549708,23162307,23120586.702,10990540.097185999,10990540.097185999,9263214,23165381.885428999,23162194,129644]
[18,"LPG",88,32448,32448,32448,0,0,0,32448,32448,0]
[20,"연료전지",603.048,0,0,0,334400.78056799999,334400.78056799999,0,0,0,0]
[21,"경유",612.04499999999996,374595,366288,366288,7146.2868959999996,7146.2868959999996,0,359151,366288,0]
[22,"해양에너지",255.5,0,0,0,41275.420535999998,41275.420535999998,0,0,0,0]
[23,"가스압",0.3,0,0,0,0,0,0,0,0,0]
[24,"바이오매스",846.05399999999997,0,0,0,264494.897359,264494.897359,0,0,0,0]
[25,"IGCC",346.33,0,0,0,190795.44456,190795.44456,0,0,0,0]
[32,"바이오중유",350,195672,195672,195672,83856.897431999998,83856.897431999998,3319,195672,195672,0]
[40,"RPS",0,0,0,0,0,0,0,0,0,0]
[99,"기타",84.29,0,0,0,44852.825324999998,44852.825324999998,0,0,0,0]
["원자력합","원자력합",23250,12866942,12881408,12818913.444,12811638.874599,12811638.874599,12864369,12883733.142982,12881408,0]
["석탄합","석탄합",37306.281999999999,20893770,20706649,20706465.427999999,13590807.637671001,13590807.637671001,14875576,20707366.334921002,20706649,0]
["LNG합","LNG합",40746.086000000003,23549708,23162307,23120586.702,10990540.097185999,10990540.097185999,9263214,23165381.885429002,23162194,129644]
["유류합","유류합",2082.3449999999998,1319818,1311256,1311251.422,140115.51246500001,140115.51246500001,4067,1304119,1311256,0]
["양수합","양수합",4700,1700,1700,1700,242520.01556,242520.01556,-1626,0,0,0]
["신재생합","신재생합",14918.594999999999,380005,377872,377872,2145148.363353,2145148.363353,187655,195672,195672,0]
["기타합","기타합",84.59,0,0,0,44852.825324999998,44852.825324999998,0,0,0,0]
["수력합","수력합",1797.357,184333,182200,182200,226825.91195199999,226825.91195199999,184336,0,0,0]
["폐기물합","폐기물합",4590.5519999999997,0,0,0,247463.10381500001,247463.10381500001,0,0,0,0]
["바이오합","바이오합",1346.453,195672,195672,195672,378817.279629,378817.279629,3319,195672,195672,0]
["총계",null,123175.898,59044391,58473640,58369236.995999999,39965623.326159,39965623.326159,37193255,58288720.363332003,58289627,129644]

{"sheet":"202009","index":28,"n_rows":38,"n_cols":12,"rows_kept":38,"cut":false,"hidden":false,"merged":[[0,0,0,11],[1,0,1,11],[2,0,2,11]]}
["정산요소 내역"]
["조회기간 : 2020-09-01 ~ 2020-09-30"]
["단위 : MWh"]
["연료원코드","연료원","설비용량(MW)","A","RA","ARA","MGO","AMGO","PSE","FCA","OFCA","OR"]
[1,"원자력",23250,9073183,8966695,8843687.3540000003,8835019.1027940009,8835019.1027940009,8978263,8967909.1664499994,8966695,0]
[2,"유연탄",36906.281999999999,21967195,21864613,21864126.407000002,17400513.857593,17400513.857593,20128551,21865948.487716999,21864613,0]
[3,"무연탄",400,224439,224439,224390.73300000001,15787.25366,15787.25366,0,224439,224439,0]
[5,"바이오가스",84.549000000000007,0,0,0,19560.723392,19560.723392,0,0,0,0]
[6,"부생가스",4243.47,0,0,0,533351.78878199996,533351.78878199996,0,0,0,0]
[7,"소수력",192.37700000000001,0,0,0,54052.049249000003,54052.049249000003,0,0,0,0]
[8,"수력",1604.98,535041,552756,552756,565612.36889499996,565612.36889499996,535039,0,0,0]
[9,"양수",4700,14967,14967,14967,250082.34281900001,250082.34281900001,-11386,0,0,0]
[10,"매립가스",66.150000000000006,0,0,0,15196.641578000001,15196.641578000001,0,0,0,0]
[12,"중유",1558.3,949984,936591,936580.473,511722.15314800001,511721.90803599998,8437,936591,936591,0]
[13,"태양광",4319.6490000000003,0,0,0,423063.53957199998,423063.53957199998,0,0,0,0]
[15,"폐기물",337.58199999999999,0,0,0,86347.294047999996,86347.294047999996,0,0,0,0]
[16,"풍력",1621.3330000000001,0,0,0,188627.80304599999,188627.80304599999,0,0,0,0]
[17,"LNG",40746.086000000003,24854135,24536655,24518512.638,11485264.837497,11485260.603887999,9428046,24537027.085464001,24536512,239145]
[20,"연료전지",602.048,0,0,0,316828.14583599998,316828.14583599998,0,0,0,0]
[21,"경유",612.04499999999996,340313,336190,336190,577.62207999999998,577.62207999999998,0,335681,336311,0]
[22,"해양에너지",255.5,0,0,0,40257.108696000003,40257.108696000003,0,0,0,0]
[23,"가스압",0.3,0,0,0,0,0,0,0,0,0]
[24,"바이오매스",746.05399999999997,0,0,0,346581.72988699999,346581.72988699999,0,0,0,0]
[25,"IGCC",346.33,0,0,0,173144.1348,173144.1348,0,0,0,0]
[32,"바이오중유",350,225313,224687,224687,125806.57376,125806.57376,19346,224687,224687,0]
[40,"RPS",0,0,0,0,0,0,0,0,0,0]
[99,"기타",84.29,0,0,0,43578.979466999997,43578.979466999997,0,0,0,0]
["원자력합","원자력합",23250,9073183,8966695,8843687.3540000003,8835019.1027940009,8835019.1027940009,8978263,8967909.1664499994,8966695,0]
["석탄합","석탄합",37306.281999999999,22191634,22089052,22088517.140000001,17416301.111253001,17416301.111253001,20128551,22090387.487717003,22089052,0]
["LNG합","LNG합",40746.086000000003,24854135,24536655,24518512.638,11485264.837497,11485260.603888001,9428046,24537027.085464001,24536512,239145]
["유류합","유류합",2170.3449999999998,1290297,1272781,1272770.473,512299.7752279999,512299.53011599998,8437,1272272,1272902,0]
["양수합","양수합",4700,14967,14967,14967,250082.34281900001,250082.34281900001,-11386,0,0,0]
["신재생합","신재생합",14770.022000000001,760354,777443,777443,2888429.9015409993,2888429.9015409993,554385,224687,224687,0]
["기타합","기타합",84.59,0,0,0,43578.979467000005,43578.979467000005,0,0,0,0]
["수력합","수력합",1797.357,535041,552756,552756,619664.418144,619664.418144,535039,0,0,0]
["폐기물합","폐기물합",4581.0519999999997,0,0,0,619699.08282999997,619699.08282999997,0,0,0,0]
["바이오합","바이오합",1246.7529999999999,225313,224687,224687,507145.66861699999,507145.66861699999,19346,224687,224687,0]
["총계",null,123027.325,58184570,57657593,57515897.604999997,41430976.050599001,41430971.571878001,39086296,57092282.739630997,57089848,239145]

{"sheet":"202008","index":29,"n_rows":38,"n_cols":12,"rows_kept":38,"cut":false,"hidden":false,"merged":[[0,0,0,11],[1,0,1,11],[2,0,2,11]]}
["정산요소 내역"]
["조회기간 : 2020-08-01 ~ 2020-08-31"]
["단위 : MWh"]
["연료원코드","연료원","설비용량(MW)","A","RA","ARA","MGO","AMGO","PSE","FCA","OFCA","OR"]
[1,"원자력",23250,11953074,11932911,11932796.911,11925927.536944,11925927.536944,11951252,11935461.876141001,11932911,0]
[2,"유연탄",36906.281999999999,23470228,23346582,23341697.826000001,19294932.762708001,19294905.984467998,21683022,23347440.846723001,23346582,0]
[3,"무연탄",400,268584,268584,268584,138814.84491300001,138814.84491300001,0,268584,268584,0]
[5,"바이오가스",84.549000000000007,0,0,0,31783.803351999999,31783.803351999999,0,0,0,0]
[6,"부생가스",4243.47,0,0,0,607199.84576199995,607199.84576199995,0,0,0,0]
[7,"소수력",192.37700000000001,0,0,0,52073.871900999999,52073.871900999999,0,0,0,0]
[8,"수력",1604.98,753198,725057,725057,737421.37728000002,737421.37728000002,753202,0,0,0]
[9,"양수",4700,30159,30159,30159,270941.55617499998,270941.55617499998,1525,0,0,0]
[10,"매립가스",66.150000000000006,0,0,0,13703.710233,13703.710233,0,0,0,0]
[12,"중유",1558.3,1000468,994918,994918,130529.37063999999,130528.632826,10012,994925.55952600006,994918,0]
[13,"태양광",4264.22,0,0,0,429078.151931,429078.151931,0,0,0,0]
[15,"폐기물",337.58199999999999,0,0,0,69497.835139000003,69497.835139000003,0,0,0,0]
[16,"풍력",1578.133,0,0,0,251794.122657,251794.122657,0,0,0,0]
[17,"LNG",40746.086000000003,28338336,28227512,28220946.752,12762676.072113,12762674.567415001,9326126,28228632.195742998,28227226,261403]
[20,"연료전지",561.46799999999996,0,0,0,313905.78453,313905.78453,0,0,0,0]
[21,"경유",562.82799999999997,341083,337993,335954.02100000001,4717.2018879999996,4717.2018879999996,0,336956.35827999999,337993,1677.020608]
[22,"해양에너지",255.5,0,0,0,38001.617087999999,38001.617087999999,0,0,0,0]
[23,"가스압",0.3,0,0,0,0,0,0,0,0,0]
[24,"바이오매스",641.05399999999997,0,0,0,305001.173564,305001.173564,0,0,0,0]
[25,"IGCC",346.33,0,0,0,142188.69672000001,142188.69672000001,0,0,0,0]
[32,"바이오중유",350,250646,247301,247301,128225.51896,128225.51896,28357,247301.245888,247301,0]
[40,"RPS",0,0,0,0,0,0,0,0,0,0]
[99,"기타",84.29,0,0,0,38314.825611,38314.825611,0,0,0,0]
["원자력합","원자력합",23250,11953074,11932911,11932796.911,11925927.536944,11925927.536944,11951252,11935461.876141001,11932911,0]
["석탄합","석탄합",37306.281999999999,23738812,23615166,23610281.826000001,19433747.607620995,19433720.829381,21683022,23616024.846723001,23615166,0]
["LNG합","LNG합",40746.086000000003,28338336,28227512,28220946.752,12762676.072113,12762674.567414999,9326126,28228632.195742998,28227226,261403]
["유류합","유류합",2121.1280000000002,1341551,1332911,1330872.0209999999,135246.57252800002,135245.834714,10012,1331881.917806,1332911,1677.020608]
["양수합","양수합",4700,30159,30159,30159,270941.55617499998,270941.55617499998,1525,0,0,0]
["신재생합","신재생합",14525.813,1003844,972358,972358,3119875.5091169998,3119875.5091169998,781559,247301.245888,247301,0]
["기타합","기타합",84.59,0,0,0,38314.825611,38314.825611,0,0,0,0]
["수력합","수력합",1797.357,753198,725057,725057,789495.24918100005,789495.24918100005,753202,0,0,0]
["폐기물합","폐기물합",4581.0519999999997,0,0,0,676697.68090100004,676697.68090100004,0,0,0,0]
["바이오합","바이오합",1141.7529999999999,250646,247301,247301,478714.20610900002,478714.20610900002,28357,247301.245888,247301,0]
["총계",null,122733.899,66405776,66111017,66097414.509999998,47686729.680109002,47686700.659356996,43753496,65359302.082300998,65355515,263080.02060799999]

{"sheet":"202007","index":30,"n_rows":38,"n_cols":12,"rows_kept":38,"cut":false,"hidden":false,"merged":[[0,0,0,11],[1,0,1,11],[2,0,2,11]]}
["정산요소 내역"]
["조회기간 : 2020-07-01 ~ 2020-07-31"]
["단위 : MWh"]
["연료원코드","연료원","설비용량(MW)","A","RA","ARA","MGO","AMGO","PSE","FCA","OFCA","OR"]
[1,"원자력",23250,13184977,13077121,13077014.064999999,13069346.632455001,13069346.632455001,13184977,13079541.009907,13077121,0]
[2,"유연탄",36906.281999999999,22121212,21829485,21825097.221999999,17696542.748222001,17696542.748222001,20405203,21830579.816144001,21829485,0]
[3,"무연탄",400,268584,268584,268584,246771.74956500001,246771.74956500001,170848,268587.24343799998,268584,0]
[5,"바이오가스",84.054000000000002,0,0,0,35096.867140000002,35096.867140000002,0,0,0,0]
[6,"부생가스",4243.47,0,0,0,620331.74625099998,620331.74625099998,0,0,0,0]
[7,"소수력",192.09,0,0,0,56892.867619999997,56892.867619999997,0,0,0,0]
[8,"수력",1604.98,292738,298067,298067,311796.30299499998,311796.30299499998,292737,0,0,0]
[9,"양수",4700,21275,19363,19363,236372.277179,236372.277179,-6832,0,0,0]
[10,"매립가스",66.150000000000006,0,0,0,9520.3461279999992,9520.3461279999992,0,0,0,0]
[12,"중유",1558.3,997481,996439,996411.95600000001,18124.547412,18124.355724000001,3743,996439.00974400004,996439,0]
[13,"태양광",4239.8389999999999,0,0,0,370022.914032,370022.914032,0,0,0,0]
[15,"폐기물",337.58199999999999,0,0,0,91306.087287999995,91306.087287999995,0,0,0,0]
[16,"풍력",1578.133,0,0,0,157028.39264000001,157028.39264000001,0,0,0,0]
[17,"LNG",40746.086000000003,29009723,28853510,28843389.649,10065415.399742,10065415.286832999,6395264,28854464.830297001,28853477,249720]
[20,"연료전지",572.66800000000001,0,0,0,299319.78049799998,299319.78049799998,0,0,0,0]
[21,"경유",562.82799999999997,351602,347806,347806,3010.5269600000001,3010.5269600000001,0,344646,347806,0]
[22,"해양에너지",255.5,0,0,0,37268.653008000001,37268.653008000001,0,0,0,0]
[23,"가스압",0.3,0,0,0,0,0,0,0,0,0]
[24,"바이오매스",641.05399999999997,0,0,0,208606.168947,208606.168947,0,0,0,0]
[25,"IGCC",346.33,0,0,0,66567.755520000006,66567.755520000006,0,0,0,0]
[32,"바이오중유",350,231466,228252,228069.193,100507.790096,100507.790096,1180,228258.06742400001,228252,0]
[40,"RPS",0,0,0,0,0,0,0,0,0,0]
[99,"기타",84.29,0,0,0,46821.097607999996,46821.097607999996,0,0,0,0]
["원자력합","원자력합",23250,13184977,13077121,13077014.064999999,13069346.632455001,13069346.632455001,13184977,13079541.009907002,13077121,0]
["석탄합","석탄합",37306.281999999999,22389796,22098069,22093681.221999999,17943314.497786999,17943314.497786999,20576051,22099167.059582002,22098069,0]
["LNG합","LNG합",40746.086000000003,29009723,28853510,28843389.649,10065415.399742,10065415.286832999,6395264,28854464.830296997,28853477,249720]
["유류합","유류합",2121.1280000000002,1349083,1344245,1344217.956,21135.074371999999,21134.882684,3743,1341085.0097440002,1344245,0]
["양수합","양수합",4700,21275,19363,19363,236372.277179,236372.277179,-6832,0,0,0]
["신재생합","신재생합",14511.85,524204,526319,526136.19299999997,2364265.6721630003,2364265.6721630003,293917,228258.06742399998,228252,0]
["기타합","기타합",84.59,0,0,0,46821.097607999996,46821.097607999996,0,0,0,0]
["수력합","수력합",1797.07,292738,298067,298067,368689.17061500001,368689.17061500001,292737,0,0,0]
["폐기물합","폐기물합",4581.0519999999997,0,0,0,711637.83353900001,711637.83353900001,0,0,0,0]
["바이오합","바이오합",1141.258,231466,228252,228069.193,353731.172311,353731.172311,1180,228258.06742399998,228252,0]
["총계",null,122719.936,66479058,65918627,65903802.085000001,43746670.651306003,43746670.346708998,40447120,65602515.976953998,65601164,249720]

{"sheet":"202006","index":31,"n_rows":38,"n_cols":12,"rows_kept":38,"cut":false,"hidden":false,"merged":[[0,0,0,11],[1,0,1,11],[2,0,2,11]]}
["정산요소 내역"]
["조회기간 : 2020-06-01 ~ 2020-06-30"]
["단위 : MWh"]
["연료원코드","연료원","설비용량(MW)","A","RA","ARA","MGO","AMGO","PSE","FCA","OFCA","OR"]
[1,"원자력",23250,13430527,13417510,13417494.743000001,13408670.871680001,13408670.871680001,13430527,13418974.886082999,13417510,0]
[2,"유연탄",36906.281999999999,20126360,19798300,19793827.708999999,15357694.313668,15357669.171773,18663134,19799020.889727,19798300,0]
[3,"무연탄",600,259920,259868,259868,239196.965069,239196.965069,95882,259871.20965100001,259868,0]
[5,"바이오가스",83.209000000000003,0,0,0,33275.731952000002,33275.731952000002,0,0,0,0]
[6,"부생가스",4243.47,0,0,0,709668.03993900004,709668.03993900004,0,0,0,0]
[7,"소수력",192.09,0,0,0,52097.301264000002,52097.301264000002,0,0,0,0]
[8,"수력",1604.98,225594,223423,223423,231057.33628300001,231057.33628300001,225595,0,0,0]
[9,"양수",4700,700,700,700,224317.385847,224317.385847,-4366,0,0,0]
[10,"매립가스",66.150000000000006,0,0,0,15315.280553000001,15315.280553000001,0,0,0,0]
[12,"중유",1558.3,898538,894349,894156.74100000004,27451.335496,27451.335496,7626,894349.70630199998,894349,0]
[13,"태양광",4203.1170000000002,0,0,0,489167.32570300001,489167.32570300001,0,0,0,0]
[15,"폐기물",327.68200000000002,0,0,0,83038.769230999998,83038.769230999998,0,0,0,0]
[16,"풍력",1575.133,0,0,0,155164.72410600001,155164.72410600001,0,0,0,0]
[17,"LNG",40296.086000000003,25490662,25090642,25063398.723999999,9058003.3236219995,9057534.5193889998,4946378,25091243.022964999,25090624,268240]
[20,"연료전지",549.56799999999998,0,0,0,278818.73730699997,278818.73730699997,0,0,0,0]
[21,"경유",562.82799999999997,342692,336548,336548,1116.0662239999999,1116.0662239999999,0,335477,336548,0]
[22,"해양에너지",255.5,0,0,0,35500.256064000001,35500.256064000001,0,0,0,0]
[23,"가스압",0.3,0,0,0,0,0,0,0,0,0]
[24,"바이오매스",441.05399999999997,0,0,0,169469.619247,169469.619247,0,0,0,0]
[25,"IGCC",346.33,0,0,0,0,0,0,0,0,0]
[32,"바이오중유",350,153737,153753,153734.65299999999,84684.906600000002,84684.906600000002,3670,153753,153753,0]
[40,"RPS",0,0,0,0,0,0,0,0,0,0]
[99,"기타",84.29,0,0,0,51581.175904999996,51581.175904999996,0,0,0,0]
["원자력합","원자력합",23250,13430527,13417510,13417494.743000001,13408670.871680001,13408670.871680001,13430527,13418974.886082999,13417510,0]
["석탄합","석탄합",37506.281999999999,20386280,20058168,20053695.708999999,15596891.278736999,15596866.136842001,18759016,20058892.099378001,20058168,0]
["LNG합","LNG합",40296.086000000003,25490662,25090642,25063398.723999999,9058003.3236219995,9057534.5193889998,4946378,25091243.022964999,25090624,268240]
["유류합","유류합",2121.1280000000002,1241230,1230897,1230704.7409999999,28567.401719999994,28567.401719999994,7626,1229826.7063020002,1230897,0]
["양수합","양수합",4700,700,700,700,224317.38584699997,224317.38584699997,-4366,0,0,0]
["신재생합","신재생합",14238.282999999999,379331,377176,377157.65299999999,2337258.0282490002,2337258.0282490002,229265,153753,153753,0]
["기타합","기타합",84.59,0,0,0,51581.175905000004,51581.175905000004,0,0,0,0]
["수력합","수력합",1797.07,225594,223423,223423,283154.63754699996,283154.63754699996,225595,0,0,0]
["폐기물합","폐기물합",4571.152,0,0,0,792706.80917000002,792706.80917000002,0,0,0,0]
["바이오합","바이오합",940.41300000000001,153737,153753,153734.65299999999,302745.538352,302745.538352,3670,153753,153753,0]
["총계",null,122196.36900000001,60928730,60175093,60143151.57,40705289.46576,40704795.519631997,37368446,59952689.714727998,59950952,268240]

{"sheet":"202005","index":32,"n_rows":38,"n_cols":12,"rows_kept":38,"cut":false,"hidden":false,"merged":[[0,0,0,11],[1,0,1,11],[2,0,2,11]]}
["정산요소 내역"]
["조회기간 : 2020-05-01 ~ 2020-05-31"]
["단위 : MWh"]
["연료원코드","연료원","설비용량(MW)","A","RA","ARA","MGO","AMGO","PSE","FCA","OFCA","OR"]
[1,"원자력",23250,14558105,14575906,14563440.301999999,14555453.434285,14555453.434285,14558105,14577364.020463999,14575906,0]
[2,"유연탄",36906.281999999999,18070901,17769822,17769160.232000001,13885300.771051001,13885300.771051001,17085165,17770982.894850001,17769822,0]
[3,"무연탄",600,201155,198329,198236.95199999999,183259.696604,183259.696604,125657,198342.69043399999,198329,0]
[5,"바이오가스",83.022000000000006,0,0,0,29970.637655999999,29970.637655999999,0,0,0,0]
[6,"부생가스",4243.47,0,0,0,551434.10979000002,551434.10979000002,0,0,0,0]
[7,"소수력",192.09,0,0,0,54764.503261999998,54764.503261999998,0,0,0,0]
[8,"수력",1604.98,204527,208751,208751,215950.816211,215950.816211,204529,0,0,0]
[9,"양수",4700,8420,8420,8420,285741.054764,285741.054764,-477,0,0,0]
[10,"매립가스",65.224999999999994,0,0,0,15824.980834,15824.980834,0,0,0,0]
[12,"중유",1558.3,846974,841374,841368.02599999995,23756.327334000001,23756.327334000001,9616,841408.41324200004,841374,0]
[13,"태양광",3878.6689999999999,0,0,0,496755.516,496755.516,0,0,0,0]
[15,"폐기물",327.68200000000002,0,0,0,85761.520246,85761.520246,0,0,0,0]
[16,"풍력",1563.5830000000001,0,0,0,215976.273984,215976.273984,0,0,0,0]
[17,"LNG",40296.086000000003,26453741,26169763,26166780.151999999,7251384.69728,7251384.69728,3354437,26170531.286265999,26169671,184243]
[20,"연료전지",530.53,0,0,0,289214.36728800001,289214.36728800001,0,0,0,0]
[21,"경유",514.31399999999996,355914,355794,355794,0,0,0,355794,355794,0]
[22,"해양에너지",255.5,0,0,0,36992.757863999999,36992.757863999999,0,0,0,0]
[23,"가스압",0.3,0,0,0,0,0,0,0,0,0]
[24,"바이오매스",441.05399999999997,0,0,0,150927.981229,150927.981229,0,0,0,0]
[25,"IGCC",346.33,0,0,0,76941.868640000001,76941.868640000001,0,0,0,0]
[32,"바이오중유",350,244225,244225,244225,112357.14504,112357.14504,7681,244225.07828799999,244225,0]
[40,"RPS",0,0,0,0,0,0,0,0,0,0]
[99,"기타",84.29,0,0,0,54303.486019999997,54303.486019999997,0,0,0,0]
["원자력합","원자력합",23250,14558105,14575906,14563440.301999999,14555453.434285,14555453.434285,14558105,14577364.020464001,14575906,0]
["석탄합","석탄합",37506.281999999999,18272056,17968151,17967397.184,14068560.467654999,14068560.467654999,17210822,17969325.585283998,17968151,0]
["LNG합","LNG합",40296.086000000003,26453741,26169763,26166780.151999999,7251384.69728,7251384.69728,3354437,26170531.286265999,26169671,184243]
["유류합","유류합",2072.614,1202888,1197168,1197162.0260000001,23756.327334000001,23756.327334000001,9616,1197202.4132419999,1197168,0]
["양수합","양수합",4700,8420,8420,8420,285741.054764,285741.054764,-477,0,0,0]
["신재생합","신재생합",13882.135,448752,452976,452976,2332872.478044,2332872.478044,212210,244225.07828800002,244225,0]
["기타합","기타합",84.59,0,0,0,54303.486020000004,54303.486020000004,0,0,0,0]
["수력합","수력합",1797.07,204527,208751,208751,270715.31947300001,270715.31947300001,204529,0,0,0]
["폐기물합","폐기물합",4571.152,0,0,0,637195.63003599993,637195.63003599993,0,0,0,0]
["바이오합","바이오합",939.30100000000004,244225,244225,244225,309080.74475900002,309080.74475900002,7681,244225.07828800002,244225,0]
["총계",null,121791.70699999999,60943962,60372384,60356175.663999997,38572071.945381999,38572071.945381999,35344713,60158648.383543998,60155121,184243]

{"sheet":"202004","index":33,"n_rows":38,"n_cols":12,"rows_kept":38,"cut":false,"hidden":false,"merged":[[0,0,0,11],[1,0,1,11],[2,0,2,11]]}
["정산요소 내역"]
["조회기간 : 2020-04-01 ~ 2020-04-30"]
["단위 : MWh"]
["연료원코드","연료원","설비용량(MW)","A","RA","ARA","MGO","AMGO","PSE","FCA","OFCA","OR"]
[1,"원자력",23250,13122533,13056626,13056588.200999999,13049335.517526001,13049335.517526001,13119385,13057831.991386,13056626,0]
[2,"유연탄",36906.281999999999,16077356,15947236,15945913.211999999,13993560.048684999,13993546.841484999,15811588,15947371.219439,15947236,0]
[3,"무연탄",600,130307,130307,130307,116449.86798,116449.86798,110942,130343.553671,130307,0]
[5,"바이오가스",81.622,0,0,0,33483.908624000003,33483.908624000003,0,0,0,0]
[6,"부생가스",4243.47,0,0,0,519226.21450599999,519226.21450599999,0,0,0,0]
[7,"소수력",192.09,0,0,0,40856.502117000004,40856.502117000004,0,0,0,0]
[8,"수력",1604.98,164445,164091,164091,169253.145911,169253.145911,164387,0,0,0]
[9,"양수",4700,1450,1450,1450,296284.643056,296284.643056,-1979,0,0,0]
[10,"매립가스",66.147999999999996,0,0,0,12337.008954000001,12337.008954000001,0,0,0,0]
[12,"중유",1558.3,714499,705230,705226.76800000004,111727.31322900001,111727.31322900001,8466,705230.07956400001,705230,0]
[13,"태양광",3755.5650000000001,0,0,0,570929.52770199999,570929.52770199999,0,0,0,0]
[15,"폐기물",327.68200000000002,0,0,0,91704.167323000001,91704.167323000001,0,0,0,0]
[16,"풍력",1562.173,0,0,0,309315.10871599999,309315.10871599999,0,0,0,0]
[17,"LNG",40296.086000000003,26075641,25725070,25720293.754000001,9012993.7668890003,9012993.7668890003,6771019,25728362.379232001,25724909,233252]
[20,"연료전지",530.53,0,0,0,252038.055077,252038.055077,0,0,0,0]
[21,"경유",465.8,354633,355052,355052,0,0,0,355052,355052,0]
[22,"해양에너지",255.5,0,0,0,37814.336592,37814.336592,0,0,0,0]
[23,"가스압",0.3,0,0,0,0,0,0,0,0,0]
[24,"바이오매스",401.05399999999997,0,0,0,162829.530646,162829.530646,0,0,0,0]
[25,"IGCC",346.33,0,0,0,203736.00072000001,203736.00072000001,0,0,0,0]
[32,"바이오중유",350,243360,243109,243109,129079.353424,129079.353424,22237,243109.33136800001,243109,0]
[40,"RPS",0,0,0,0,0,0,0,0,0,0]
[99,"기타",84.29,0,0,0,52507.816910000001,52507.816910000001,0,0,0,0]
["원자력합","원자력합",23250,13122533,13056626,13056588.200999999,13049335.517525999,13049335.517525999,13119385,13057831.991386,13056626,0]
["석탄합","석탄합",37506.281999999999,16207663,16077543,16076220.211999999,14110009.916664999,14109996.709464999,15922530,16077714.773110004,16077543,0]
["LNG합","LNG합",40296.086000000003,26075641,25725070,25720293.754000001,9012993.7668890003,9012993.7668890003,6771019,25728362.379232001,25724909,233252]
["유류합","유류합",2024.1,1069132,1060282,1060278.7679999999,111727.31322899998,111727.31322899998,8466,1060282.079564,1060282,0]
["양수합","양수합",4700,1450,1450,1450,296284.643056,296284.643056,-1979,0,0,0]
["신재생합","신재생합",13717.144,407805,407200,407200,2532602.860311999,2532602.860311999,186624,243109.33136799998,243109,0]
["기타합","기타합",84.59,0,0,0,52507.816910000001,52507.816910000001,0,0,0,0]
["수력합","수력합",1797.07,164445,164091,164091,210109.648028,210109.648028,164387,0,0,0]
["폐기물합","폐기물합",4571.152,0,0,0,610930.38182899985,610930.38182899985,0,0,0,0]
["바이오합","바이오합",898.82399999999996,243360,243109,243109,337729.80164800002,337729.80164800002,22237,243109.33136799998,243109,0]
["총계",null,121578.202,56884224,56328171,56322030.935000002,39165461.834587,39165448.627387002,36006045,56167300.55466,56162469,233252]

{"sheet":"202003","index":34,"n_rows":38,"n_cols":12,"rows_kept":38,"cut":false,"hidden":false,"merged":[[0,0,0,11],[1,0,1,11],[2,0,2,11]]}
["정산요소 내역"]
["조회기간 : 2020-03-01 ~ 2020-03-31"]
["단위 : MWh"]
["연료원코드","연료원","설비용량(MW)","A","RA","ARA","MGO","AMGO","PSE","FCA","OFCA","OR"]
[1,"원자력",23250,13810663,13794115,13794115,13788468.427867001,13788468.427867001,13810663,13795848.244462,13794115,0]
[2,"유연탄",36906.281999999999,12956965,12858821,12858083.098999999,13084861.166455001,13084835.4834,12955587,12859368.000502,12858821,0]
[3,"무연탄",600,97670,94768,94758.032000000007,92436.944938000001,92436.944938000001,97622,94783.189809999996,94768,0]
[5,"바이오가스",82.117000000000004,0,0,0,34465.623032000003,34465.623032000003,0,0,0,0]
[6,"부생가스",4243.47,0,0,0,580587.19532699999,580587.19532699999,0,0,0,0]
[7,"소수력",189.96,0,0,0,48837.092893000001,48837.092893000001,0,0,0,0]
[8,"수력",1604.98,176615,176024,176024,178409.33855799999,178409.33855799999,176601,0,0,0]
[9,"양수",4700,5133,5133,5133,301146.13600499998,301146.13600499998,2562,0,0,0]
[10,"매립가스",66.147999999999996,0,0,0,18306.499474,18306.499474,0,0,0,0]
[12,"중유",1558.3,800765,799507,799506.26800000004,88084.394904999994,88084.394904999994,7620,799535.977312,799507,0]
[13,"태양광",3706.89,0,0,0,505086.77247000003,505086.77247000003,0,0,0,0]
[15,"폐기물",317.68200000000002,0,0,0,76212.936291999999,76212.936291999999,0,0,0,0]
[16,"풍력",1562.173,0,0,0,301554.528123,301554.528123,0,0,0,0]
[17,"LNG",40296.086000000003,29231777,28915409,28905589.725000001,13157277.769517999,13157277.769517999,12927111,28919782.229375999,28915352,227535]
[20,"연료전지",510.73,0,0,0,237593.69521999999,237593.69521999999,0,0,0,0]
[21,"경유",465.8,375193,374819,374819,0,0,0,374819,374819,0]
[22,"해양에너지",255.5,0,0,0,40314.931343999997,40314.931343999997,0,0,0,0]
[23,"가스압",0.3,0,0,0,0,0,0,0,0,0]
[24,"바이오매스",391.154,0,0,0,234539.18064000001,234539.18064000001,0,0,0,0]
[25,"IGCC",346.33,0,0,0,213632.13256,213632.13256,0,0,0,0]
[32,"바이오중유",350,239034,238846,238846,117576.24082399999,117576.24082399999,4368,238846,238846,0]
[40,"RPS",0,0,0,0,0,0,0,0,0,0]
[99,"기타",84.29,0,0,0,53351.362050000003,53351.362050000003,0,0,0,0]
["원자력합","원자력합",23250,13810663,13794115,13794115,13788468.427867001,13788468.427867001,13810663,13795848.244462,13794115,0]
["석탄합","석탄합",37506.281999999999,13054635,12953589,12952841.130999999,13177298.111392999,13177272.428338001,13053209,12954151.190312,12953589,0]
["LNG합","LNG합",40296.086000000003,29231777,28915409,28905589.725000001,13157277.769517999,13157277.769517999,12927111,28919782.229375999,28915352,227535]
["유류합","유류합",2024.1,1175958,1174326,1174325.2679999999,88084.394904999994,88084.394904999994,7620,1174354.977312,1174326,0]
["양수합","양수합",4700,5133,5133,5133,301146.13600500004,301146.13600500004,2562,0,0,0]
["신재생합","신재생합",13627.134,415649,414870,414870,2587116.1667570006,2587116.1667570006,180969,238846,238846,0]
["기타합","기타합",84.59,0,0,0,53351.362050000003,53351.362050000003,0,0,0,0]
["수력합","수력합",1794.94,176615,176024,176024,227246.43145100001,227246.43145100001,176601,0,0,0]
["폐기물합","폐기물합",4561.152,0,0,0,656800.13161899999,656800.13161899999,0,0,0,0]
["바이오합","바이오합",889.41899999999998,239034,238846,238846,404887.54397,404887.54397,4368,238846,238846,0]
["총계",null,121488.192,57693815,57257442,57246874.123999998,43152742.368495002,43152716.685439996,39982134,57082982.641461998,57076228,227535]

{"sheet":"202002","index":35,"n_rows":38,"n_cols":12,"rows_kept":38,"cut":false,"hidden":false,"merged":[[0,0,0,11],[1,0,1,11],[2,0,2,11]]}
["정산요소 내역"]
["조회기간 : 2020-02-01 ~ 2020-02-29"]
["단위 : MWh"]
["연료원코드","연료원","설비용량(MW)","A","RA","ARA","MGO","AMGO","PSE","FCA","OFCA","OR"]
[1,"원자력",23250,12123672,12090967,12090793.175000001,12086887.998179,12086887.998179,12120476,12093412.640097,12090967,0]
[2,"유연탄",36906.281999999999,15426938,15344736,15342765.416999999,15306385.396937,15306385.396937,15425921,15345322.974652,15344736,0]
[3,"무연탄",600,195539,195430,195430,191653.074138,191653.074138,195539,195430.552772,195430,0]
[5,"바이오가스",82.117000000000004,0,0,0,31391.25272,31391.25272,0,0,0,0]
[6,"부생가스",4243.47,0,0,0,570855.02336800005,570855.02336800005,0,0,0,0]
[7,"소수력",189.96,0,0,0,43138.276954000001,43138.276954000001,0,0,0,0]
[8,"수력",1604.98,150867,154761,154761,160842.25325400001,160842.25325400001,150859,0,0,0]
[9,"양수",4700,3480,3480,3480,318672.06568599999,318672.06568599999,936,0,0,0]
[10,"매립가스",66.147999999999996,0,0,0,17656.533001,17656.533001,0,0,0,0]
[12,"중유",1558.3,930142,927924,927923.09100000001,84216.655824000001,84216.655824000001,4824,927925.00236799999,927924,0]
[13,"태양광",3665.9290000000001,0,0,0,339879.96962799999,339879.96962799999,0,0,0,0]
[15,"폐기물",314.78199999999998,0,0,0,65283.594786000001,65283.594786000001,0,0,0,0]
[16,"풍력",1562.173,0,0,0,292092.15178199997,292092.15178199997,0,0,0,0]
[17,"LNG",40296.086000000003,29128305,28850547,28837607.000999998,13445034.058922,13445034.058922,13020034,28851874.165109999,28850469,159161]
[20,"연료전지",485.69,0,0,0,205091.204853,205091.204853,0,0,0,0]
[21,"경유",465.8,356603,357146,357146,0,0,0,357146,357146,0]
[22,"해양에너지",255.5,0,0,0,37796.385576000001,37796.385576000001,0,0,0,0]
[23,"가스압",0.3,0,0,0,0,0,0,0,0,0]
[24,"바이오매스",391.154,0,0,0,201120.430872,201120.430872,0,0,0,0]
[25,"IGCC",346.33,0,0,0,189773.38743999999,189773.38743999999,0,0,0,0]
[32,"바이오중유",350,235248,235248,235248,109013.892848,109013.892848,7765,235249.236416,235248,0]
[40,"RPS",0,0,0,0,0,0,0,0,0,0]
[99,"기타",81.19,0,0,0,45284.267073000003,45284.267073000003,0,0,0,0]
["원자력합","원자력합",23250,12123672,12090967,12090793.175000001,12086887.998179,12086887.998179,12120476,12093412.640097,12090967,0]
["석탄합","석탄합",37506.281999999999,15622477,15540166,15538195.416999999,15498038.471075,15498038.471075,15621460,15540753.527423998,15540166,0]
["LNG합","LNG합",40296.086000000003,29128305,28850547,28837607.000999998,13445034.058922,13445034.058922,13020034,28851874.165109996,28850469,159161]
["유류합","유류합",2024.1,1286745,1285070,1285069.091,84216.655824000001,84216.655824000001,4824,1285071.0023680001,1285070,0]
["양수합","양수합",4700,3480,3480,3480,318672.06568599999,318672.06568599999,936,0,0,0]
["신재생합","신재생합",13558.233,386115,390009,390009,2263934.357082,2263934.357082,158624,235249.23641599997,235248,0]
["기타합","기타합",81.489999999999995,0,0,0,45284.267073000003,45284.267073000003,0,0,0,0]
["수력합","수력합",1794.94,150867,154761,154761,203980.53020799998,203980.53020799998,150859,0,0,0]
["폐기물합","폐기물합",4558.2520000000004,0,0,0,636138.61815400003,636138.61815400003,0,0,0,0]
["바이오합","바이오합",889.41899999999998,235248,235248,235248,359182.10944099998,359182.10944099998,7765,235249.23641599997,235248,0]
["총계",null,121416.19100000001,58550794,58160239,58145153.684,43742067.873841003,43742067.873841003,40926354,58006360.571415,58001920,159161]

{"sheet":"202001","index":36,"n_rows":38,"n_cols":12,"rows_kept":38,"cut":false,"hidden":false,"merged":[[0,0,0,11],[1,0,1,11],[2,0,2,11]]}
["정산요소 내역"]
["조회기간 : 2020-01-01 ~ 2020-01-31"]
["단위 : MWh"]
["연료원코드","연료원","설비용량(MW)","A","RA","ARA","MGO","AMGO","PSE","FCA","OFCA","OR"]
[1,"원자력",23250,11326058,11321176,11321176,11314741.917172,11314741.917172,11324878,11322863.601552,11321176,0]
[2,"유연탄",36906.281999999999,17444088,17387268,17386819.896000002,17454460.346473001,17454460.346473001,17427753,17387558.157249998,17387268,0]
[3,"무연탄",600,209064,209064,209064,205509.68190299999,205509.68190299999,204647,209065.46303499999,209064,0]
[5,"바이오가스",87.117000000000004,0,0,0,23499.024752000001,23499.024752000001,0,0,0,0]
[6,"부생가스",4243.47,0,0,0,568992.263332,568992.263332,0,0,0,0]
[7,"소수력",189.96,0,0,0,45479.405269000003,45479.405269000003,0,0,0,0]
[8,"수력",1604.98,167466,168060,168060,175065.86871099999,175065.86871099999,167465,0,0,0]
[9,"양수",4700,2820,2820,2820,311891.57876200002,311891.57876200002,-680,0,0,0]
[10,"매립가스",66.147999999999996,0,0,0,15911.090147000001,15911.090147000001,0,0,0,0]
[12,"중유",1558.3,1369572,1351370,1351370,277253.99401899998,277253.99401899998,15613,1351416.2539629999,1351370,0]
[13,"태양광",3516.15,0,0,0,244466.37647799999,244466.37647799999,0,0,0,0]
[15,"폐기물",317.28199999999998,0,0,0,71737.831800999993,71737.831800999993,0,0,0,0]
[16,"풍력",1562.173,0,0,0,310624.75660199998,310624.75660199998,0,0,0,0]
[17,"LNG",40296.086000000003,30830734,30409965,30404259.791999999,15141331.094358999,15141324.338519,14967175,30411167.729192,30409796,125245]
[20,"연료전지",485.69,0,0,0,211607.09475799999,211607.09475799999,0,0,0,0]
[21,"경유",465.8,383258,383112,383112,0,0,0,383112,383112,0]
[22,"해양에너지",255.5,0,0,0,38549.037407999997,38549.037407999997,0,0,0,0]
[23,"가스압",0.3,0,0,0,0,0,0,0,0,0]
[24,"바이오매스",391.35399999999998,0,0,0,167301.79154199999,167301.79154199999,0,0,0,0]
[25,"IGCC",346.33,0,0,0,191497.93096,191497.93096,0,0,0,0]
[32,"바이오중유",350,251472,251472,251472,116007.837344,116007.78271,3302,251472,251472,0]
[40,"RPS",0,0,0,0,0,0,0,0,0,0]
[99,"기타",81.19,0,0,0,46918.244939999997,46918.244939999997,0,0,0,0]
["원자력합","원자력합",23250,11326058,11321176,11321176,11314741.917172,11314741.917172,11324878,11322863.601552,11321176,0]
["석탄합","석탄합",37506.281999999999,17653152,17596332,17595883.896000002,17659970.028376002,17659970.028376002,17632400,17596623.620285001,17596332,0]
["LNG합","LNG합",40296.086000000003,30830734,30409965,30404259.791999999,15141331.094358999,15141324.338519,14967175,30411167.729192,30409796,125245]
["유류합","유류합",2024.1,1752830,1734482,1734482,277253.99401900003,277253.99401900003,15613,1734528.2539630001,1734482,0]
["양수합","양수합",4700,2820,2820,2820,311891.57876199996,311891.57876199996,-680,0,0,0]
["신재생합","신재생합",13416.154,418938,419532,419532,2180740.3091040002,2180740.25447,170767,251472,251472,0]
["기타합","기타합",81.489999999999995,0,0,0,46918.244939999997,46918.244939999997,0,0,0,0]
["수력합","수력합",1794.94,167466,168060,168060,220545.27398000003,220545.27398000003,167465,0,0,0]
["폐기물합","폐기물합",4560.7520000000004,0,0,0,640730.09513299994,640730.09513299994,0,0,0,0]
["바이오합","바이오합",894.61900000000003,251472,251472,251472,322719.743785,322719.689151,3302,251472,251472,0]
["총계",null,121274.11199999999,61984532,61484307,61478153.688000001,46932847.166731998,46932840.356257997,44110153,61316655.204991996,61313258,125245]

{"sheet":"201912","index":37,"n_rows":39,"n_cols":12,"rows_kept":39,"cut":false,"hidden":false,"merged":[[0,0,0,11],[1,0,1,11],[2,0,2,11]]}
["정산요소 내역"]
["조회기간 : 2019-12-01 ~ 2019-12-31"]
["단위 : MWh"]
["연료원코드","연료원","설비용량(MW)","A","RA","ARA","MGO","AMGO","PSE","FCA","OFCA","OR"]
[1,"원자력",23250,10540596,10518739,10518697.143999999,10513642.438245,10513642.438245,10539550,10521435.466132,10518739,0]
[2,"유연탄",36856.281999999999,17919053,17815849,17815311.670000002,17962242.820050001,17962242.820050001,17918793,17817329.460786998,17815849,0]
[3,"무연탄",600,195300,190829,190813.46,188007.407083,188007.407083,194688,190923.824857,190829,0]
[4,"등유",null,32551,31147,30871.303,27885.258519999999,27885.258519999999,18564,31165.263712,31147,0]
[5,"바이오가스",87.117000000000004,0,0,0,37840.411599999999,37840.411599999999,0,0,0,0]
[6,"부생가스",4243.47,0,0,0,511125.69677899999,511125.69677899999,0,0,0,0]
[7,"소수력",189.96,0,0,0,37646.618632999998,37646.618632999998,0,0,0,0]
[8,"수력",1604.98,152212,153332,153332,157114.7537,157114.7537,152212,0,0,0]
[9,"양수",4700,820,820,820,300228.349988,300228.349988,-3656,0,0,0]
[10,"매립가스",66.147999999999996,0,0,0,20298.854123000001,20298.854123000001,0,0,0,0]
[12,"중유",2958.3,2017977,1987116,1986930.324,559111.16692999995,559110.776082,24010,1987146.2821480001,1987116,0]
[13,"태양광",3394.0889999999999,0,0,0,240092.027516,240092.027516,0,0,0,0]
[15,"폐기물",298.08199999999999,0,0,0,73587.879390999995,73587.879390999995,0,0,0,0]
[16,"풍력",1562.173,0,0,0,340700.59690900001,340700.59690900001,0,0,0,0]
[17,"LNG",38875.442000000003,29061465,28565164,28548343.868999999,16019427.090360999,16019427.090359,15772607,28578201.493737001,28564614,111753]
[20,"연료전지",479.91,0,0,0,208395.29016999999,208395.29016999999,0,0,0,0]
[21,"경유",520.79999999999995,482283,486247,486244.84299999999,44352.008904000002,44352.008904000002,34961,486299.27867999999,486247,0]
[22,"해양에너지",255.5,0,0,0,39024.013872000003,39024.013872000003,0,0,0,0]
[23,"가스압",0.3,0,0,0,0,0,0,0,0,0]
[24,"바이오매스",391.35399999999998,0,0,0,234601.78280399999,234601.78280399999,0,0,0,0]
[25,"IGCC",346.33,0,0,0,134318.62471999999,134318.62471999999,0,0,0,0]
[32,"바이오중유",350,238657,238426,238426,130369.401008,130369.401008,17368,238446.61681599999,238426,0]
[40,"RPS",0,0,0,0,0,0,0,0,0,0]
[99,"기타",81.19,0,0,0,44565.556432999998,44565.556432999998,0,0,0,0]
["원자력합","원자력합",23250,10540596,10518739,10518697.143999999,10513642.438245,10513642.438245,10539550,10521435.466132,10518739,0]
["석탄합","석탄합",37456.281999999999,18114353,18006678,18006125.129999999,18150250.227132998,18150250.227132998,18113481,18008253.285643999,18006678,0]
["LNG합","LNG합",38875.442000000003,29061465,28565164,28548343.868999999,16019427.090360999,16019427.090359,15772607,28578201.493737001,28564614,111753]
["유류합","유류합",3479.1,2532811,2504510,2504046.4700000002,631348.43435400003,631348.04350600007,77535,2504610.8245399999,2504510,0]
["양수합","양수합",4700,820,820,820,300228.349988,300228.349988,-3656,0,0,0]
["신재생합","신재생합",13269.112999999999,390869,391758,391758,2165115.951224999,2165115.951224999,169580,238446.61681599999,238426,0]
["기타합","기타합",81.489999999999995,0,0,0,44565.556432999998,44565.556432999998,0,0,0,0]
["수력합","수력합",1794.94,152212,153332,153332,194761.37233300001,194761.37233300001,152212,0,0,0]
["폐기물합","폐기물합",4541.5519999999997,0,0,0,584713.57617000001,584713.57617000001,0,0,0,0]
["바이오합","바이오합",894.61900000000003,238657,238426,238426,423110.44953499996,423110.44953499996,17368,238446.61681599999,238426,0]
["총계",null,121111.427,60640914,59987669,59969790.612999998,47824578.047738999,47824577.656888999,44669097,59850947.686869003,59832967,111753]

{"sheet":"201911","index":38,"n_rows":39,"n_cols":12,"rows_kept":39,"cut":false,"hidden":false,"merged":[[0,0,0,11],[1,0,1,11],[2,0,2,11]]}
["정산요소 내역"]
["조회기간 : 2019-11-01 ~ 2019-11-30"]
["단위 : MWh"]
["연료원코드","연료원","설비용량(MW)","A","RA","ARA","MGO","AMGO","PSE","FCA","OFCA","OR"]
[1,"원자력",23250,9746055,9729513,9729434.9849999994,9724402.3571450002,9724402.3571450002,9744695,9731735.8497170005,9729513,0]
[2,"유연탄",36856.281999999999,20060380,19769973,19768562.864999998,17947019.890531,17947019.890531,19957238,19771842.282605,19769973,0]
[3,"무연탄",600,173724,168343,168325.32199999999,154389.67619599999,154389.67619599999,166755,168356.25344999999,168343,0]
[4,"등유",105,492,115,98.143000000000001,97.812119999999993,97.812119999999993,0,115.15008,115,0]
[5,"바이오가스",87.117000000000004,0,0,0,34481.303939999998,34481.303939999998,0,0,0,0]
[6,"부생가스",4243.47,0,0,0,621610.18196700001,621610.18196700001,0,0,0,0]
[7,"소수력",189.96,0,0,0,36539.288873999998,36539.288873999998,0,0,0,0]
[8,"수력",1604.98,137745,143101,143101,144294.65693999999,144294.65693999999,137746,0,0,0]
[9,"양수",4700,6874,6866,6866,266245.45689099998,266245.45689099998,1856,0,0,0]
[10,"매립가스",66.147999999999996,0,0,0,20045.801551,20045.801551,0,0,0,0]
[12,"중유",2958.3,1703155,1607067,1606873.6459999999,100804.603133,100804.19007700001,29470,1607083.3233040001,1607067,0]
[13,"태양광",3235.7820000000002,0,0,0,277499.32835999998,277499.32835999998,0,0,0,0]
[15,"폐기물",298.08199999999999,0,0,0,68259.241597,68259.241597,0,0,0,0]
[16,"풍력",1562.8330000000001,0,0,0,251099.405119,251099.405119,0,0,0,0]
[17,"LNG",38562.351999999999,25274359,24758473,24748821.875999998,12203266.015147001,12203266.015147001,9059408,24723547.439114999,24758240,216120]
[20,"연료전지",449.55,0,0,0,188968.439912,188968.439912,0,0,0,0]
[21,"경유",708.24599999999998,506479,482262,481928.08500000002,52029.597353999998,52029.597353999998,42710,482381.61635000003,482262,1152]
[22,"해양에너지",255.5,0,0,0,39106.996992,39106.996992,0,0,0,0]
[23,"가스압",0.3,0,0,0,0,0,0,0,0,0]
[24,"바이오매스",391.35399999999998,0,0,0,215555.50575000001,215555.50575000001,0,0,0,0]
[25,"IGCC",346.33,0,0,0,66312.102079999997,66312.102079999997,0,0,0,0]
[32,"바이오중유",350,188457,189226,189225.46299999999,108464.67212,108464.67212,58252,189252.957448,189226,0]
[40,"RPS",0,0,0,0,0,0,0,0,0,0]
[99,"기타",81.19,0,0,0,47387.880442000001,47387.880442000001,0,0,0,0]
["원자력합","원자력합",23250,9746055,9729513,9729434.9849999994,9724402.3571450002,9724402.3571450002,9744695,9731735.8497170005,9729513,0]
["석탄합","석탄합",37456.281999999999,20234104,19938316,19936888.186999999,18101409.566726997,18101409.566726997,20123993,19940198.536054999,19938316,0]
["LNG합","LNG합",38562.351999999999,25274359,24758473,24748821.875999998,12203266.015147001,12203266.015147001,9059408,24723547.439114999,24758240,216120]
["유류합","유류합",3771.5459999999998,2210126,2089444,2088899.8740000001,152932.01260699998,152931.59955099999,72180,2089580.0897339999,2089444,1152]
["양수합","양수합",4700,6874,6866,6866,266245.45689099998,266245.45689099998,1856,0,0,0]
["신재생합","신재생합",13081.106,326202,332327,332326.46299999999,2072236.925202,2072236.925202,195998,189252.957448,189226,0]
["기타합","기타합",81.489999999999995,0,0,0,47387.880442000001,47387.880442000001,0,0,0,0]
["수력합","수력합",1794.94,137745,143101,143101,180833.94581400001,180833.94581400001,137746,0,0,0]
["폐기물합","폐기물합",4541.5519999999997,0,0,0,689869.42356400006,689869.42356400006,0,0,0,0]
["바이오합","바이오합",894.61900000000003,188457,189226,189225.46299999999,378547.28336100001,378547.28336100001,58252,189252.957448,189226,0]
["총계",null,120902.776,57797720,56854939,56843237.384999998,42567880.214161001,42567879.801105,39198130,56674314.872069001,56704739,217272]

{"sheet":"201910","index":39,"n_rows":39,"n_cols":12,"rows_kept":39,"cut":false,"hidden":false,"merged":[[0,0,0,11],[1,0,1,11],[2,0,2,11]]}
["정산요소 내역"]
["조회기간 : 2019-10-01 ~ 2019-10-31"]
["단위 : MWh"]
["연료원코드","연료원","설비용량(MW)","A","RA","ARA","MGO","AMGO","PSE","FCA","OFCA","OR"]
[1,"원자력",23250,10089117,10081936,10081813.768999999,10070763.229009001,10070763.229009001,10088436,10083241.328980001,10081931,0]
[2,"유연탄",36856.281999999999,21111765,20846249,20845578.993000001,18724857.395153999,18724857.395153999,20965651,20849214.128509,20846249,0]
[3,"무연탄",600,133920,133920,133920,122044.21832499999,122044.21832499999,121906,133920,133920,0]
[4,"등유",105,0,0,0,0,0,0,0,0,0]
[5,"바이오가스",87.117000000000004,0,0,0,37637.718308000003,37637.718308000003,0,0,0,0]
[6,"부생가스",4243.47,0,0,0,607067.30005199998,607067.30005199998,0,0,0,0]
[7,"소수력",190.05799999999999,0,0,0,46666.425639000001,46666.425639000001,0,0,0,0]
[8,"수력",1600.98,206905,205068,205068,202785.14902000001,202785.14902000001,206906,0,0,0]
[9,"양수",4700,21173,20923,20923,290000.20582799998,290000.20582799998,-5579,0,0,0]
[10,"매립가스",66.147999999999996,0,0,0,21827.775927999999,21827.775927999999,0,0,0,0]
[12,"중유",2958.3,1529645,1523367,1523308.1,163520.51072799999,163520.51072799999,48892,1523511.8369120001,1523367,0]
[13,"태양광",3184.6909999999998,0,0,0,332954.45653600001,332954.45653600001,0,0,0,0]
[15,"폐기물",285.94200000000001,0,0,0,74053.290502999997,74053.290502999997,0,0,0,0]
[16,"풍력",1562.8330000000001,0,0,0,227127.321841,227127.321841,0,0,0,0]
[17,"LNG",38553.178999999996,21631190,21252105,21243254.226,9856481.6114840005,9856481.6114840005,7635036,20894549.277318001,21251719,237985]
[20,"연료전지",444.57,0,0,0,199278.837417,199278.837417,0,0,0,0]
[21,"경유",708.24599999999998,448590,419973,419372.78100000002,27719.885969999999,27719.885969999999,15011,419993.80222999997,419973,0]
[22,"해양에너지",255.5,0,0,0,43470.927023999997,43470.927023999997,0,0,0,0]
[23,"가스압",0.3,0,0,0,0,0,0,0,0,0]
[24,"바이오매스",386.35399999999998,0,0,0,199594.04969099999,199594.04969099999,0,0,0,0]
[25,"IGCC",346.33,0,0,0,147231.65239999999,147231.65239999999,0,0,0,0]
[32,"바이오중유",350,219316,219265,219265,125071.961448,125071.961448,81011,219288.66947200001,219265,0]
[40,"RPS",0,0,0,0,0,0,0,0,0,0]
[99,"기타",81.19,0,0,0,50185.124606999998,50185.124606999998,0,0,0,0]
["원자력합","원자력합",23250,10089117,10081936,10081813.768999999,10070763.229008999,10070763.229008999,10088436,10083241.328980001,10081931,0]
["석탄합","석탄합",37456.281999999999,21245685,20980169,20979498.993000001,18846901.613479,18846901.613479,21087557,20983134.128509,20980169,0]
["LNG합","LNG합",38553.178999999996,21631190,21252105,21243254.226,9856481.6114840005,9856481.6114840005,7635036,20894549.277318001,21251719,237985]
["유류합","유류합",3771.5459999999998,1978235,1943340,1942680.8810000001,191240.396698,191240.396698,63903,1943505.6391419999,1943340,0]
["양수합","양수합",4700,21173,20923,20923,290000.20582800003,290000.20582800003,-5579,0,0,0]
["신재생합","신재생합",13003.993,426221,424333,424333,2264766.8658070001,2264766.8658070001,287917,219288.66947199998,219265,0]
["기타합","기타합",81.489999999999995,0,0,0,50185.124606999998,50185.124606999998,0,0,0,0]
["수력합","수력합",1791.038,206905,205068,205068,249451.57465900001,249451.57465900001,206906,0,0,0]
["폐기물합","폐기물합",4529.4120000000003,0,0,0,681120.59055500012,681120.59055500012,0,0,0,0]
["바이오합","바이오합",889.61900000000003,219316,219265,219265,384131.50537500001,384131.50537500001,81011,219288.66947199998,219265,0]
["총계",null,120816.49,55391621,54702806,54692503.869000003,41570339.046912,41570339.046912,39157270,54123719.043421,54476424,237985]

{"sheet":"201909","index":40,"n_rows":39,"n_cols":12,"rows_kept":39,"cut":false,"hidden":false,"merged":[[0,0,0,11],[1,0,1,11],[2,0,2,11]]}
["정산요소 내역"]
["조회기간 : 2019-09-01 ~ 2019-09-30"]
["단위 : MWh"]
["연료원코드","연료원","설비용량(MW)","A","RA","ARA","MGO","AMGO","PSE","FCA","OFCA","OR"]
[1,"원자력",23250,9864480,9816759,9816618.8709999993,9803380.3306130003,9803380.3306130003,9858011,9818243.2437100001,9816759,0]
[2,"유연탄",36856.281999999999,22303835,22175182,22174241.223999999,19623610.516608,19623610.516608,21851124,22176255.126306999,22175182,0]
[3,"무연탄",600,194656,194656,194656,164236.120314,164236.120314,160215,194656,194656,0]
[4,"등유",105,33025,33025,33025,18881.812544,18881.812544,5272,33031.349951999997,33025,0]
[5,"바이오가스",87.117000000000004,0,0,0,31424.036708,31424.036708,0,0,0,0]
[6,"부생가스",4243.47,0,0,0,562874.38063799997,562874.38063799997,0,0,0,0]
[7,"소수력",190.05799999999999,0,0,0,50316.142925,50316.142925,0,0,0,0]
[8,"수력",1600.98,236240,218411,218411,209931.500379,209931.500379,236240,0,0,0]
[9,"양수",4700,5706,5706,5706,298750.42300800001,298750.42300800001,-677,0,0,0]
[10,"매립가스",66.147999999999996,0,0,0,16411.393689,16411.393689,0,0,0,0]
[12,"중유",2958.3,1813179,1805260,1805149.3370000001,50806.718523000003,50806.718523000003,34519,1805342.687776,1805260,0]
[13,"태양광",3136.998,0,0,0,284031.38935000001,284031.38935000001,0,0,0,0]
[15,"폐기물",271.84199999999998,0,0,0,64973.192993999997,64973.192993999997,0,0,0,0]
[16,"풍력",1537.633,0,0,0,134260.75393800001,134260.75393800001,0,0,0,0]
[17,"LNG",38553.178999999996,23140700,22977170,22961758.791999999,9623030.5994019993,9623030.5994019993,7107416,22937436.755725,22977028,268853]
[20,"연료전지",443.67,0,0,0,194404.749694,194404.749694,0,0,0,0]
[21,"경유",708.24599999999998,458368,460096,459916.70799999998,30794.698241999999,30794.698241999999,593,460097.25615199999,460096,0]
[22,"해양에너지",255.5,0,0,0,41577.291671999999,41577.291671999999,0,0,0,0]
[23,"가스압",0.3,0,0,0,0,0,0,0,0,0]
[24,"바이오매스",386.35399999999998,0,0,0,204909.984509,204909.984509,0,0,0,0]
[25,"IGCC",346.33,0,0,0,173657.72872000001,173657.72872000001,0,0,0,0]
[32,"바이오중유",350,237491,237277,237277,146878.26630399999,146878.26630399999,127513,237277,237277,0]
[40,"RPS",0,0,0,0,0,0,0,0,0,0]
[99,"기타",81.19,0,0,0,44322.087655000003,44322.087655000003,0,0,0,0]
["원자력합","원자력합",23250,9864480,9816759,9816618.8709999993,9803380.3306130003,9803380.3306130003,9858011,9818243.2437100001,9816759,0]
["석탄합","석탄합",37456.281999999999,22498491,22369838,22368897.223999999,19787846.636922002,19787846.636922002,22011339,22370911.126306999,22369838,0]
["LNG합","LNG합",38553.178999999996,23140700,22977170,22961758.791999999,9623030.5994020011,9623030.5994020011,7107416,22937436.755725,22977028,268853]
["유류합","유류합",3771.5459999999998,2304572,2298381,2298091.0449999999,100483.22930899997,100483.22930899997,40384,2298471.2938799998,2298381,0]
["양수합","양수합",4700,5706,5706,5706,298750.42300800001,298750.42300800001,-677,0,0,0]
["신재생합","신재생합",12916.1,473731,455688,455688,2115650.81152,2115650.81152,363753,237277,237277,0]
["기타합","기타합",81.489999999999995,0,0,0,44322.087655000003,44322.087655000003,0,0,0,0]
["수력합","수력합",1791.038,236240,218411,218411,260247.643304,260247.643304,236240,0,0,0]
["폐기물합","폐기물합",4515.3119999999999,0,0,0,627847.57363200001,627847.57363200001,0,0,0,0]
["바이오합","바이오합",889.61900000000003,237491,237277,237277,399623.68121000001,399623.68121000001,127513,237277,237277,0]
["총계",null,120728.59699999999,58287680,57923542,57906759.931999996,41773464.118428998,41773464.118428998,39380226,57662339.419621997,57699283,268853]

{"sheet":"201908","index":41,"n_rows":39,"n_cols":12,"rows_kept":39,"cut":false,"hidden":false,"merged":[[0,0,0,11],[1,0,1,11],[2,0,2,11]]}
["정산요소 내역"]
["조회기간 : 2019-08-01 ~ 2019-08-31"]
["단위 : MWh"]
["연료원코드","연료원","설비용량(MW)","A","RA","ARA","MGO","AMGO","PSE","FCA","OFCA","OR"]
[1,"원자력",23250,11654088,11610906,11610759.734999999,11597376.981603,11597376.981603,11008725,10955243.632843001,11610904,0]
[2,"유연탄",36856.281999999999,24189061,23986183,23986078.566,21399887.083790001,21399887.083790001,23972548,23986922.225471999,23986183,0]
[3,"무연탄",600,268584,268584,268584,242705.60053500001,242705.60053500001,247320,268584,268584,0]
[4,"등유",105,72419,72356,72356,40750.382903999998,40750.382903999998,19352,72356,72356,0]
[5,"바이오가스",87.117000000000004,0,0,0,16762.893287999999,16762.893287999999,0,0,0,0]
[6,"부생가스",3009.58,0,0,0,879334.16679699998,879334.16679699998,0,0,0,0]
[7,"소수력",190.05799999999999,0,0,0,53682.349716999997,53682.349716999997,0,0,0,0]
[8,"수력",1600.98,205365,228878,228878,227637.06591800001,227637.06591800001,205369,0,0,0]
[9,"양수",4700,10956,10956,10956,313069.77354299999,313069.77354299999,-2852,0,0,0]
[10,"매립가스",65.447999999999993,0,0,0,20962.235187999999,20962.235187999999,0,0,0,0]
[12,"중유",2958.3,2010289,1985698,1985676.7250000001,127221.66293200001,127221.66293200001,50214,1985705.1025400001,1985698,0]
[13,"태양광",3101.36,0,0,0,372048.24015999999,372048.24015999999,0,0,0,0]
[15,"폐기물",271.84199999999998,0,0,0,60419.844675,60419.844675,0,0,0,0]
[16,"풍력",1481.308,0,0,0,145809.75779999999,145809.75779999999,0,0,0,0]
[17,"LNG",38553.379000000001,26587369,26437894,26432432.074000001,12083058.950103,12083058.487263,9907403,26164175.752638999,26437866,238307]
[20,"연료전지",423.43,0,0,0,183259.62303399999,183259.62303399999,0,0,0,0]
[21,"경유",708.24599999999998,511910,506354,506209.46600000001,89796.182826000004,89783.967846,3054,506354.02814000001,506354,0]
[22,"해양에너지",255.5,0,0,0,41773.725072000001,41773.725072000001,0,0,0,0]
[23,"가스압",0.3,0,0,0,20.123676,20.123676,0,0,0,0]
[24,"바이오매스",378.38400000000001,0,0,0,199384.246251,199384.246251,0,0,0,0]
[25,"IGCC",346.33,0,0,0,164722.91751999999,164722.91751999999,0,0,0,0]
[32,"바이오중유",350,250775,250695,250695,162692.31865599999,162692.31865599999,192467,250695,250695,0]
[40,"RPS",0,0,0,0,0,0,0,0,0,0]
[99,"기타",81.19,0,0,0,46508.365966999998,46508.365966999998,0,0,0,0]
["원자력합","원자력합",23250,11654088,11610906,11610759.734999999,11597376.981603,11597376.981603,11008725,10955243.632842999,11610904,0]
["석탄합","석탄합",37456.281999999999,24457645,24254767,24254662.566,21642592.684324998,21642592.684324998,24219868,24255506.225471999,24254767,0]
["LNG합","LNG합",38553.379000000001,26587369,26437894,26432432.074000001,12083058.950103,12083058.487263,9907403,26164175.752639003,26437866,238307]
["유류합","유류합",3771.5459999999998,2594618,2564408,2564242.1910000001,257768.22866199998,257756.01368200002,72620,2564415.1306799999,2564408,0]
["양수합","양수합",4700,10956,10956,10956,313069.77354299999,313069.77354299999,-2852,0,0,0]
["신재생합","신재생합",11561.337,456140,479573,479573,2528489.3840759997,2528489.3840759997,397836,250695,250695,0]
["기타합","기타합",81.489999999999995,0,0,0,46528.489643000001,46528.489643000001,0,0,0,0]
["수력합","수력합",1791.038,205365,228878,228878,281319.41563499998,281319.41563499998,205369,0,0,0]
["폐기물합","폐기물합",3281.422,0,0,0,939754.01147199993,939754.01147199993,0,0,0,0]
["바이오합","바이오합",880.94899999999996,250775,250695,250695,399801.69338299998,399801.69338299998,192467,250695,250695,0]
["총계",null,119374.034,65760816,65358504,65352625.566,48468884.491954997,48468871.814135,45603600,64190035.741633996,65118640,238307]

{"sheet":"201907","index":42,"n_rows":36,"n_cols":12,"rows_kept":36,"cut":false,"hidden":false,"merged":[[0,0,0,11],[1,0,1,11],[2,0,2,11]]}
["정산요소 내역"]
["조회기간 : 2019-07-01 ~ 2019-07-31"]
["단위 : MWh"]
["연료원코드","연료원","설비용량(MW)","A","RA","ARA","MGO","AMGO","PSE","FCA","OFCA","OR"]
[1,"원자력",23250,11159781,11120040,11119904.408,11110340.196961001,11110340.196961001,11144266,11121880.153331,11120031,0]
[2,"유연탄",36856.281999999999,23570745,23436828,23435475.329,20811149.945815001,20811149.945815001,23254057,23437808.088845,23436828,0]
[3,"무연탄",600,268584,268584,268584,247150.058181,247150.058181,267907,268586.56022300001,268584,0]
[4,"등유",105,68459,67649,66909.861999999994,42254.573759999999,42254.573759999999,12226,67649.426128000006,67649,0]
[5,"바이오가스",87.117000000000004,0,0,0,29171.582992,29171.582992,0,0,0,0]
[6,"부생가스",3009.58,0,0,0,864449.01239399996,864449.01239399996,0,0,0,0]
[7,"소수력",190.00800000000001,0,0,0,47849.51081,47849.51081,0,0,0,0]
[8,"수력",1600.98,206361,208287,208287,208206.25077000001,208206.25077000001,206360,0,0,0]
[9,"양수",4700,23381,21182,21182,305964.03660799999,305964.03660799999,-6641,0,0,0]
[10,"매립가스",66.347999999999999,0,0,0,19622.747082000002,19622.747082000002,0,0,0,0]
[12,"중유",2958.3,2052438,2050530,2049923.858,116258.068849,116258.068849,75033,2050542.4037860001,2050530,0]
[13,"태양광",3052.7739999999999,0,0,0,318829.191949,318829.191949,0,0,0,0]
[15,"폐기물",272.74200000000002,0,0,0,73695.913992999995,73695.913992999995,0,0,0,0]
[16,"풍력",1481.308,0,0,0,187419.33383399999,187419.33383399999,0,0,0,0]
[17,"LNG",38553.379000000001,26446103,26202915,26197723.234000001,11751024.526760001,11751024.526760001,8547681,26084424.457396999,26202896,239579]
[20,"연료전지",423.43,0,0,0,179788.18020999999,179788.18020999999,0,0,0,0]
[21,"경유",708.24599999999998,494132,493137,493137,78140.750855999999,78140.750855999999,2099,493141.83024400001,493137,0]
[22,"해양에너지",255.5,0,0,0,38015.115936000002,38015.115936000002,0,0,0,0]
[23,"가스압",0.3,0,0,0,93.924791999999997,93.924791999999997,0,0,0,0]
[24,"바이오매스",378.38400000000001,0,0,0,203724.67086799999,203724.67086799999,0,0,0,0]
[25,"IGCC",346.33,0,0,0,20.512239999999998,20.512239999999998,0,0,0,0]
[32,"바이오중유",350,203862,199676,199674.12700000001,131981.67628799999,131981.67628799999,168553,199688.72656000001,199676,0]
[40,"RPS",0,0,0,0,0,0,0,0,0,0]
[99,"기타",81.19,0,0,0,35038.985103999999,35038.985103999999,0,0,0,0]
["원자력합","원자력합",23250,11159781,11120040,11119904.408,11110340.196961001,11110340.196961001,11144266,11121880.153331,11120031,0]
["석탄합","석탄합",37456.281999999999,23839329,23705412,23704059.329,21058300.003996,21058300.003996,23521964,23706394.649067998,23705412,0]
["LNG합","LNG합",38553.379000000001,26446103,26202915,26197723.234000001,11751024.526760001,11751024.526760001,8547681,26084424.457396999,26202896,239579]
["유류합","유류합",3771.5459999999998,2615029,2611316,2609970.7200000002,236653.393465,236653.393465,89358,2611333.660158,2611316,0]
["양수합","양수합",4700,23381,21182,21182,305964.03660799999,305964.03660799999,-6641,0,0,0]
["신재생합","신재생합",11514.501,410223,407963,407961.12699999998,2302773.6993660009,2302773.6993660009,374913,199688.72655999998,199676,0]
["기타합","기타합",81.489999999999995,0,0,0,35132.909895999997,35132.909895999997,0,0,0,0]
["총계",null,119327.198,64493846,64068828,64060800.818000004,46800188.767052002,46800188.767052002,43671541,63723721.646513999,63839331,239579]

{"sheet":"201906","index":43,"n_rows":36,"n_cols":12,"rows_kept":36,"cut":false,"hidden":false,"merged":[[0,0,0,11],[1,0,1,11],[2,0,2,11]]}
["정산요소 내역"]
["조회기간 : 2019-06-01 ~ 2019-06-30"]
["단위 : MWh"]
["연료원코드","연료원","설비용량(MW)","A","RA","ARA","MGO","AMGO","PSE","FCA","OFCA","OR"]
[1,"원자력",23250,12959883,12943791,12943739.855,12934359.284383001,12934359.284383001,12323767,12301165.3752,12943791,0]
[2,"유연탄",36856.281999999999,19311589,19102924,19088529.193,16437942.97497,16437761.810811,19050289,19104337.781279001,19102924,0]
[3,"무연탄",600,232239,223622,223588.54399999999,203826.246732,203826.246732,205805,223656.54417499999,223622,0]
[4,"등유",105,67839,67448,67397.252999999997,40977.583864,40977.583864,22636,67448,67448,0]
[5,"바이오가스",87.117000000000004,0,0,0,35867.132984000003,35867.132984000003,0,0,0,0]
[6,"부생가스",3009.58,0,0,0,712418.35239000001,712418.35239000001,0,0,0,0]
[7,"소수력",190.00800000000001,0,0,0,48535.378492000003,48535.378492000003,0,0,0,0]
[8,"수력",1600.98,204793,205813,205813,205302.86238800001,205302.86238800001,204793,0,0,0]
[9,"양수",4700,8457,5057,5057,221789.71047799999,221789.71047799999,-7444,0,0,0]
[10,"매립가스",66.347999999999999,0,0,0,15679.793782000001,15679.793782000001,0,0,0,0]
[12,"중유",3058.3,1928849,1928540,1928529.8640000001,73324.488740999994,73324.488740999994,76243,1928566.9454079999,1928540,0]
[13,"태양광",2995.0549999999998,0,0,0,373872.13106599997,373872.13106599997,0,0,0,0]
[15,"폐기물",268.79199999999997,0,0,0,71576.909994000001,71576.909994000001,0,0,0,0]
[16,"풍력",1421.308,0,0,0,101588.829643,101588.829643,0,0,0,0]
[17,"LNG",38270.478999999999,24747819,24681269,24669885.048999999,8997376.792134,8997376.7758380007,6644715,24544445.858038001,24681239,224097]
[20,"연료전지",373.27,0,0,0,168901.728584,168901.728584,0,0,0,0]
[21,"경유",708.24599999999998,503786,504622,504552.723,81187.231314000004,81187.231314000004,11156,504623.54885600001,504622,0]
[22,"해양에너지",255,0,0,0,36641.132808000002,36641.132808000002,0,0,0,0]
[23,"가스압",0.3,0,0,0,110.610828,110.610828,0,0,0,0]
[24,"바이오매스",378.38400000000001,0,0,0,213641.33668199999,213641.33668199999,0,0,0,0]
[25,"IGCC",346.33,0,0,0,48097.837200000002,48097.837200000002,0,0,0,0]
[32,"바이오중유",250,113918,112496,112490.83500000001,80361.601880000002,80361.601880000002,108305,112553.114456,112496,0]
[40,"RPS",0,0,0,0,0,0,0,0,0,0]
[99,"기타",81.19,0,0,0,42305.584697999999,42305.584697999999,0,0,0,0]
["원자력합","원자력합",23250,12959883,12943791,12943739.855,12934359.284383001,12934359.284383001,12323767,12301165.3752,12943791,0]
["석탄합","석탄합",37456.281999999999,19543828,19326546,19312117.737,16641769.221702002,16641588.057542996,19256094,19327994.325454,19326546,0]
["LNG합","LNG합",38270.478999999999,24747819,24681269,24669885.048999999,8997376.792134,8997376.7758380007,6644715,24544445.858038001,24681239,224097]
["유류합","유류합",3871.5459999999998,2500474,2500610,2500479.84,195489.303919,195489.303919,110035,2500638.4942640001,2500610,0]
["양수합","양수합",4700,8457,5057,5057,221789.71047800002,221789.71047800002,-7444,0,0,0]
["신재생합","신재생합",11242.172,318711,318309,318303.83500000002,2112485.0278929998,2112485.0278929998,313098,112553.114456,112496,0]
["기타합","기타합",81.489999999999995,0,0,0,42416.195525999996,42416.195525999996,0,0,0,0]
["총계",null,118871.969,60079172,59775582,59749583.316,41145685.536035001,41145504.355580002,38640265,58786797.167411998,59564682,224097]

{"sheet":"201905","index":44,"n_rows":36,"n_cols":12,"rows_kept":36,"cut":false,"hidden":false,"merged":[[0,0,0,11],[1,0,1,11],[2,0,2,11]]}
["정산요소 내역"]
["조회기간 : 2019-05-01 ~ 2019-05-31"]
["단위 : MWh"]
["연료원코드","연료원","설비용량(MW)","A","RA","ARA","MGO","AMGO","PSE","FCA","OFCA","OR"]
[1,"원자력",23250,14173743,14056114,14056050.634,14050561.939656001,14050561.939656001,13571638,13512724.754476,14056114,0]
[2,"유연탄",36856.281999999999,15568704,15191469,15189149.419,14203405.569928,14203405.543468,15559153,15192001.107981,15191469,0]
[3,"무연탄",600,173443,173319,173319,157830.23097500001,157830.23097500001,172348,173320.32041799999,173319,0]
[4,"등유",105,73431,73431,73360.27,34145.591648000001,34145.591648000001,11682,73431,73431,0]
[5,"바이오가스",86.367000000000004,0,0,0,36164.659800000001,36164.659800000001,0,0,0,0]
[6,"부생가스",3009.58,0,0,0,841100.59892999998,841100.59892999998,0,0,0,0]
[7,"소수력",187.608,0,0,0,46294.569305999998,46294.569305999998,0,0,0,0]
[8,"수력",1600.98,229459,230574,230574,230821.909579,230821.909579,229459,0,0,0]
[9,"양수",4700,3560,2503,2503,257045.36510900001,257045.36510900001,-4767,0,0,0]
[10,"매립가스",66.347999999999999,0,0,0,12881.876772,12881.876772,0,0,0,0]
[12,"중유",3058.3,1761152,1739935,1739358.906,89161.141229999994,89161.141229999994,67764,1740070.6186869999,1739935,0]
[13,"태양광",2851.931,0,0,0,444531.845584,444531.845584,0,0,0,0]
[15,"폐기물",268.79199999999997,0,0,0,70930.093754999994,70930.093754999994,0,0,0,0]
[16,"풍력",1421.308,0,0,0,222845.169375,222845.169375,0,0,0,0]
[17,"LNG",38261.305999999997,23748166,23468551,23461481.48,10167347.508165,10166975.058716999,9332715,23422466.249729998,23468517,225978]
[20,"연료전지",373.27,0,0,0,184915.42978000001,184915.42978000001,0,0,0,0]
[21,"경유",708.24599999999998,528771,527503,527255.848,64781.269560000001,64781.269560000001,448,527511.63495199999,527503,0]
[22,"해양에너지",255,0,0,0,38920.936823999997,38920.936823999997,0,0,0,0]
[23,"가스압",0.3,0,0,0,117.398988,117.398988,0,0,0,0]
[24,"바이오매스",378.38400000000001,0,0,0,153080.076382,153080.076382,0,0,0,0]
[25,"IGCC",346.33,0,0,0,46399.614240000003,46399.614240000003,0,0,0,0]
[32,"바이오중유",250,146711,145274,145269.03,90959.541568000001,90959.541568000001,129582,145315.34974400001,145274,0]
[40,"RPS",0,0,0,0,0,0,0,0,0,0]
[99,"기타",81.19,0,0,0,41168.964980999997,41168.964980999997,0,0,0,0]
["원자력합","원자력합",23250,14173743,14056114,14056050.634,14050561.939656001,14050561.939656001,13571638,13512724.754476,14056114,0]
["석탄합","석탄합",37456.281999999999,15742147,15364788,15362468.419,14361235.800903,14361235.774442997,15731501,15365321.428398998,15364788,0]
["LNG합","LNG합",38261.305999999997,23748166,23468551,23461481.48,10167347.508165,10166975.058716999,9332715,23422466.249729998,23468517,225978]
["유류합","유류합",3871.5459999999998,2363354,2340869,2339975.0240000002,188088.00243800002,188088.00243800002,79894,2341013.253639,2340869,0]
["양수합","양수합",4700,3560,2503,2503,257045.36510900001,257045.36510900001,-4767,0,0,0]
["신재생합","신재생합",11095.897999999999,376170,375848,375843.03,2419846.3218949996,2419846.3218949996,359041,145315.34974400001,145274,0]
["기타합","기타합",81.489999999999995,0,0,0,41286.363968999998,41286.363968999998,0,0,0,0]
["총계",null,118716.522,56407140,55608673,55598321.586999997,41485411.302134998,41485038.826227002,39070022,54786841.035988003,55375562,225978]

{"sheet":"201904","index":45,"n_rows":36,"n_cols":12,"rows_kept":36,"cut":false,"hidden":false,"merged":[[0,0,0,11],[1,0,1,11],[2,0,2,11]]}
["정산요소 내역"]
["조회기간 : 2019-04-01 ~ 2019-04-30"]
["단위 : MWh"]
["연료원코드","연료원","설비용량(MW)","A","RA","ARA","MGO","AMGO","PSE","FCA","OFCA","OR"]
[1,"원자력",23250,13494699,13474805,13474795.198000001,13471231.964398,13471231.964398,13462378,13454576.318946,13474802,0]
[2,"유연탄",36856.281999999999,14522515,14349353,14347605.359999999,13750707.008289,13750381.503734,14515081,14350459.762921,14349353,0]
[3,"무연탄",600,193735,191233,191223.81200000001,176596.191475,176596.191475,193687,191238.85393099999,191233,0]
[4,"등유",105,37752,38541,38541,19940.958016,19940.958016,7505,38544.068824000002,38541,0]
[5,"바이오가스",86.367000000000004,0,0,0,36537.011083999998,36537.011083999998,0,0,0,0]
[6,"부생가스",3009.58,0,0,0,813140.87963600003,813140.87963600003,0,0,0,0]
[7,"소수력",187.608,0,0,0,44413.289327999999,44413.289327999999,0,0,0,0]
[8,"수력",1600.98,197388,199329,199329,196732.525356,196732.525356,197389,0,0,0]
[9,"양수",4700,4180,4180,4180,283703.18554099998,283703.18554099998,2703,0,0,0]
[10,"매립가스",66.347999999999999,0,0,0,22448.822681000001,22448.822681000001,0,0,0,0]
[12,"중유",3133.3,1692178,1691919,1691843.1850000001,135058.35042,135055.92113999999,131176,1691939.6737520001,1691919,0]
[13,"태양광",2811.8780000000002,0,0,0,335095.20769700001,335095.20769700001,0,0,0,0]
[15,"폐기물",268.79199999999997,0,0,0,56104.223803000001,56104.223803000001,0,0,0,0]
[16,"풍력",1421.308,0,0,0,179341.74445299999,179341.74445299999,0,0,0,0]
[17,"LNG",37680.906000000003,23978236,23816535,23796664.261,11292780.280283,11292775.368549,10114114,23811601.242626999,23816509,210714]
[20,"연료전지",363.59,0,0,0,180430.40367699999,180430.40367699999,0,0,0,0]
[21,"경유",708.24599999999998,506838,509771,509771,70612.318979999996,70612.318979999996,2343,509771,509771,0]
[22,"해양에너지",255,0,0,0,38812.941720000003,38812.941720000003,0,0,0,0]
[23,"가스압",0.3,0,0,0,120.79170000000001,120.79170000000001,0,0,0,0]
[24,"바이오매스",378.38400000000001,0,0,0,205769.896668,205769.896668,0,0,0,0]
[25,"IGCC",346.33,0,0,0,0,0,0,0,0,0]
[32,"바이오중유",175,120904,120822,120822,77723.543575999996,77723.543575999996,87234,120854.822088,120822,0]
[40,"RPS",0,0,0,0,0,0,0,0,0,0]
[99,"기타",81.19,0,0,0,41767.632467000003,41767.632467000003,0,0,0,0]
["원자력합","원자력합",23250,13494699,13474805,13474795.198000001,13471231.964398,13471231.964398,13462378,13454576.318946,13474802,0]
["석탄합","석탄합",37456.281999999999,14716250,14540586,14538829.172,13927303.199764002,13926977.695209,14708768,14541698.616851998,14540586,0]
["LNG합","LNG합",37680.906000000003,23978236,23816535,23796664.261,11292780.280283,11292775.368549,10114114,23811601.242626999,23816509,210714]
["유류합","유류합",3946.5459999999998,2236768,2240231,2240155.1850000001,225611.62741599997,225609.19813600002,141024,2240254.7425759998,2240231,0]
["양수합","양수합",4700,4180,4180,4180,283703.18554099998,283703.18554099998,2703,0,0,0]
["신재생합","신재생합",10971.165000000001,318292,320151,320151,2186550.4896789999,2186550.4896789999,284623,120854.82208800002,120822,0]
["기타합","기타합",81.489999999999995,0,0,0,41888.424167000005,41888.424167000005,0,0,0,0]
["총계",null,118086.389,54748425,54396488,54374774.816,41429069.171247996,41428736.325678997,38713610,54168985.743088998,54192950,210714]

{"sheet":"201903","index":46,"n_rows":36,"n_cols":12,"rows_kept":36,"cut":false,"hidden":false,"merged":[[0,0,0,11],[1,0,1,11],[2,0,2,11]]}
["정산요소 내역"]
["조회기간 : 2019-03-01 ~ 2019-03-31"]
["단위 : MWh"]
["연료원코드","연료원","설비용량(MW)","A","RA","ARA","MGO","AMGO","PSE","FCA","OFCA","OR"]
[1,"원자력",21850,13465202,13374846,13374796.727,13369098.682135999,13369098.682135999,13464499,13377362.742338,13374846,0]
[2,"유연탄",36856.277000000002,16206019,15963495,15962693.897,15771825.51581,15771271.719209,16205906,15963966.472564001,15963495,0]
[3,"무연탄",600,230866,229560,229560,210822.33980099999,210822.33980099999,230866,229565.77192500001,229560,0]
[4,"등유",105,77312,77312,77312,32482.302552000001,32482.302552000001,20167,77312.011664000005,77312,0]
[5,"바이오가스",83.966999999999999,0,0,0,34026.139395999999,34026.139395999999,0,0,0,0]
[6,"부생가스",3009.58,0,0,0,893736.05264999997,893736.05264999997,0,0,0,0]
[7,"소수력",187.608,0,0,0,38721.865388999999,38721.865388999999,0,0,0,0]
[8,"수력",1600.98,134122,135260,135260,134740.83740600001,134740.83740600001,134114,0,0,0]
[9,"양수",4700,5378,4878,4878,273728.53404100001,273728.53404100001,3672,0,0,0]
[10,"매립가스",67.406000000000006,0,0,0,23754.241290999998,23754.241290999998,0,0,0,0]
[12,"중유",3133.3,1984380,1983420,1982994.6170000001,735064.91073,735064.91073,766334,1983445.9801660001,1983420,0]
[13,"태양광",2777.6329999999998,0,0,0,346866.69622899999,346866.69622899999,0,0,0,0]
[15,"폐기물",268.79199999999997,0,0,0,64400.687488000003,64400.687488000003,0,0,0,0]
[16,"풍력",1421.308,0,0,0,287186.57373399998,287186.57373399998,0,0,0,0]
[17,"LNG",37320.906000000003,27003918,26547496,26541044.497000001,11695639.226148,11695638.599585,11076557,26544229.657901999,26547451,151111]
[20,"연료전지",363.59,0,0,0,185522.79653399999,185522.79653399999,0,0,0,0]
[21,"경유",708.24599999999998,560187,556766,556271.30599999998,56553.399336000002,56524.669655999998,32,556775.47730399994,556766,0]
[22,"해양에너지",255,0,0,0,39569.005727999996,39569.005727999996,0,0,0,0]
[23,"가스압",0.3,0,0,0,126.48679199999999,126.48679199999999,0,0,0,0]
[24,"바이오매스",378.38400000000001,0,0,0,215871.97744300001,215871.97744300001,0,0,0,0]
[25,"IGCC",346.33,0,0,0,0,0,0,0,0,0]
[32,"바이오중유",175,68544,68544,68544,41544.073536000004,41544.073536000004,26234,68544,68544,0]
[40,"RPS",0,0,0,0,0,0,0,0,0,0]
[99,"기타",76.400000000000006,0,0,0,34889.114802999997,34889.114802999997,0,0,0,0]
["원자력합","원자력합",21850,13465202,13374846,13374796.727,13369098.682135999,13369098.682135999,13464499,13377362.742338,13374846,0]
["석탄합","석탄합",37456.277000000002,16436885,16193055,16192253.897,15982647.855610998,15982094.059010001,16436772,16193532.244489001,16193055,0]
["LNG합","LNG합",37320.906000000003,27003918,26547496,26541044.497000001,11695639.226148,11695638.599585,11076557,26544229.657901999,26547451,151111]
["유류합","유류합",3946.5459999999998,2621879,2617498,2616577.923,824100.6126179999,824071.88293799979,786533,2617533.4691340001,2617498,0]
["양수합","양수합",4700,5378,4878,4878,273728.53404100001,273728.53404100001,3672,0,0,0]
["신재생합","신재생합",10935.578,202666,203804,203804,2305940.9468240007,2305940.9468240007,160348,68544,68544,0]
["기타합","기타합",76.7,0,0,0,35015.601595,35015.601595,0,0,0,0]
["총계",null,116286.007,59735928,58941577,58933355.044,44486171.458972998,44485588.306129001,41928381,58801202.113862999,58801394,151111]

{"sheet":"201902","index":47,"n_rows":35,"n_cols":12,"rows_kept":35,"cut":false,"hidden":false,"merged":[[0,0,0,11],[1,0,1,11],[2,0,2,11]]}
["정산요소 내역"]
["조회기간 : 2019-02-01 ~ 2019-02-28"]
["단위 : MWh"]
["연료원코드","연료원","설비용량(MW)","A","RA","ARA","MGO","AMGO","PSE","FCA","OFCA","OR"]
[1,"원자력",21850,10568766,10505270,10505098.073999999,10501404.987136999,10501404.987136999,10567332,10507848.347960001,10505270,0]
[2,"유연탄",36856.277000000002,19101104,18784746,18781245.379000001,17596025.80147,17596025.646607999,18990626,18786176.78624,18784746,0]
[3,"무연탄",600,243936,243936,243936,218114.55058899999,218114.55058899999,242103,243936,243936,0]
[4,"등유",105,70643,70643,70643,19663.430976,19663.430976,12749,70643,70643,0]
[5,"바이오가스",83.966999999999999,0,0,0,19455.304552000001,19455.304552000001,0,0,0,0]
[6,"부생가스",3009.58,0,0,0,762004.24129599996,762004.24129599996,0,0,0,0]
[7,"소수력",187.608,0,0,0,32499.756774000001,32499.756774000001,0,0,0,0]
[8,"수력",1600.98,136914,136905,136905,137024.02755299999,137024.02755299999,136911,0,0,0]
[9,"양수",4700,1300,1300,1300,297955.17881399998,297955.17881399998,-264,0,0,0]
[10,"매립가스",67.406000000000006,0,0,0,15425.470007,15425.470007,0,0,0,0]
[12,"중유",3308.3,2042798,2041468,2041458.1189999999,359667.04749600001,359667.046936,148575,2041561.4452289999,2041468,0]
[13,"태양광",2729.9380000000001,0,0,0,260297.15357699999,260297.15357699999,0,0,0,0]
[15,"폐기물",268.79199999999997,0,0,0,49044.844553000003,49044.844553000003,0,0,0,0]
[16,"풍력",1421.308,0,0,0,245143.663917,245143.663917,0,0,0,0]
[17,"LNG",37320.906000000003,25129957,24788993,24783277.488000002,11165224.267983999,11165221.094892999,9974713,24789577.122448001,24788859,59441]
[20,"연료전지",363.59,0,0,0,168854.62401999999,168854.62401999999,0,0,0,0]
[21,"경유",708.24599999999998,517073,512989,512415.35700000002,6089.6035199999997,6089.6035199999997,0,513023.23677999998,512989,0]
[22,"해양에너지",255,0,0,0,38571.521520000002,38571.521520000002,0,0,0,0]
[23,"가스압",0.3,0,0,0,96.627815999999996,96.627815999999996,0,0,0,0]
[24,"바이오매스",378.38400000000001,0,0,0,169281.71967799999,169281.71967799999,0,0,0,0]
[25,"IGCC",346.33,0,0,0,0,0,0,0,0,0]
[40,"RPS",0,0,0,0,0,0,0,0,0,0]
[99,"기타",76.400000000000006,0,0,0,38158.399535999997,38158.399535999997,0,0,0,0]
["원자력합","원자력합",21850,10568766,10505270,10505098.073999999,10501404.987136999,10501404.987136999,10567332,10507848.347960001,10505270,0]
["석탄합","석탄합",37456.277000000002,19345040,19028682,19025181.379000001,17814140.352058999,17814140.197197001,19232729,19030112.78624,19028682,0]
["LNG합","LNG합",37320.906000000003,25129957,24788993,24783277.488000002,11165224.267983999,11165221.094892999,9974713,24789577.122448001,24788859,59441]
["유류합","유류합",4121.5460000000003,2630514,2625100,2624516.4759999998,385420.08199199999,385420.08143200004,161324,2625227.6820089999,2625100,0]
["양수합","양수합",4700,1300,1300,1300,297955.17881399998,297955.17881399998,-264,0,0,0]
["신재생합","신재생합",10712.883,136914,136905,136905,1897602.3274470002,1897602.3274470002,136911,0,0,0]
["기타합","기타합",76.7,0,0,0,38255.027351999997,38255.027351999997,0,0,0,0]
["총계",null,116238.31200000001,57812491,57086250,57076278.417000003,42100002.222785003,42099998.894272,40072745,56952765.938657001,56947911,59441]

{"sheet":"201901","index":48,"n_rows":35,"n_cols":12,"rows_kept":35,"cut":false,"hidden":false,"merged":[[0,0,0,11],[1,0,1,11],[2,0,2,11]]}
["정산요소 내역"]
["조회기간 : 2019-01-01 ~ 2019-01-31"]
["단위 : MWh"]
["연료원코드","연료원","설비용량(MW)","A","RA","ARA","MGO","AMGO","PSE","FCA","OFCA","OR"]
[1,"원자력",21850,11701600,11668298,11668284.889,11663001.998098999,11663001.998098999,11700647,11670187.105845001,11668298,0]
[2,"유연탄",36856.277000000002,22202312,21973053,21965302.147,21053373.214117002,21053373.214117002,22202281,21973933.586817998,21973053,0]
[3,"무연탄",600,270072,268899,268899,247829.58330599999,247829.58330599999,270072,268899,268899,0]
[4,"등유",105,79562,79562,79562,16229.707984000001,16229.707984000001,10384,79562,79562,0]
[5,"바이오가스",83.966999999999999,0,0,0,36951.713025999998,36951.713025999998,0,0,0,0]
[6,"부생가스",3009.58,0,0,0,816551.44736200001,816551.44736200001,0,0,0,0]
[7,"소수력",187.608,0,0,0,38053.090215999997,38053.090215999997,0,0,0,0]
[8,"수력",1600.98,163063,161510,161510,162541.457265,162541.457265,163076,0,0,0]
[9,"양수",4700,1000,1000,1000,339617.266389,339617.266389,-40,0,0,0]
[10,"매립가스",67.406000000000006,0,0,0,24506.881353000001,24506.881353000001,0,0,0,0]
[12,"중유",3308.3,2300061,2294005,2293806.8199999998,605532.66179000004,605532.66011000006,158075,2294007.291619,2294005,0]
[13,"태양광",2687.2779999999998,0,0,0,251682.32453899999,251682.32453899999,0,0,0,0]
[15,"폐기물",266.19200000000001,0,0,0,51039.667264999996,51039.667264999996,0,0,0,0]
[16,"풍력",1422.7180000000001,0,0,0,346385.30299400003,346385.30299400003,0,0,0,0]
[17,"LNG",36960.906000000003,28936656,28660434,28642191.548,14053290.918230001,14053284.033774,13187913,28660910.465891998,28660414,405]
[20,"연료전지",345.11,0,0,0,184073.97208899999,184073.97208899999,0,0,0,0]
[21,"경유",708.24599999999998,572659,570652,570391.06299999997,5801.23488,5800.62147,0,570246.28061999998,570241,70087]
[22,"해양에너지",255,0,0,0,38842.977096000002,38842.977096000002,0,0,0,0]
[23,"가스압",0.3,0,0,0,120.51280800000001,120.51280800000001,0,0,0,0]
[24,"바이오매스",378.38400000000001,0,0,0,208632.22087300001,208632.22087300001,0,0,0,0]
[25,"IGCC",346.33,0,0,0,0,0,0,0,0,0]
[40,"RPS",0,0,0,0,0,0,0,0,0,0]
[99,"기타",76.400000000000006,0,0,0,42852.561817000002,42852.561817000002,0,0,0,0]
["원자력합","원자력합",21850,11701600,11668298,11668284.889,11663001.998099001,11663001.998099001,11700647,11670187.105845001,11668298,0]
["석탄합","석탄합",37456.277000000002,22472384,22241952,22234201.147,21301202.797423001,21301202.797423001,22472353,22242832.586817998,22241952,0]
["LNG합","LNG합",36960.906000000003,28936656,28660434,28642191.548,14053290.918229999,14053284.033774,13187913,28660910.465891998,28660414,405]
["유류합","유류합",4121.5460000000003,2952282,2944219,2943759.8829999999,627563.60465400002,627562.98956399981,168459,2943815.5722389999,2943808,70087]
["양수합","양수합",4700,1000,1000,1000,339617.266389,339617.266389,-40,0,0,0]
["신재생합","신재생합",10650.553,163063,161510,161510,2159261.0540779997,2159261.0540779997,163076,0,0,0]
["기타합","기타합",76.7,0,0,0,42973.074625000001,42973.074625000001,0,0,0,0]
["총계",null,115815.982,66226985,65677413,65650947.467,50186910.713497996,50186903.213951997,47692408,65517745.730793998,65514472,70492]

{"sheet":"201812","index":49,"n_rows":35,"n_cols":12,"rows_kept":35,"cut":false,"hidden":false,"merged":[[0,0,0,11],[1,0,1,11],[2,0,2,11]]}
["정산요소 내역"]
["조회기간 : 2018-12-01 ~ 2018-12-31"]
["단위 : MWh"]
["연료원코드","연료원","설비용량(MW)","A","RA","ARA","MGO","AMGO","PSE","FCA","OFCA","OR"]
[1,"원자력",21850,11850420,11837909,11837872.251,11828706.798461,11828706.798461,11850420,11839167.982933,11837909,0]
[2,"유연탄",36763.237000000001,21823909,21205918,21202242.657000002,20360659.947386,20360659.947386,21822466,21208705.662840001,21205918,0]
[3,"무연탄",600,193151,191930,191773.34099999999,175740.831767,175740.831767,193139,191973.51260399999,191930,0]
[4,"등유",105,79345,79345,79345,8021.5191279999999,8021.5191279999999,2871,79345.089840000001,79345,0]
[5,"바이오가스",83.966999999999999,0,0,0,36040.158563999998,36040.158563999998,0,0,0,0]
[6,"부생가스",3009.58,0,0,0,899493.66501300002,899493.66501300002,0,0,0,0]
[7,"소수력",187.608,0,0,0,43082.022147999996,43082.022147999996,0,0,0,0]
[8,"수력",1600.98,214789,217175,217175,216798.40501399999,216798.40501399999,214796,0,0,0]
[9,"양수",4700,2360,2360,2360,335049.00111900002,335049.00111900002,-4668,0,0,0]
[10,"매립가스",67.406000000000006,0,0,0,24279.822232999999,24279.822232999999,0,0,0,0]
[12,"중유",3308.3,2225946,2205214,2205121.9029999999,458192.84407300001,458192.84407300001,141241,2205299.7634720001,2205214,0]
[13,"태양광",2626.9580000000001,0,0,0,197005.50157600001,197005.50157600001,0,0,0,0]
[15,"폐기물",266.19200000000001,0,0,0,62691.510488,62691.510488,0,0,0,0]
[16,"풍력",1422.7180000000001,0,0,0,305806.75063899998,305806.75063899998,0,0,0,0]
[17,"LNG",36960.906000000003,28707690,28361623,28347139.309999999,13586137.607957,13586134.145587999,11779145,28363150.903871,28361419,6212]
[20,"연료전지",345.11,0,0,0,179425.34607100001,179425.34607100001,0,0,0,0]
[21,"경유",708.24599999999998,566340,564570,564558.30700000003,623.55404999999996,623.55404999999996,32,564580.43628400005,564570,136547]
[22,"해양에너지",255,0,0,0,39734.841719999997,39734.841719999997,0,0,0,0]
[23,"가스압",0.3,0,0,0,118.616472,118.616472,0,0,0,0]
[24,"바이오매스",378.38400000000001,0,0,0,189635.22263900001,189635.22263900001,0,0,0,0]
[25,"IGCC",346.33,0,0,0,70580.693679999997,70580.693679999997,0,0,0,0]
[40,"RPS",0,0,0,0,0,0,0,0,0,0]
[99,"기타",76.400000000000006,0,0,0,44549.031978999999,44549.031978999999,0,0,0,0]
["원자력합","원자력합",21850,11850420,11837909,11837872.251,11828706.798461,11828706.798461,11850420,11839167.982933,11837909,0]
["석탄합","석탄합",37363.237000000001,22017060,21397848,21394015.998,20536400.779153001,20536400.779153001,22015605,21400679.175443996,21397848,0]
["LNG합","LNG합",36960.906000000003,28707690,28361623,28347139.309999999,13586137.607957,13586134.145588001,11779145,28363150.903871004,28361419,6212]
["유류합","유류합",4121.5460000000003,2871631,2849129,2849025.21,466837.91725100001,466837.91725100001,144144,2849225.2895959998,2849129,136547]
["양수합","양수합",4700,2360,2360,2360,335049.00111900002,335049.00111900002,-4668,0,0,0]
["신재생합","신재생합",10590.233,214789,217175,217175,2264573.9397849999,2264573.9397849999,214796,0,0,0]
["기타합","기타합",76.7,0,0,0,44667.648451000001,44667.648451000001,0,0,0,0]
["총계",null,115662.622,65663950,64666044,64647587.769000001,49062373.692176998,49062370.229808003,45999442,64452223.351843998,64446305,142759]

{"sheet":"201811","index":50,"n_rows":35,"n_cols":12,"rows_kept":35,"cut":false,"hidden":false,"merged":[[0,0,0,11],[1,0,1,11],[2,0,2,11]]}
["정산요소 내역"]
["조회기간 : 2018-11-01 ~ 2018-11-30"]
["단위 : MWh"]
["연료원코드","연료원","설비용량(MW)","A","RA","ARA","MGO","AMGO","PSE","FCA","OFCA","OR"]
[1,"원자력",21850,11587350,11582292,11582093.512,11571541.041917,11571541.041917,11586604,11583171.050708,11582248,0]
[2,"유연탄",36763.237000000001,18128746,17767631,17766134.844999999,17443688.957702,17443688.957702,18122853,17770480.749653999,17767631,0]
[3,"무연탄",600,229465,229176,229078.33,212232.21983799999,212232.21983799999,229465,229192.475668,229176,0]
[4,"등유",105,72209,72112,72112,13110.137432,13110.137432,2805,72112,72112,0]
[5,"바이오가스",83.966999999999999,0,0,0,16588.140587999998,16588.140587999998,0,0,0,0]
[6,"부생가스",3009.58,0,0,0,854474.23470000003,854474.23470000003,0,0,0,0]
[7,"소수력",184.608,0,0,0,42388.620698999999,42388.620698999999,0,0,0,0]
[8,"수력",1600.98,172813,185074,185074,187562.44200400001,187562.44200400001,172809,0,0,0]
[9,"양수",4700,22523,22012,22012,297593.26260800002,297593.26260800002,-7819,0,0,0]
[10,"매립가스",67.406000000000006,0,0,0,18707.223886,18707.223886,0,0,0,0]
[12,"중유",3308.3,1937525,1937625,1937576.858,242178.26659499999,242178.26659499999,137427,1937627.235172,1937625,0]
[13,"태양광",2565.89,0,0,0,219045.34794000001,219045.34794000001,0,0,0,0]
[15,"폐기물",265.04199999999997,0,0,0,63495.681418,63495.681418,0,0,0,0]
[16,"풍력",1418.518,0,0,0,142530.039108,142530.039108,0,0,0,0]
[17,"LNG",36960.906000000003,24506671,24149755,24134048.169,11417286.741046,11417261.735750001,10515803,24151603.194611002,24149702,37785]
[20,"연료전지",345.11,0,0,0,166736.154404,166736.154404,0,0,0,0]
[21,"경유",708.24599999999998,512428,511600,511465.25,5681.9634059999998,5681.9634059999998,32,511637.76851000002,511600,47125]
[22,"해양에너지",255,0,0,0,40003.415591999998,40003.415591999998,0,0,0,0]
[23,"가스압",0.3,0,0,0,102.346884,102.346884,0,0,0,0]
[24,"바이오매스",378.38400000000001,0,0,0,199082.484425,199082.484425,0,0,0,0]
[25,"IGCC",346.33,0,0,0,184110.53135999999,184110.53135999999,0,0,0,0]
[40,"RPS",0,0,0,0,0,0,0,0,0,0]
[99,"기타",76.400000000000006,0,0,0,44703.124333,44703.124333,0,0,0,0]
["원자력합","원자력합",21850,11587350,11582292,11582093.512,11571541.041917,11571541.041917,11586604,11583171.050708,11582248,0]
["석탄합","석탄합",37363.237000000001,18358211,17996807,17995213.175000001,17655921.177540001,17655921.177540001,18352318,17999673.225322004,17996807,0]
["LNG합","LNG합",36960.906000000003,24506671,24149755,24134048.169,11417286.741046,11417261.735750001,10515803,24151603.194610998,24149702,37785]
["유류합","유류합",4121.5460000000003,2522162,2521337,2521154.108,260970.36743300001,260970.36743300001,140264,2521377.0036820001,2521337,47125]
["양수합","양수합",4700,22523,22012,22012,297593.26260800002,297593.26260800002,-7819,0,0,0]
["신재생합","신재생합",10520.815000000001,172813,185074,185074,2134724.3161239992,2134724.3161239992,172809,0,0,0]
["기타합","기타합",76.7,0,0,0,44805.471216999998,44805.471216999998,0,0,0,0]
["총계",null,115593.204,57169730,56457277,56439594.964000002,43382842.377884999,43382817.372589,40759979,56255824.474322997,56250094,84910]

{"sheet":"201810","index":51,"n_rows":30,"n_cols":12,"rows_kept":30,"cut":false,"hidden":false,"merged":[[0,0,0,11],[1,0,1,11],[2,0,2,11]]}
["정산요소 내역"]
["조회기간 : 2018-10-01 ~ 2018-10-31"]
["단위 : MWh"]
["연료원코드","연료원","설비용량(MW)","A","RA","ARA","MGO","AMGO","PSE","FCA","OFCA","OR"]
[1,"원자력",21850,11529176,11508722,11508707.441,11498298.221175,11498298.221175,11526230,11509829.439609,11508721,0]
[2,"유연탄",36763.237000000001,16734171,16622712,16621472.300000001,16618193.092806,16618193.092806,16733904,16625357.567453001,16622712,0]
[3,"무연탄",600,294712,269855,269411.31099999999,255385.64257699999,254988.18649699999,294664,269976.72491400002,269855,0]
[4,"등유",105,72848,72843,72843,27791.887535999998,27791.887535999998,3195,72843,72843,0]
[5,"바이오가스",83.966999999999999,0,0,0,29846.568436000001,29846.568436000001,0,0,0,0]
[6,"부생가스",3009.58,0,0,0,895154.71677900001,895154.71677900001,0,0,0,0]
[7,"소수력",184.608,0,0,0,47974.549386999999,47974.549386999999,0,0,0,0]
[8,"수력",1600.98,187335,166505,166505,174319.193267,174319.193267,187336,0,0,0]
[9,"양수",4700,13615,12034,12034,287056.35926699999,287056.35926699999,-734,0,0,0]
[10,"매립가스",67.406000000000006,0,0,0,22496.585347,22496.585347,0,0,0,0]
[12,"중유",3308.3,2149583,2142183,2142077.9700000002,438344.28658100002,438344.28641300002,185760,2142201.5310379998,2142183,0]
[13,"태양광",2517.54,0,0,0,285754.80511900003,285754.80511900003,0,0,0,0]
[15,"폐기물",262.29199999999997,0,0,0,61715.642308000002,61715.642308000002,0,0,0,0]
[16,"풍력",1416.2180000000001,0,0,0,220885.84192000001,220885.84192000001,0,0,0,0]
[17,"LNG",36510.906000000003,21956602,21489188,21439439.215,10768811.387993,10768769.659649,10518097,21489064.699765999,21488385,164458]
[20,"연료전지",323.99,0,0,0,152899.364137,152899.364137,0,0,0,0]
[21,"경유",708.24599999999998,530106,529466,529438.64,16068.55593,16068.55593,32,529510.71689000004,529466,7973]
[22,"해양에너지",255,0,0,0,41482.852319999998,41482.852319999998,0,0,0,0]
[23,"가스압",0.3,0,0,0,110.03745600000001,110.03745600000001,0,0,0,0]
[24,"바이오매스",378.38400000000001,0,0,0,147172.37295200001,147172.37295200001,0,0,0,0]
[25,"IGCC",346.33,0,0,0,79193.545199999993,79193.545199999993,0,0,0,0]
[40,"RPS",0,0,0,0,0,0,0,0,0,0]
[99,"기타",76.400000000000006,0,0,0,47207.717457999999,47207.717457999999,0,0,0,0]
["기타합","기타합",5912.4350000000004,0,0,0,1136739.8820400001,1136739.8820400001,0,0,0,0]
["유류합","유류합",4121.5460000000003,2752537,2744492,2744359.61,482204.73004699999,482204.72987899999,188987,2744555.2479280001,2744492,7973]
["총계",null,115068.68399999999,53468148,52813508,52761928.876999997,42116163.225951001,42115724.041359,39448484,52638783.679669999,52634165,172431]

{"sheet":"201809","index":52,"n_rows":30,"n_cols":12,"rows_kept":30,"cut":false,"hidden":false,"merged":[[0,0,0,11],[1,0,1,11],[2,0,2,11]]}
["정산요소 내역"]
["조회기간 : 2018-09-01 ~ 2018-09-30"]
["단위 : MWh"]
["연료원코드","연료원","설비용량(MW)","A","RA","ARA","MGO","AMGO","PSE","FCA","OFCA","OR"]
[1,"원자력",21850,10627956,10542152,10541903.638,10529199.568104999,10529199.568104999,10621159,10543351.128283,10542152,0]
[2,"유연탄",36763.237000000001,20260506,20137712,20136438.276999999,18813843.463631,18813843.463631,19880827,20139168.785787001,20137712,0]
[3,"무연탄",600,371767,371178,371112.23300000001,310372.86754900002,310372.86754900002,331807,371280.92339700001,371178,0]
[4,"등유",105,65121,64450,64450,12256.052648000001,12256.052648000001,4575,64450,64450,0]
[5,"바이오가스",83.471999999999994,0,0,0,34958.700131999998,34958.700131999998,0,0,0,0]
[6,"부생가스",3009.58,0,0,0,877156.61920900003,877156.61920900003,0,0,0,0]
[7,"소수력",184.608,0,0,0,57235.900965000001,57235.900965000001,0,0,0,0]
[8,"수력",1597.48,270718,266234,266234,277995.89679000003,277995.89679000003,270717,0,0,0]
[9,"양수",4700,11292,9492,9492,372895.40401400003,372895.40401400003,-416,0,0,0]
[10,"매립가스",67.406000000000006,0,0,0,21398.571507000001,21398.571507000001,0,0,0,0]
[12,"중유",3308.3,2061542,2053651,2053651,197132.77126899999,197132.77126899999,181558,2053674.993706,2053651,0]
[13,"태양광",2485.5569999999998,0,0,0,254972.01519999999,254972.01519999999,0,0,0,0]
[15,"폐기물",249.642,0,0,0,59842.572921999999,59842.572921999999,0,0,0,0]
[16,"풍력",1399.318,0,0,0,157680.831412,157680.831412,0,0,0,0]
[17,"LNG",36510.906000000003,23328240,23231451,23212249.283,8372018.4513800004,8372013.9564969996,7505720,23231828.875642002,23231373,289346]
[20,"연료전지",294.2,0,0,0,136305.19972999999,136305.19972999999,0,0,0,0]
[21,"경유",708.24599999999998,460535,461780,461668.50300000003,5951.2096600000004,5951.2096600000004,16,461794.89679899998,461780,41096]
[22,"해양에너지",255,0,0,0,40418.137031999999,40418.137031999999,0,0,0,0]
[23,"가스압",0.3,0,0,0,77.637240000000006,77.637240000000006,0,0,0,0]
[24,"바이오매스",378.38400000000001,0,0,0,181052.95272900001,181052.95272900001,0,0,0,0]
[25,"IGCC",346.33,0,0,0,162832.64087999999,162832.64087999999,0,0,0,0]
[40,"RPS",0,0,0,0,0,0,0,0,0,0]
[99,"기타",76.400000000000006,0,0,0,41700.892379999998,41700.892379999998,0,0,0,0]
["기타합","기타합",5820.6170000000002,0,0,0,1148476.052129,1148476.052129,0,0,0,0]
["유류합","유류합",4121.5460000000003,2587198,2579881,2579769.503,215340.03357699999,215340.03357699999,186149,2579919.890505,2579881,41096]
["총계",null,114973.36599999999,57457677,57138100,57117198.934,40917298.356384002,40917293.861501001,38795963,56865549.603614002,56862296,330442]

{"sheet":"201808","index":53,"n_rows":30,"n_cols":12,"rows_kept":30,"cut":false,"hidden":false,"merged":[[0,0,0,11],[1,0,1,11],[2,0,2,11]]}
["정산요소 내역"]
["조회기간 : 2018-08-01 ~ 2018-08-31"]
["단위 : MWh"]
["연료원코드","연료원","설비용량(MW)","A","RA","ARA","MGO","AMGO","PSE","FCA","OFCA","OR"]
[1,"원자력",21850,12202403,12128674,12128619.267000001,12115215.005832,12115215.005832,12202394,12130908.052553,12128674,0]
[2,"유연탄",36763.237000000001,24098740,24024537,24020591.864,22006135.509789001,22006135.509789001,24041033,24025448.531017002,24024534,0]
[3,"무연탄",600,399260,399615,399526.62,374102.65691700001,374102.65691700001,393270,399703.19699299999,399615,0]
[4,"등유",105,65716,65698,65698,21290.482415999999,21290.482415999999,10040,65698,65698,0]
[5,"바이오가스",83.277000000000001,0,0,0,33235.496571999996,33235.496571999996,0,0,0,0]
[6,"부생가스",3009.58,0,0,0,813314.56746799999,813314.56746799999,0,0,0,0]
[7,"소수력",184.608,0,0,0,49329.750548000004,49329.750548000004,0,0,0,0]
[8,"수력",1600.78,235349,212122,212122,218374.84748999999,218374.84748999999,235347,0,0,0]
[9,"양수",4700,17284,17254,17254,427688.71272800001,427688.71272800001,-6361,0,0,0]
[10,"매립가스",67.406000000000006,0,0,0,12983.003193,12983.003193,0,0,0,0]
[12,"중유",3308.3,2261082,2249563,2249547.9559999998,621519.82202199998,621276.13697500003,207558,2249589.5150919999,2249563,0]
[13,"태양광",2445.6819999999998,0,0,0,288633.974629,288633.974629,0,0,0,0]
[15,"폐기물",249.642,0,0,0,58920.379408000001,58920.379408000001,0,0,0,0]
[16,"풍력",1284.7180000000001,0,0,0,141584.23554299999,141584.23554299999,0,0,0,0]
[17,"LNG",35610.906000000003,23978521,23845595,23824992.024999999,12220743.565549999,12220738.553014001,10863621,23845937.210531998,23845074,0]
[20,"연료전지",294.2,0,0,0,139836.41267300001,139836.41267300001,0,0,0,0]
[21,"경유",708.24599999999998,464738,461964,461690.462,35569.338517999997,35569.338517999997,341,430641.51406999998,461964,53377.123149999999]
[22,"해양에너지",255,0,0,0,41200.890359999998,41200.890359999998,0,0,0,0]
[23,"가스압",0.3,0,0,0,79.181892000000005,79.181892000000005,0,0,0,0]
[24,"바이오매스",378.38400000000001,0,0,0,211477.49931099999,211477.49931099999,0,0,0,0]
[25,"IGCC",346.33,0,0,0,157673.47344,157673.47344,0,0,0,0]
[40,"RPS",0,0,0,0,0,0,0,0,0,0]
[99,"기타",76.400000000000006,0,0,0,41632.241943000001,41632.241943000001,0,0,0,0]
["기타합","기타합",5665.9470000000001,0,0,0,1176586.539512,1176586.539512,0,0,0,0]
["유류합","유류합",4121.5460000000003,2791536,2777225,2776936.4180000001,678379.64295600005,678135.95790899999,217939,2745929.0291619999,2777225,53377.123149999999]
["총계",null,113921.996,63723093,63405022,63380042.193999998,50030541.048242003,50030292.350658998,47947243,63147926.020257004,63175122,53377.123149999999]

{"sheet":"201807","index":54,"n_rows":30,"n_cols":12,"rows_kept":30,"cut":false,"hidden":false,"merged":[[0,0,0,11],[1,0,1,11],[2,0,2,11]]}
["정산요소 내역"]
["조회기간 : 2018-07-01 ~ 2018-07-31"]
["단위 : MWh"]
["연료원코드","연료원","설비용량(MW)","A","RA","ARA","MGO","AMGO","PSE","FCA","OFCA","OR"]
[1,"원자력",21850,12500542,12433858,12433764.01,12420261.264652001,12420261.264652001,12499069,12435230.093388001,12433858,0]
[2,"유연탄",36763.237000000001,22856792,22442878,22424762.605,20887876.244350001,20887876.241117001,22602440,22445330.879921,22442878,0]
[3,"무연탄",600,382485,381178,381083.05300000001,355500.97326599999,355500.97326599999,352593,381320.21437399997,381178,0]
[4,"등유",105,68659,68606,68606,20446.413735999999,20446.413735999999,7231,68606,68606,0]
[5,"바이오가스",83.277000000000001,0,0,0,19205.603460999999,19205.603460999999,0,0,0,0]
[6,"부생가스",3009.58,0,0,0,856412.14465699997,856412.14465699997,0,0,0,0]
[7,"소수력",184.608,0,0,0,54657.508840000002,54657.508840000002,0,0,0,0]
[8,"수력",1600.78,342095,346498,346498,353548.28908399999,353548.28908399999,342090,0,0,0]
[9,"양수",4700,20246,20234,21284,396300.506184,396300.506184,-5428,0,0,0]
[10,"매립가스",67.406000000000006,0,0,0,7420.6211139999996,7420.6211139999996,0,0,0,0]
[12,"중유",3308.3,2263380,2261927,2261358.5440000002,579889.52223700006,579884.32174100005,186197,2261971.9970840001,2261927,0]
[13,"태양광",2398.3829999999998,0,0,0,314809.53716499999,314809.53716499999,0,0,0,0]
[15,"폐기물",249.642,0,0,0,66981.594775000005,66981.594775000005,0,0,0,0]
[16,"풍력",1282.4179999999999,0,0,0,131836.13026999999,131836.13026999999,0,0,0,0]
[17,"LNG",35610.906000000003,23891053,23748792,23683401.096000001,12074612.351211,12074606.927366,9266179,23749640.427459002,23748603,0]
[20,"연료전지",294.2,0,0,0,143695.99227799999,143695.99227799999,0,0,0,0]
[21,"경유",708.24599999999998,452504,444459,444097.17499999999,20119.474129999999,20119.474129999999,2526,442174,444459,54451.590190000003]
[22,"해양에너지",255,0,0,0,38628.758448,38628.758448,0,0,0,0]
[23,"가스압",0.3,0,0,0,82.766915999999995,82.766915999999995,0,0,0,0]
[24,"바이오매스",378.38400000000001,0,0,0,203288.02288900001,203288.02288900001,0,0,0,0]
[25,"IGCC",346.33,0,0,0,0,0,0,0,0,0]
[40,"RPS",0,0,0,0,0,0,0,0,0,0]
[99,"기타",76.400000000000006,0,0,0,44470.163154000002,44470.163154000002,0,0,0,0]
["기타합","기타합",5616.348,0,0,0,1025076.6993100001,1025076.6993100001,0,0,0,0]
["유류합","유류합",4121.5460000000003,2784543,2774992,2774061.719,620455.410103,620450.209607,195954,2772751.9970840001,2774992,54451.590190000003]
["총계",null,113872.397,62777756,62148430,62064854.483000003,48990043.882817,48990033.255243003,45252897,61784273.612226002,61781509,54451.590190000003]

{"sheet":"201806","index":55,"n_rows":30,"n_cols":15,"rows_kept":30,"cut":false,"hidden":false,"merged":[[0,0,0,11],[1,0,1,11],[2,0,2,11]]}
["정산요소 내역"]
["조회기간 : 2018-05-01 ~ 2018-05-31"]
["단위 : MWh",{"$nulls":13},"연료전지"]
["연료원코드","연료원","설비용량(MW)","A","RA","ARA","MGO","AMGO","PSE","FCA","OFCA","OR"]
[1,"원자력",21850]
[2,"유연탄",36670.201999999997,{"$nulls":11},{"$f":"INDEX(B5:C29,MATCH(O3,B5:B29,0),2)","v":294.2}]
[3,"무연탄",600]
[4,"등유",105]
[5,"바이오가스",83.158000000000001]
[6,"부생가스",3009.58]
[7,"소수력",184.608]
[8,"수력",1600.78]
[9,"양수",4700]
[10,"매립가스",67.406000000000006]
[12,"중유",3324.6]
[13,"태양광",2302.4899999999998]
[15,"폐기물",245.642]
[16,"풍력",1282.4179999999999]
[17,"LNG",35610.906000000003]
[20,"연료전지",294.2]
[21,"경유",708.24599999999998]
[22,"해양에너지",255]
[23,"가스압",0.3]
[24,"바이오매스",378.38400000000001]
[25,"IGCC",346.33]
[40,"RPS",0]
[99,"기타",76.400000000000006]
["기타합","기타합",5516.3360000000002]
["유류합","유류합",4137.8459999999995]
["총계",null,113695.65]

{"sheet":"201805","index":56,"n_rows":30,"n_cols":15,"rows_kept":30,"cut":false,"hidden":false,"merged":[[0,0,0,11],[1,0,1,11],[2,0,2,11]]}
["정산요소 내역"]
["조회기간 : 2018-05-01 ~ 2018-05-31"]
["단위 : MWh",{"$nulls":13},"연료전지"]
["연료원코드","연료원","설비용량(MW)","A","RA","ARA","MGO","AMGO","PSE","FCA","OFCA","OR"]
[1,"원자력",22528.683000000001,10949909,10850342,10850175.442,10842395.266752999,10842395.266752999,10945437,10853463.541471001,10850342,0]
[2,"유연탄",36670.201999999997,17137089,16938535,16928438.612,16580988.263217,16580988.164651999,17130410,16939143.225788999,16938535,0,null,null,{"$f":"INDEX(B5:C29,MATCH(O3,B5:B29,0),2)","v":294.2}]
[3,"무연탄",600,133920,133920,133920,123279.483378,123279.483378,133842,133920,133920,0]
[4,"등유",105,72747,72761,72761,23914.249911999999,23914.249911999999,5920,72761,72761,0]
[5,"바이오가스",83.158000000000001,0,0,0,38180.335103999998,38180.335103999998,0,0,0,0]
[6,"부생가스",3009.58,0,0,0,734798.25026,734798.25026,0,0,0,0]
[7,"소수력",184.608,0,0,0,56396.577413999999,56396.577413999999,0,0,0,0]
[8,"수력",1600.78,412588,408041,408041,411983.47433599998,411983.47433599998,412593,0,0,0]
[9,"양수",4700,3340,3340,3340,313814.06772499997,313814.06772499997,2615,0,0,0]
[10,"매립가스",67.105999999999995,0,0,0,24167.125045000001,24167.125045000001,0,0,0,0]
[12,"중유",3324.6,1948331,1941681,1941186.236,302421.81858299999,302420.38283199997,164012,1941779.784982,1941681,0]
[13,"태양광",2253.0749999999998,0,0,0,277187.21560499998,277187.21560499998,0,0,0,0]
[15,"폐기물",245.642,0,0,0,51733.713093999999,51733.713093999999,0,0,0,0]
[16,"풍력",1282.4179999999999,0,0,0,209458.66136200001,209458.66136200001,0,0,0,0]
[17,"LNG",35610.906000000003,22124490,21597026,21526120.618000001,11331117.858136,11331027.309366999,10574859,21566180.775743,21596832,0]
[20,"연료전지",294.2,0,0,0,146451.46785099999,146451.46785099999,0,0,0,0]
[21,"경유",614.52300000000002,405967,393739,393739,3490.4875419999998,3490.4875419999998,0,391693,393739,0]
[22,"해양에너지",255,0,0,0,41925.614807999998,41925.614807999998,0,0,0,0]
[23,"가스압",0.3,0,0,0,13.026636,13.026636,0,0,0,0]
[24,"바이오매스",378.38400000000001,0,0,0,120161.13296,120161.13296,0,0,0,0]
[25,"IGCC",346.33,0,0,0,49972.251279999997,49972.251279999997,0,0,0,0]
[40,"RPS",0,0,0,0,0,0,0,0,0,0]
[99,"기타",76.400000000000006,0,0,0,42521.128634000001,42521.128634000001,0,0,0,0]
["기타합","기타합",5466.6210000000001,0,0,0,1058168.2497930001,1058168.2497930001,0,0,0,0]
["유류합","유류합",4044.123,2427045,2408181,2407686.236,329826.55603699997,329825.12028600002,169932,2406233.784982,2408181,0]
["총계",null,114230.895,53188381,52339385,52257721.908,41726371.469635002,41726279.386550002,39369688,51898941.327985004,51927810,0]